BEGIN:VCALENDAR
VERSION:2.0
PRODID:-//Discover Dorset Vermont - ECPv6.15.20//NONSGML v1.0//EN
CALSCALE:GREGORIAN
METHOD:PUBLISH
X-WR-CALNAME:Discover Dorset Vermont
X-ORIGINAL-URL:https://www.dorsetvt.com
X-WR-CALDESC:Events for Discover Dorset Vermont
REFRESH-INTERVAL;VALUE=DURATION:PT1H
X-Robots-Tag:noindex
X-PUBLISHED-TTL:PT1H
BEGIN:VTIMEZONE
TZID:America/New_York
BEGIN:DAYLIGHT
TZOFFSETFROM:-0500
TZOFFSETTO:-0400
TZNAME:EDT
DTSTART:20240310T070000
END:DAYLIGHT
BEGIN:STANDARD
TZOFFSETFROM:-0400
TZOFFSETTO:-0500
TZNAME:EST
DTSTART:20241103T060000
END:STANDARD
BEGIN:DAYLIGHT
TZOFFSETFROM:-0500
TZOFFSETTO:-0400
TZNAME:EDT
DTSTART:20250309T070000
END:DAYLIGHT
BEGIN:STANDARD
TZOFFSETFROM:-0400
TZOFFSETTO:-0500
TZNAME:EST
DTSTART:20251102T060000
END:STANDARD
BEGIN:DAYLIGHT
TZOFFSETFROM:-0500
TZOFFSETTO:-0400
TZNAME:EDT
DTSTART:20260308T070000
END:DAYLIGHT
BEGIN:STANDARD
TZOFFSETFROM:-0400
TZOFFSETTO:-0500
TZNAME:EST
DTSTART:20261101T060000
END:STANDARD
BEGIN:DAYLIGHT
TZOFFSETFROM:-0500
TZOFFSETTO:-0400
TZNAME:EDT
DTSTART:20270314T070000
END:DAYLIGHT
BEGIN:STANDARD
TZOFFSETFROM:-0400
TZOFFSETTO:-0500
TZNAME:EST
DTSTART:20271107T060000
END:STANDARD
END:VTIMEZONE
BEGIN:VEVENT
DTSTART;TZID=America/New_York:20260131T153000
DTEND;TZID=America/New_York:20260131T173000
DTSTAMP:20260421T092917
CREATED:20260130T192955Z
LAST-MODIFIED:20260130T192955Z
UID:10001750-1769873400-1769880600@www.dorsetvt.com
SUMMARY:Live Music at Bromley
DESCRIPTION:Live Music: Patrick Sargent\nSaturday\, January 31 | 3:30pm–5:30pm\n\nWild Boar Tavern
URL:https://www.dorsetvt.com/dorset-events/live-music-at-bromley/
LOCATION:Bromley Mountain
END:VEVENT
BEGIN:VEVENT
DTSTART;TZID=America/New_York:20260131T100000
DTEND;TZID=America/New_York:20260131T130000
DTSTAMP:20260421T092917
CREATED:20260128T205520Z
LAST-MODIFIED:20260128T205520Z
UID:10001740-1769853600-1769864400@www.dorsetvt.com
SUMMARY:Winter World Nature Journaling Workshop at Smokey House
DESCRIPTION:Winter World Nature Journaling Workshop with Project Learning Tree\n\n\nJan 31\, 2026\, 10:00 AM – 1:00 PM\nSmokey House Center\, 426 Danby Mountain Rd\, Danby\, VT 05739\, USA\n\n\nFoster curiosity and build community this winter! Join the Vermont Education & Environment Network (VEEN) for a cozy seasonal workshop rooted in Project Learning Tree’s curricula.
URL:https://www.dorsetvt.com/dorset-events/winter-world-nature-journaling-workshop-at-smokey-house/
LOCATION:Smokey House Center\, 426 Danby Mountain Road\, Danby\, VT\, 05739\, United States
END:VEVENT
BEGIN:VEVENT
DTSTART;TZID=America/New_York:20260131T100000
DTEND;TZID=America/New_York:20260131T123000
DTSTAMP:20260421T092917
CREATED:20260128T191102Z
LAST-MODIFIED:20260128T191102Z
UID:10001722-1769853600-1769862600@www.dorsetvt.com
SUMMARY:Tracking Hikes at Merck
DESCRIPTION:Tracking Hikes\nJan 31\, 2026\, 10:00 AM – 12:30 PM\nMerck Forest and Farmlan Center\, 3270 VT-315\, Rupert\, VT 05768\, USA\nJoin Merck Forest for an immersive and engaging hunt for animal signs in the natural landscape.
URL:https://www.dorsetvt.com/dorset-events/tracking-hikes-at-merck/
LOCATION:Merck Forest\, 3270 VT-315\, Rupert\, VT\, United States
END:VEVENT
BEGIN:VEVENT
DTSTART;TZID=America/New_York:20260130T180000
DTEND;TZID=America/New_York:20260130T200000
DTSTAMP:20260421T092917
CREATED:20260128T191022Z
LAST-MODIFIED:20260128T191022Z
UID:10001721-1769796000-1769803200@www.dorsetvt.com
SUMMARY:NEA Big Read Teen Movie & Pizza Party: Princess Mononoke
DESCRIPTION:NEA Big Read Teen Movie & Pizza Party: Princess Mononoke\nJan 30\, 2026\, 6:00 PM – 8:00 PM\nManchester Community Library\, 138 Cemetery Ave\, Manchester Center\, VT 05255\, USA\nJoin us for a chill\, free teen movie night featuring Princess Mononoke.
URL:https://www.dorsetvt.com/dorset-events/nea-big-read-teen-movie-pizza-party-princess-mononoke/
LOCATION:Manchester Community Library
ATTACH;FMTTYPE=image/jpeg:https://www.dorsetvt.com/wp-content/uploads/2026/01/IMG_0632-1.jpeg
END:VEVENT
BEGIN:VEVENT
DTSTART;TZID=America/New_York:20260128T190000
DTEND;TZID=America/New_York:20260128T203000
DTSTAMP:20260421T092917
CREATED:20260128T190928Z
LAST-MODIFIED:20260128T190928Z
UID:10001720-1769626800-1769632200@www.dorsetvt.com
SUMMARY:Winter Tracking Webinar at Merck
DESCRIPTION:Winter Tracking Webinars\nJan 28\, 2026\, 7:00 PM – 8:30 PM\nVirtual Tracking Learning Series:\nWinter is a wonderful time to explore how wildlife use the landscape. Join us for a collaborative wildlife tracking learning series that offers multiple opportunities to observe animal movement\, behavior\, and habitat use in the woods over the coming months.
URL:https://www.dorsetvt.com/dorset-events/winter-tracking-webinar-at-merck/
LOCATION:Merck Forest\, 3270 VT-315\, Rupert\, VT\, United States
END:VEVENT
BEGIN:VEVENT
DTSTART;TZID=America/New_York:20260127T170000
DTEND;TZID=America/New_York:20260127T180000
DTSTAMP:20260421T092917
CREATED:20250729T121432Z
LAST-MODIFIED:20250729T121432Z
UID:10000798-1769533200-1769536800@www.dorsetvt.com
SUMMARY:Dorset Knitters at Library
DESCRIPTION:Are you an expert knitter? Can only knit and purl? Or want to learn from scratch?\nJoin the Dorset Knitters at 5pm every Tuesday!\nSnacks (finger foods) and beverages are pot-luck style! \nEmail: dorsetvillagelibrary@gmail.com if you have questions…or if you’re interested in Loom Knitting!
URL:https://www.dorsetvt.com/dorset-events/dorset-knitters-at-library/2026-01-27/
LOCATION:The Dorset Village Library\, 13 Church Street\, Dorset\, VT\, 05251\, United States
ATTACH;FMTTYPE=image/jpeg:https://www.dorsetvt.com/wp-content/uploads/2025/07/IMG_7679.jpeg
END:VEVENT
BEGIN:VEVENT
DTSTART;TZID=America/New_York:20260120T170000
DTEND;TZID=America/New_York:20260120T180000
DTSTAMP:20260421T092917
CREATED:20250729T121432Z
LAST-MODIFIED:20250729T121432Z
UID:10000797-1768928400-1768932000@www.dorsetvt.com
SUMMARY:Dorset Knitters at Library
DESCRIPTION:Are you an expert knitter? Can only knit and purl? Or want to learn from scratch?\nJoin the Dorset Knitters at 5pm every Tuesday!\nSnacks (finger foods) and beverages are pot-luck style! \nEmail: dorsetvillagelibrary@gmail.com if you have questions…or if you’re interested in Loom Knitting!
URL:https://www.dorsetvt.com/dorset-events/dorset-knitters-at-library/2026-01-20/
LOCATION:The Dorset Village Library\, 13 Church Street\, Dorset\, VT\, 05251\, United States
ATTACH;FMTTYPE=image/jpeg:https://www.dorsetvt.com/wp-content/uploads/2025/07/IMG_7679.jpeg
END:VEVENT
BEGIN:VEVENT
DTSTART;TZID=America/New_York:20260113T170000
DTEND;TZID=America/New_York:20260113T180000
DTSTAMP:20260421T092917
CREATED:20250729T121432Z
LAST-MODIFIED:20250729T121432Z
UID:10000796-1768323600-1768327200@www.dorsetvt.com
SUMMARY:Dorset Knitters at Library
DESCRIPTION:Are you an expert knitter? Can only knit and purl? Or want to learn from scratch?\nJoin the Dorset Knitters at 5pm every Tuesday!\nSnacks (finger foods) and beverages are pot-luck style! \nEmail: dorsetvillagelibrary@gmail.com if you have questions…or if you’re interested in Loom Knitting!
URL:https://www.dorsetvt.com/dorset-events/dorset-knitters-at-library/2026-01-13/
LOCATION:The Dorset Village Library\, 13 Church Street\, Dorset\, VT\, 05251\, United States
ATTACH;FMTTYPE=image/jpeg:https://www.dorsetvt.com/wp-content/uploads/2025/07/IMG_7679.jpeg
END:VEVENT
BEGIN:VEVENT
DTSTART;TZID=America/New_York:20260106T170000
DTEND;TZID=America/New_York:20260106T180000
DTSTAMP:20260421T092917
CREATED:20250729T121432Z
LAST-MODIFIED:20250729T121432Z
UID:10000795-1767718800-1767722400@www.dorsetvt.com
SUMMARY:Dorset Knitters at Library
DESCRIPTION:Are you an expert knitter? Can only knit and purl? Or want to learn from scratch?\nJoin the Dorset Knitters at 5pm every Tuesday!\nSnacks (finger foods) and beverages are pot-luck style! \nEmail: dorsetvillagelibrary@gmail.com if you have questions…or if you’re interested in Loom Knitting!
URL:https://www.dorsetvt.com/dorset-events/dorset-knitters-at-library/2026-01-06/
LOCATION:The Dorset Village Library\, 13 Church Street\, Dorset\, VT\, 05251\, United States
ATTACH;FMTTYPE=image/jpeg:https://www.dorsetvt.com/wp-content/uploads/2025/07/IMG_7679.jpeg
END:VEVENT
BEGIN:VEVENT
DTSTART;TZID=America/New_York:20251230T170000
DTEND;TZID=America/New_York:20251230T180000
DTSTAMP:20260421T092917
CREATED:20250729T121432Z
LAST-MODIFIED:20250729T121432Z
UID:10000794-1767114000-1767117600@www.dorsetvt.com
SUMMARY:Dorset Knitters at Library
DESCRIPTION:Are you an expert knitter? Can only knit and purl? Or want to learn from scratch?\nJoin the Dorset Knitters at 5pm every Tuesday!\nSnacks (finger foods) and beverages are pot-luck style! \nEmail: dorsetvillagelibrary@gmail.com if you have questions…or if you’re interested in Loom Knitting!
URL:https://www.dorsetvt.com/dorset-events/dorset-knitters-at-library/2025-12-30/
LOCATION:The Dorset Village Library\, 13 Church Street\, Dorset\, VT\, 05251\, United States
ATTACH;FMTTYPE=image/jpeg:https://www.dorsetvt.com/wp-content/uploads/2025/07/IMG_7679.jpeg
END:VEVENT
BEGIN:VEVENT
DTSTART;TZID=America/New_York:20251223T170000
DTEND;TZID=America/New_York:20251223T180000
DTSTAMP:20260421T092917
CREATED:20250729T121432Z
LAST-MODIFIED:20250729T121432Z
UID:10000793-1766509200-1766512800@www.dorsetvt.com
SUMMARY:Dorset Knitters at Library
DESCRIPTION:Are you an expert knitter? Can only knit and purl? Or want to learn from scratch?\nJoin the Dorset Knitters at 5pm every Tuesday!\nSnacks (finger foods) and beverages are pot-luck style! \nEmail: dorsetvillagelibrary@gmail.com if you have questions…or if you’re interested in Loom Knitting!
URL:https://www.dorsetvt.com/dorset-events/dorset-knitters-at-library/2025-12-23/
LOCATION:The Dorset Village Library\, 13 Church Street\, Dorset\, VT\, 05251\, United States
ATTACH;FMTTYPE=image/jpeg:https://www.dorsetvt.com/wp-content/uploads/2025/07/IMG_7679.jpeg
END:VEVENT
BEGIN:VEVENT
DTSTART;TZID=America/New_York:20251218T160000
DTEND;TZID=America/New_York:20251218T170000
DTSTAMP:20260421T092917
CREATED:20251017T123006Z
LAST-MODIFIED:20251017T123006Z
UID:10001152-1766073600-1766077200@www.dorsetvt.com
SUMMARY:Ornament Making Workshop
DESCRIPTION:At Merck Forest \nOrnament Making Workshop\nDec 04\, 2025\, 4:00 PM – 5:00 PM\nMerck Forest and Farmland Center\, 3270 VT-315\, Rupert\, VT 05768\, USA\nFor this crafty Merck Forest opportunity\, come ready to put your creative maker skills to work! We’ll be making hanging ornaments from a variety of found and natural materials (pinecones\, wood\, bark\, seed pods\, acorns\, etc.). For makers of all ages; registration for each participant required.
URL:https://www.dorsetvt.com/dorset-events/ornament-making-workshop/2025-12-18/
LOCATION:Merck Forest\, 3270 VT-315\, Rupert\, VT\, United States
ATTACH;FMTTYPE=image/jpeg:https://www.dorsetvt.com/wp-content/uploads/2025/10/IMG_9100.jpeg
END:VEVENT
BEGIN:VEVENT
DTSTART;TZID=America/New_York:20251216T170000
DTEND;TZID=America/New_York:20251216T180000
DTSTAMP:20260421T092917
CREATED:20250729T121432Z
LAST-MODIFIED:20250729T121432Z
UID:10000792-1765904400-1765908000@www.dorsetvt.com
SUMMARY:Dorset Knitters at Library
DESCRIPTION:Are you an expert knitter? Can only knit and purl? Or want to learn from scratch?\nJoin the Dorset Knitters at 5pm every Tuesday!\nSnacks (finger foods) and beverages are pot-luck style! \nEmail: dorsetvillagelibrary@gmail.com if you have questions…or if you’re interested in Loom Knitting!
URL:https://www.dorsetvt.com/dorset-events/dorset-knitters-at-library/2025-12-16/
LOCATION:The Dorset Village Library\, 13 Church Street\, Dorset\, VT\, 05251\, United States
ATTACH;FMTTYPE=image/jpeg:https://www.dorsetvt.com/wp-content/uploads/2025/07/IMG_7679.jpeg
END:VEVENT
BEGIN:VEVENT
DTSTART;TZID=America/New_York:20251215T180000
DTEND;TZID=America/New_York:20251215T193000
DTSTAMP:20260421T092917
CREATED:20251017T121433Z
LAST-MODIFIED:20251017T121433Z
UID:10001149-1765821600-1765827000@www.dorsetvt.com
SUMMARY:Full Moon Hike
DESCRIPTION:At Merck Forest \n\n\n\n\nJoin us for a leisurely evening hike under the stars. Bundle up\, bring sturdy shoes\, and meet at the Visitor Center 10 minutes early. This is the perfect way to embrace the crisp air and connect with nature. Pre-registration required. $10.25  \n\n\n\nMerck Forest & Farmland Center\, 3270 VT-315\, Rupert\, VT 05768\, USA \n\nhttps://www.merckforest.org/programs-and-events
URL:https://www.dorsetvt.com/dorset-events/full-moon-hike/2025-12-15/
LOCATION:Merck Forest\, 3270 VT-315\, Rupert\, VT\, United States
ATTACH;FMTTYPE=image/jpeg:https://www.dorsetvt.com/wp-content/uploads/2025/07/IMG_7364.jpeg
END:VEVENT
BEGIN:VEVENT
DTSTART;TZID=America/New_York:20251214T130000
DTEND;TZID=America/New_York:20251214T143000
DTSTAMP:20260421T092917
CREATED:20251104T114546Z
LAST-MODIFIED:20251104T114546Z
UID:10001165-1765717200-1765722600@www.dorsetvt.com
SUMMARY:The Nutcracker\, Southern Vermont Ballet
DESCRIPTION:Join us for our 5th annual Nutcracker production at the Southern Vermont Arts Center. The performance is family friendly with an abridged version of the traditional Tchaikovsky ballet. We are so excited to welcome our biggest cast of dancers yet and are thrilled to have you all join our audience. Kids 5 and under see the show for free. All ticket sales are final.  \nBrand new SVB merchandise\, tasty concessions and special ballet gifts will be available for purchase at the theater.
URL:https://www.dorsetvt.com/dorset-events/the-nutcracker-southern-vermont-ballet/2025-12-14/
LOCATION:Southern Vermont Arts Center
END:VEVENT
BEGIN:VEVENT
DTSTART;TZID=America/New_York:20251213T163000
DTEND;TZID=America/New_York:20251213T180000
DTSTAMP:20260421T092917
CREATED:20251104T114546Z
LAST-MODIFIED:20251104T114546Z
UID:10001164-1765643400-1765648800@www.dorsetvt.com
SUMMARY:The Nutcracker\, Southern Vermont Ballet
DESCRIPTION:Join us for our 5th annual Nutcracker production at the Southern Vermont Arts Center. The performance is family friendly with an abridged version of the traditional Tchaikovsky ballet. We are so excited to welcome our biggest cast of dancers yet and are thrilled to have you all join our audience. Kids 5 and under see the show for free. All ticket sales are final.  \nBrand new SVB merchandise\, tasty concessions and special ballet gifts will be available for purchase at the theater.
URL:https://www.dorsetvt.com/dorset-events/the-nutcracker-southern-vermont-ballet/2025-12-13/2/
LOCATION:Southern Vermont Arts Center
END:VEVENT
BEGIN:VEVENT
DTSTART;TZID=America/New_York:20251213T140000
DTEND;TZID=America/New_York:20251213T153000
DTSTAMP:20260421T092917
CREATED:20251104T114546Z
LAST-MODIFIED:20251104T114546Z
UID:10001163-1765634400-1765639800@www.dorsetvt.com
SUMMARY:The Nutcracker\, Southern Vermont Ballet
DESCRIPTION:Join us for our 5th annual Nutcracker production at the Southern Vermont Arts Center. The performance is family friendly with an abridged version of the traditional Tchaikovsky ballet. We are so excited to welcome our biggest cast of dancers yet and are thrilled to have you all join our audience. Kids 5 and under see the show for free. All ticket sales are final.  \nBrand new SVB merchandise\, tasty concessions and special ballet gifts will be available for purchase at the theater.
URL:https://www.dorsetvt.com/dorset-events/the-nutcracker-southern-vermont-ballet/2025-12-13/1/
LOCATION:Southern Vermont Arts Center
END:VEVENT
BEGIN:VEVENT
DTSTART;TZID=America/New_York:20251211T160000
DTEND;TZID=America/New_York:20251211T170000
DTSTAMP:20260421T092917
CREATED:20251017T123006Z
LAST-MODIFIED:20251017T123006Z
UID:10001151-1765468800-1765472400@www.dorsetvt.com
SUMMARY:Ornament Making Workshop
DESCRIPTION:At Merck Forest \nOrnament Making Workshop\nDec 04\, 2025\, 4:00 PM – 5:00 PM\nMerck Forest and Farmland Center\, 3270 VT-315\, Rupert\, VT 05768\, USA\nFor this crafty Merck Forest opportunity\, come ready to put your creative maker skills to work! We’ll be making hanging ornaments from a variety of found and natural materials (pinecones\, wood\, bark\, seed pods\, acorns\, etc.). For makers of all ages; registration for each participant required.
URL:https://www.dorsetvt.com/dorset-events/ornament-making-workshop/2025-12-11/
LOCATION:Merck Forest\, 3270 VT-315\, Rupert\, VT\, United States
ATTACH;FMTTYPE=image/jpeg:https://www.dorsetvt.com/wp-content/uploads/2025/10/IMG_9100.jpeg
END:VEVENT
BEGIN:VEVENT
DTSTART;TZID=America/New_York:20251209T170000
DTEND;TZID=America/New_York:20251209T180000
DTSTAMP:20260421T092917
CREATED:20250729T121432Z
LAST-MODIFIED:20250729T121432Z
UID:10000791-1765299600-1765303200@www.dorsetvt.com
SUMMARY:Dorset Knitters at Library
DESCRIPTION:Are you an expert knitter? Can only knit and purl? Or want to learn from scratch?\nJoin the Dorset Knitters at 5pm every Tuesday!\nSnacks (finger foods) and beverages are pot-luck style! \nEmail: dorsetvillagelibrary@gmail.com if you have questions…or if you’re interested in Loom Knitting!
URL:https://www.dorsetvt.com/dorset-events/dorset-knitters-at-library/2025-12-09/
LOCATION:The Dorset Village Library\, 13 Church Street\, Dorset\, VT\, 05251\, United States
ATTACH;FMTTYPE=image/jpeg:https://www.dorsetvt.com/wp-content/uploads/2025/07/IMG_7679.jpeg
END:VEVENT
BEGIN:VEVENT
DTSTART;TZID=America/New_York:20251207T130000
DTEND;TZID=America/New_York:20251207T160000
DTSTAMP:20260421T092917
CREATED:20251111T165047Z
LAST-MODIFIED:20251111T165047Z
UID:10001186-1765112400-1765123200@www.dorsetvt.com
SUMMARY:Holiday Weekend at Dorset Village Library
DESCRIPTION:The Dorset Village Library is participating in our town’s holiday weekend with two days of crafts and stories for our little ones: \nKids can: Create their own kid-friendly ornament to take home\, paint a bird house to decorate the Dorset Community Tree\, Book Sale $1 Books\, and 1:15p and 3pm Krampus will do a reading of The Night Before Christmas.
URL:https://www.dorsetvt.com/dorset-events/holiday-weekend-at-dorset-village-library/2025-12-07/
LOCATION:The Dorset Village Library\, 13 Church Street\, Dorset\, VT\, 05251\, United States
END:VEVENT
BEGIN:VEVENT
DTSTART;TZID=America/New_York:20251207T130000
DTEND;TZID=America/New_York:20251207T150000
DTSTAMP:20260421T092917
CREATED:20251111T171330Z
LAST-MODIFIED:20251111T171330Z
UID:10001189-1765112400-1765119600@www.dorsetvt.com
SUMMARY:Merck Forest Wreath Making Workshop
DESCRIPTION:Kick off the holiday season and create your own festive wreath with greens sourced right from Merck Forest! Three classes over the weekend.
URL:https://www.dorsetvt.com/dorset-events/merck-forest-wreath-making-workshop/2025-12-07/
LOCATION:Merck Forest\, 3270 VT-315\, Rupert\, VT\, United States
ATTACH;FMTTYPE=image/jpeg:https://www.dorsetvt.com/wp-content/uploads/2025/11/IMG_9625.jpeg
END:VEVENT
BEGIN:VEVENT
DTSTART;TZID=America/New_York:20251207T110000
DTEND;TZID=America/New_York:20251207T140000
DTSTAMP:20260421T092917
CREATED:20251105T173220Z
LAST-MODIFIED:20251105T173805Z
UID:10001175-1765105200-1765116000@www.dorsetvt.com
SUMMARY:Santa Weekend in Dorset Village!
DESCRIPTION:Santa Weekend in Dorset Village\, hosted by the Inns of Dorset and The Dorset Theater\nDecember 5–7\, 2025\nJoin us for a magical weekend celebrating the spirit of the season at The Dorset Inn and Barrows House. \n  \nFriday\, December 5 \n\n\n3–5pm: Welcome Reception for Houseguests * \n\n\n7pm: Rudolph the Red-Nosed Reindeer at The Dorset Playhouse \n\n\nSaturday\, December 6 \n\n\n10am–4pm: Santa Party at Barrows House * \n$55 per child for the first two children in the same family; $25 each additional child \nReservations Required \nIncludes \n\n\nPrivate visits with Santa \n\n\nHot cocoa bar & souvenir ornament craft \nAlso Enjoy \n\n\nÀ la carte brunch bites and bar \n\n\n\n\n7pm: Rudolph the Red-Nosed Reindeer at The Dorset Playhouse \n\n\nSunday\, December 7 \n\n\n11am–2pm: Santa Brunch at The Dorset Inn \n\n\n$75/adult | $40/children ages 2–10 \n\n\nIncludes a horse-drawn carriage ride around Dorset Village \n\n\n\n\n2pm: Rudolph the Red-Nosed Reindeer at The Dorset Playhouse \n\n\nMake it a weekend getaway for the whole family. Stay with us at The Dorset Inn or Barrows House and enjoy a festive escape in the heart of Vermont. Call today for our special Santa Stay Package— Kids Stay Free!
URL:https://www.dorsetvt.com/dorset-events/santa-weekend-in-dorset-village/2025-12-07/
LOCATION:Barrows House\, 3156 VT-30\, Dorset\, VT\, 05251\, United States
ATTACH;FMTTYPE=image/jpeg:https://www.dorsetvt.com/wp-content/uploads/2025/11/IMG_9554.jpeg
END:VEVENT
BEGIN:VEVENT
DTSTART;TZID=America/New_York:20251207T110000
DTEND;TZID=America/New_York:20251207T130000
DTSTAMP:20260421T092917
CREATED:20251111T164119Z
LAST-MODIFIED:20251111T164119Z
UID:10001184-1765105200-1765112400@www.dorsetvt.com
SUMMARY:Mettowee Mint Wreath Making Workshop
DESCRIPTION:Holiday Wreath Making\nDecember 6th & 7th \nLet’s get merry! Book your tickets now for a wreath making workshop in the glasshouse! Come learn the tricks of hand tied greenery with coffee or a glass of natural wine. ⁠ \nTickets: https://mettoweemint.com/pages/events
URL:https://www.dorsetvt.com/dorset-events/mettowee-mint-wreath-making-workshop/2025-12-07/
LOCATION:Mettowee Mint\, 4977 VT-30\, Dorset\, VT\, 05251\, United States
END:VEVENT
BEGIN:VEVENT
DTSTART;TZID=America/New_York:20251206T193000
DTEND;TZID=America/New_York:20251206T213000
DTSTAMP:20260421T092917
CREATED:20251117T165324Z
LAST-MODIFIED:20251117T165324Z
UID:10001200-1765049400-1765056600@www.dorsetvt.com
SUMMARY:Maxine Linehan Holiday Concert at SVAC
DESCRIPTION:Join us at Southern Vermont Arts Center on December 6 at 7:30pm for Maxine Linehan’s beloved holiday concert\, “This Time of Year.” \nNow in its fifth year at SVAC\, the performance features a 10-piece concert orchestra led by Ryan Shirar and is proudly presented by the French Family. This moving program captures the heart of the season! Tickets will sell out. Reserve yours at SVAC.org \n 
URL:https://www.dorsetvt.com/dorset-events/maxine-linehan-holiday-concert-at-svac/
LOCATION:Southern Vermont Arts Center
END:VEVENT
BEGIN:VEVENT
DTSTART;TZID=America/New_York:20251206T173000
DTEND;TZID=America/New_York:20251206T183000
DTSTAMP:20260421T092917
CREATED:20251112T220607Z
LAST-MODIFIED:20251112T220607Z
UID:10001194-1765042200-1765045800@www.dorsetvt.com
SUMMARY:Manchester Tractor Parade!
DESCRIPTION:The Manchester Tractor Parade is Saturday\, December 6* @5:30pm \nhttps://www.manchestervermont.com/manchester-merriment/
URL:https://www.dorsetvt.com/dorset-events/manchester-tractor-parade/
END:VEVENT
BEGIN:VEVENT
DTSTART;TZID=America/New_York:20251206T130000
DTEND;TZID=America/New_York:20251206T160000
DTSTAMP:20260421T092917
CREATED:20251111T165047Z
LAST-MODIFIED:20251111T165047Z
UID:10001185-1765026000-1765036800@www.dorsetvt.com
SUMMARY:Holiday Weekend at Dorset Village Library
DESCRIPTION:The Dorset Village Library is participating in our town’s holiday weekend with two days of crafts and stories for our little ones: \nKids can: Create their own kid-friendly ornament to take home\, paint a bird house to decorate the Dorset Community Tree\, Book Sale $1 Books\, and 1:15p and 3pm Krampus will do a reading of The Night Before Christmas.
URL:https://www.dorsetvt.com/dorset-events/holiday-weekend-at-dorset-village-library/2025-12-06/
LOCATION:The Dorset Village Library\, 13 Church Street\, Dorset\, VT\, 05251\, United States
END:VEVENT
BEGIN:VEVENT
DTSTART;TZID=America/New_York:20251206T130000
DTEND;TZID=America/New_York:20251206T150000
DTSTAMP:20260421T092917
CREATED:20251111T171330Z
LAST-MODIFIED:20251111T171330Z
UID:10001188-1765026000-1765033200@www.dorsetvt.com
SUMMARY:Merck Forest Wreath Making Workshop
DESCRIPTION:Kick off the holiday season and create your own festive wreath with greens sourced right from Merck Forest! Three classes over the weekend.
URL:https://www.dorsetvt.com/dorset-events/merck-forest-wreath-making-workshop/2025-12-06/2/
LOCATION:Merck Forest\, 3270 VT-315\, Rupert\, VT\, United States
ATTACH;FMTTYPE=image/jpeg:https://www.dorsetvt.com/wp-content/uploads/2025/11/IMG_9625.jpeg
END:VEVENT
BEGIN:VEVENT
DTSTART;TZID=America/New_York:20251206T130000
DTEND;TZID=America/New_York:20251206T150000
DTSTAMP:20260421T092917
CREATED:20251111T164119Z
LAST-MODIFIED:20251111T164119Z
UID:10001183-1765026000-1765033200@www.dorsetvt.com
SUMMARY:Mettowee Mint Wreath Making Workshop
DESCRIPTION:Holiday Wreath Making\nDecember 6th & 7th \nLet’s get merry! Book your tickets now for a wreath making workshop in the glasshouse! Come learn the tricks of hand tied greenery with coffee or a glass of natural wine. ⁠ \nTickets: https://mettoweemint.com/pages/events
URL:https://www.dorsetvt.com/dorset-events/mettowee-mint-wreath-making-workshop/2025-12-06/2/
LOCATION:Mettowee Mint\, 4977 VT-30\, Dorset\, VT\, 05251\, United States
END:VEVENT
BEGIN:VEVENT
DTSTART;TZID=America/New_York:20251206T110000
DTEND;TZID=America/New_York:20251206T160000
DTSTAMP:20260421T092917
CREATED:20251105T173220Z
LAST-MODIFIED:20251105T173805Z
UID:10001170-1765018800-1765036800@www.dorsetvt.com
SUMMARY:Santa Weekend in Dorset Village!
DESCRIPTION:Santa Weekend in Dorset Village\, hosted by the Inns of Dorset and The Dorset Theater\nDecember 5–7\, 2025\nJoin us for a magical weekend celebrating the spirit of the season at The Dorset Inn and Barrows House. \n  \nFriday\, December 5 \n\n\n3–5pm: Welcome Reception for Houseguests * \n\n\n7pm: Rudolph the Red-Nosed Reindeer at The Dorset Playhouse \n\n\nSaturday\, December 6 \n\n\n10am–4pm: Santa Party at Barrows House * \n$55 per child for the first two children in the same family; $25 each additional child \nReservations Required \nIncludes \n\n\nPrivate visits with Santa \n\n\nHot cocoa bar & souvenir ornament craft \nAlso Enjoy \n\n\nÀ la carte brunch bites and bar \n\n\n\n\n7pm: Rudolph the Red-Nosed Reindeer at The Dorset Playhouse \n\n\nSunday\, December 7 \n\n\n11am–2pm: Santa Brunch at The Dorset Inn \n\n\n$75/adult | $40/children ages 2–10 \n\n\nIncludes a horse-drawn carriage ride around Dorset Village \n\n\n\n\n2pm: Rudolph the Red-Nosed Reindeer at The Dorset Playhouse \n\n\nMake it a weekend getaway for the whole family. Stay with us at The Dorset Inn or Barrows House and enjoy a festive escape in the heart of Vermont. Call today for our special Santa Stay Package— Kids Stay Free!
URL:https://www.dorsetvt.com/dorset-events/santa-weekend-in-dorset-village/2025-12-06/
LOCATION:Barrows House\, 3156 VT-30\, Dorset\, VT\, 05251\, United States
ATTACH;FMTTYPE=image/jpeg:https://www.dorsetvt.com/wp-content/uploads/2025/11/IMG_9554.jpeg
END:VEVENT
BEGIN:VEVENT
DTSTART;TZID=America/New_York:20251206T110000
DTEND;TZID=America/New_York:20251206T150000
DTSTAMP:20260421T092917
CREATED:20251112T215415Z
LAST-MODIFIED:20251112T215415Z
UID:10001190-1765018800-1765033200@www.dorsetvt.com
SUMMARY:The Shires Holiday Inn Tours
DESCRIPTION:Continuing a cherished tradition more than three decades strong\, the 2025 Shires’ Holiday Inn Tours invites you to join in the holiday cheer on Saturday\, December 6 and/or Saturday\, December 13. Immerse yourself in the spirit of the season as seventeen Shires lodging properties – from historic hotels and cozy inns to charming B&Bs and rustic lodges – open their doors from 11 a.m. to 3 p.m. Admire the festive decorations at each establishment\, savor local treats and cheerful beverages\, and bask in the warmth and wonder of Vermont hospitality at its finest. \nIn the true spirit of giving\, each ticket sold helps fight food insecurity\, with proceeds benefiting the Manchester Community Food Cupboard\, Arlington Food Shelf\, and Bennington County Meals on Wheels.
URL:https://www.dorsetvt.com/dorset-events/the-shires-holiday-inn-tours/
END:VEVENT
END:VCALENDAR