BEGIN:VCALENDAR
VERSION:2.0
PRODID:-//Discover Dorset Vermont - ECPv6.15.20//NONSGML v1.0//EN
CALSCALE:GREGORIAN
METHOD:PUBLISH
X-ORIGINAL-URL:https://www.dorsetvt.com
X-WR-CALDESC:Events for Discover Dorset Vermont
REFRESH-INTERVAL;VALUE=DURATION:PT1H
X-Robots-Tag:noindex
X-PUBLISHED-TTL:PT1H
BEGIN:VTIMEZONE
TZID:America/New_York
BEGIN:DAYLIGHT
TZOFFSETFROM:-0500
TZOFFSETTO:-0400
TZNAME:EDT
DTSTART:20250309T070000
END:DAYLIGHT
BEGIN:STANDARD
TZOFFSETFROM:-0400
TZOFFSETTO:-0500
TZNAME:EST
DTSTART:20251102T060000
END:STANDARD
BEGIN:DAYLIGHT
TZOFFSETFROM:-0500
TZOFFSETTO:-0400
TZNAME:EDT
DTSTART:20260308T070000
END:DAYLIGHT
BEGIN:STANDARD
TZOFFSETFROM:-0400
TZOFFSETTO:-0500
TZNAME:EST
DTSTART:20261101T060000
END:STANDARD
BEGIN:DAYLIGHT
TZOFFSETFROM:-0500
TZOFFSETTO:-0400
TZNAME:EDT
DTSTART:20270314T070000
END:DAYLIGHT
BEGIN:STANDARD
TZOFFSETFROM:-0400
TZOFFSETTO:-0500
TZNAME:EST
DTSTART:20271107T060000
END:STANDARD
END:VTIMEZONE
BEGIN:VEVENT
DTSTART;TZID=America/New_York:20260701T100000
DTEND;TZID=America/New_York:20260701T110000
DTSTAMP:20260420T011438
CREATED:20260130T200149Z
LAST-MODIFIED:20260323T175057Z
UID:10001788-1782900000-1782903600@www.dorsetvt.com
SUMMARY:Storytime at Dorset Village Library
DESCRIPTION:Story Time | Wednesdays at 10AM \nJoin us in the Children’s Room* every Wednesday at 10am for stories\, songs and play! Even the littlest kiddos learn at Story Time! No registration. \n*Please note this room is only accessible by stair\, we have no elevator.
URL:https://www.dorsetvt.com/dorset-events/storytime-at-dorset-village-library/2026-07-01/
LOCATION:The Dorset Village Library\, 13 Church Street\, Dorset\, VT\, 05251\, United States
ATTACH;FMTTYPE=image/png:https://www.dorsetvt.com/wp-content/uploads/2026/01/Story-Time-1.png
END:VEVENT
BEGIN:VEVENT
DTSTART;TZID=America/New_York:20260701T100000
DTEND;TZID=America/New_York:20260701T113000
DTSTAMP:20260420T011438
CREATED:20260128T184647Z
LAST-MODIFIED:20260302T145643Z
UID:10002149-1782900000-1782905400@www.dorsetvt.com
SUMMARY:Kits and Cubs at Merck Forest
DESCRIPTION:Kits and Cubs at Merck Forest \nWednesday and Fridays 10am-11:30am \nBring your toddlers and preschoolers (18 months to 5 years old) for an unforgettable outdoor adventure! Every session is packed with nature-themed activities\, songs\, stories\, and take-home crafts designed to spark curiosity.
URL:https://www.dorsetvt.com/dorset-events/kits-and-cubs-at-merck-forest/2026-07-01/
LOCATION:Merck Forest\, 3270 VT-315\, Rupert\, VT\, United States
ATTACH;FMTTYPE=image/jpeg:https://www.dorsetvt.com/wp-content/uploads/2026/01/IMG_0638-1.jpeg
END:VEVENT
BEGIN:VEVENT
DTSTART;TZID=America/New_York:20260703T100000
DTEND;TZID=America/New_York:20260703T113000
DTSTAMP:20260420T011438
CREATED:20260128T184647Z
LAST-MODIFIED:20260302T145643Z
UID:10002150-1783072800-1783078200@www.dorsetvt.com
SUMMARY:Kits and Cubs at Merck Forest
DESCRIPTION:Kits and Cubs at Merck Forest \nWednesday and Fridays 10am-11:30am \nBring your toddlers and preschoolers (18 months to 5 years old) for an unforgettable outdoor adventure! Every session is packed with nature-themed activities\, songs\, stories\, and take-home crafts designed to spark curiosity.
URL:https://www.dorsetvt.com/dorset-events/kits-and-cubs-at-merck-forest/2026-07-03/
LOCATION:Merck Forest\, 3270 VT-315\, Rupert\, VT\, United States
ATTACH;FMTTYPE=image/jpeg:https://www.dorsetvt.com/wp-content/uploads/2026/01/IMG_0638-1.jpeg
END:VEVENT
BEGIN:VEVENT
DTSTART;TZID=America/New_York:20260707T100000
DTEND;TZID=America/New_York:20260707T113000
DTSTAMP:20260420T011438
CREATED:20260408T123816Z
LAST-MODIFIED:20260408T123816Z
UID:10002697-1783418400-1783423800@www.dorsetvt.com
SUMMARY:GMALL Presents: Behind the Headlines
DESCRIPTION:Behind the Headlines: A Weekly Conversation \nmoderated by Peter Radford \n\n\n\n\n\n\n\n\n\n\n\n\n\n\n\nJoin this engaging weekly forum to explore the deeper themes and ideas shaping today’s news. Each session features a topic introduced by the moderator\, who may share background materials and guide a thoughtful\, balanced discussion. Hear diverse perspectives\, exchange ideas\, and share your own views in a welcoming\, small-group setting. Enrollment is limited. \nRegister Here: https://greenmtnacademy.org/\n\n\n\n\n\n\n\n\n\n\n\n\n\n\n\nTen consecutive Tuesdays  \nbeginning April 21 and ending on June 23 \n10-11:30 am \nvia Zoom \n$100
URL:https://www.dorsetvt.com/dorset-events/gmall-presents-behind-the-headlines/2026-07-07/
LOCATION:VT
END:VEVENT
BEGIN:VEVENT
DTSTART;TZID=America/New_York:20260707T170000
DTEND;TZID=America/New_York:20260707T180000
DTSTAMP:20260420T011438
CREATED:20250729T121432Z
LAST-MODIFIED:20250729T121432Z
UID:10000821-1783443600-1783447200@www.dorsetvt.com
SUMMARY:Dorset Knitters at Library
DESCRIPTION:Are you an expert knitter? Can only knit and purl? Or want to learn from scratch?\nJoin the Dorset Knitters at 5pm every Tuesday!\nSnacks (finger foods) and beverages are pot-luck style! \nEmail: dorsetvillagelibrary@gmail.com if you have questions…or if you’re interested in Loom Knitting!
URL:https://www.dorsetvt.com/dorset-events/dorset-knitters-at-library/2026-07-07/
LOCATION:The Dorset Village Library\, 13 Church Street\, Dorset\, VT\, 05251\, United States
ATTACH;FMTTYPE=image/jpeg:https://www.dorsetvt.com/wp-content/uploads/2025/07/IMG_7679.jpeg
END:VEVENT
BEGIN:VEVENT
DTSTART;TZID=America/New_York:20260708T090000
DTEND;TZID=America/New_York:20260708T170000
DTSTAMP:20260420T011438
CREATED:20260211T180450Z
LAST-MODIFIED:20260211T180450Z
UID:10002051-1783501200-1783530000@www.dorsetvt.com
SUMMARY:Local’s Day @ JK Adams Kitchen Store
DESCRIPTION:Local’s Day @ JK Adams Kitchen Store \nEvery Wednesday in February & March is Local’s Day – where everyone is a local! Spin the wheel and win a discount up to 30% of on your entire purchase (some exclusions apply). Exclusions include already discounted items and electronics.
URL:https://www.dorsetvt.com/dorset-events/locals-day-jk-adams-kitchen-store/2026-07-08/
LOCATION:JK Adams\, Rte 30\, Dorset\, VT\, 05251\, United States
ATTACH;FMTTYPE=image/jpeg:https://www.dorsetvt.com/wp-content/uploads/2026/02/Locals-Day-Social-2.jpg
END:VEVENT
BEGIN:VEVENT
DTSTART;TZID=America/New_York:20260708T100000
DTEND;TZID=America/New_York:20260708T110000
DTSTAMP:20260420T011438
CREATED:20260130T200149Z
LAST-MODIFIED:20260323T175057Z
UID:10001789-1783504800-1783508400@www.dorsetvt.com
SUMMARY:Storytime at Dorset Village Library
DESCRIPTION:Story Time | Wednesdays at 10AM \nJoin us in the Children’s Room* every Wednesday at 10am for stories\, songs and play! Even the littlest kiddos learn at Story Time! No registration. \n*Please note this room is only accessible by stair\, we have no elevator.
URL:https://www.dorsetvt.com/dorset-events/storytime-at-dorset-village-library/2026-07-08/
LOCATION:The Dorset Village Library\, 13 Church Street\, Dorset\, VT\, 05251\, United States
ATTACH;FMTTYPE=image/png:https://www.dorsetvt.com/wp-content/uploads/2026/01/Story-Time-1.png
END:VEVENT
BEGIN:VEVENT
DTSTART;TZID=America/New_York:20260708T100000
DTEND;TZID=America/New_York:20260708T113000
DTSTAMP:20260420T011438
CREATED:20260128T184647Z
LAST-MODIFIED:20260302T145643Z
UID:10002151-1783504800-1783510200@www.dorsetvt.com
SUMMARY:Kits and Cubs at Merck Forest
DESCRIPTION:Kits and Cubs at Merck Forest \nWednesday and Fridays 10am-11:30am \nBring your toddlers and preschoolers (18 months to 5 years old) for an unforgettable outdoor adventure! Every session is packed with nature-themed activities\, songs\, stories\, and take-home crafts designed to spark curiosity.
URL:https://www.dorsetvt.com/dorset-events/kits-and-cubs-at-merck-forest/2026-07-08/
LOCATION:Merck Forest\, 3270 VT-315\, Rupert\, VT\, United States
ATTACH;FMTTYPE=image/jpeg:https://www.dorsetvt.com/wp-content/uploads/2026/01/IMG_0638-1.jpeg
END:VEVENT
BEGIN:VEVENT
DTSTART;TZID=America/New_York:20260710T100000
DTEND;TZID=America/New_York:20260710T113000
DTSTAMP:20260420T011438
CREATED:20260128T184647Z
LAST-MODIFIED:20260302T145643Z
UID:10002152-1783677600-1783683000@www.dorsetvt.com
SUMMARY:Kits and Cubs at Merck Forest
DESCRIPTION:Kits and Cubs at Merck Forest \nWednesday and Fridays 10am-11:30am \nBring your toddlers and preschoolers (18 months to 5 years old) for an unforgettable outdoor adventure! Every session is packed with nature-themed activities\, songs\, stories\, and take-home crafts designed to spark curiosity.
URL:https://www.dorsetvt.com/dorset-events/kits-and-cubs-at-merck-forest/2026-07-10/
LOCATION:Merck Forest\, 3270 VT-315\, Rupert\, VT\, United States
ATTACH;FMTTYPE=image/jpeg:https://www.dorsetvt.com/wp-content/uploads/2026/01/IMG_0638-1.jpeg
END:VEVENT
BEGIN:VEVENT
DTSTART;TZID=America/New_York:20260712T170000
DTEND;TZID=America/New_York:20260712T170000
DTSTAMP:20260420T011438
CREATED:20260408T124528Z
LAST-MODIFIED:20260408T124528Z
UID:10002749-1783875600-1783875600@www.dorsetvt.com
SUMMARY:GMALL’s Stars and Stripes Celebration!
DESCRIPTION:Mark your calendars! This will be a fun event. More details to come! \nSave the Date: \nStars and Stripes Celebration to benefit Green Mountain Academy for Lifelong Learning \nSunday evening\, July 12\, 2026 at The Inn at Manchester \nFor more information\, contact Gloria Palmer at 802-867-0111
URL:https://www.dorsetvt.com/dorset-events/gmalls-stars-and-stripes-celebration/
LOCATION:VT
ATTACH;FMTTYPE=image/jpeg:https://www.dorsetvt.com/wp-content/uploads/2026/04/IMG_1799.jpeg
END:VEVENT
BEGIN:VEVENT
DTSTART;TZID=America/New_York:20260714T100000
DTEND;TZID=America/New_York:20260714T113000
DTSTAMP:20260420T011438
CREATED:20260408T123816Z
LAST-MODIFIED:20260408T123816Z
UID:10002698-1784023200-1784028600@www.dorsetvt.com
SUMMARY:GMALL Presents: Behind the Headlines
DESCRIPTION:Behind the Headlines: A Weekly Conversation \nmoderated by Peter Radford \n\n\n\n\n\n\n\n\n\n\n\n\n\n\n\nJoin this engaging weekly forum to explore the deeper themes and ideas shaping today’s news. Each session features a topic introduced by the moderator\, who may share background materials and guide a thoughtful\, balanced discussion. Hear diverse perspectives\, exchange ideas\, and share your own views in a welcoming\, small-group setting. Enrollment is limited. \nRegister Here: https://greenmtnacademy.org/\n\n\n\n\n\n\n\n\n\n\n\n\n\n\n\nTen consecutive Tuesdays  \nbeginning April 21 and ending on June 23 \n10-11:30 am \nvia Zoom \n$100
URL:https://www.dorsetvt.com/dorset-events/gmall-presents-behind-the-headlines/2026-07-14/
LOCATION:VT
END:VEVENT
BEGIN:VEVENT
DTSTART;TZID=America/New_York:20260714T170000
DTEND;TZID=America/New_York:20260714T180000
DTSTAMP:20260420T011438
CREATED:20250729T121432Z
LAST-MODIFIED:20250729T121432Z
UID:10000822-1784048400-1784052000@www.dorsetvt.com
SUMMARY:Dorset Knitters at Library
DESCRIPTION:Are you an expert knitter? Can only knit and purl? Or want to learn from scratch?\nJoin the Dorset Knitters at 5pm every Tuesday!\nSnacks (finger foods) and beverages are pot-luck style! \nEmail: dorsetvillagelibrary@gmail.com if you have questions…or if you’re interested in Loom Knitting!
URL:https://www.dorsetvt.com/dorset-events/dorset-knitters-at-library/2026-07-14/
LOCATION:The Dorset Village Library\, 13 Church Street\, Dorset\, VT\, 05251\, United States
ATTACH;FMTTYPE=image/jpeg:https://www.dorsetvt.com/wp-content/uploads/2025/07/IMG_7679.jpeg
END:VEVENT
BEGIN:VEVENT
DTSTART;TZID=America/New_York:20260715T090000
DTEND;TZID=America/New_York:20260715T170000
DTSTAMP:20260420T011438
CREATED:20260211T180450Z
LAST-MODIFIED:20260211T180450Z
UID:10002052-1784106000-1784134800@www.dorsetvt.com
SUMMARY:Local’s Day @ JK Adams Kitchen Store
DESCRIPTION:Local’s Day @ JK Adams Kitchen Store \nEvery Wednesday in February & March is Local’s Day – where everyone is a local! Spin the wheel and win a discount up to 30% of on your entire purchase (some exclusions apply). Exclusions include already discounted items and electronics.
URL:https://www.dorsetvt.com/dorset-events/locals-day-jk-adams-kitchen-store/2026-07-15/
LOCATION:JK Adams\, Rte 30\, Dorset\, VT\, 05251\, United States
ATTACH;FMTTYPE=image/jpeg:https://www.dorsetvt.com/wp-content/uploads/2026/02/Locals-Day-Social-2.jpg
END:VEVENT
BEGIN:VEVENT
DTSTART;TZID=America/New_York:20260715T100000
DTEND;TZID=America/New_York:20260715T110000
DTSTAMP:20260420T011438
CREATED:20260130T200149Z
LAST-MODIFIED:20260323T175057Z
UID:10001790-1784109600-1784113200@www.dorsetvt.com
SUMMARY:Storytime at Dorset Village Library
DESCRIPTION:Story Time | Wednesdays at 10AM \nJoin us in the Children’s Room* every Wednesday at 10am for stories\, songs and play! Even the littlest kiddos learn at Story Time! No registration. \n*Please note this room is only accessible by stair\, we have no elevator.
URL:https://www.dorsetvt.com/dorset-events/storytime-at-dorset-village-library/2026-07-15/
LOCATION:The Dorset Village Library\, 13 Church Street\, Dorset\, VT\, 05251\, United States
ATTACH;FMTTYPE=image/png:https://www.dorsetvt.com/wp-content/uploads/2026/01/Story-Time-1.png
END:VEVENT
BEGIN:VEVENT
DTSTART;TZID=America/New_York:20260715T100000
DTEND;TZID=America/New_York:20260715T113000
DTSTAMP:20260420T011438
CREATED:20260128T184647Z
LAST-MODIFIED:20260302T145643Z
UID:10002153-1784109600-1784115000@www.dorsetvt.com
SUMMARY:Kits and Cubs at Merck Forest
DESCRIPTION:Kits and Cubs at Merck Forest \nWednesday and Fridays 10am-11:30am \nBring your toddlers and preschoolers (18 months to 5 years old) for an unforgettable outdoor adventure! Every session is packed with nature-themed activities\, songs\, stories\, and take-home crafts designed to spark curiosity.
URL:https://www.dorsetvt.com/dorset-events/kits-and-cubs-at-merck-forest/2026-07-15/
LOCATION:Merck Forest\, 3270 VT-315\, Rupert\, VT\, United States
ATTACH;FMTTYPE=image/jpeg:https://www.dorsetvt.com/wp-content/uploads/2026/01/IMG_0638-1.jpeg
END:VEVENT
BEGIN:VEVENT
DTSTART;TZID=America/New_York:20260717T100000
DTEND;TZID=America/New_York:20260717T113000
DTSTAMP:20260420T011438
CREATED:20260128T184647Z
LAST-MODIFIED:20260302T145643Z
UID:10002154-1784282400-1784287800@www.dorsetvt.com
SUMMARY:Kits and Cubs at Merck Forest
DESCRIPTION:Kits and Cubs at Merck Forest \nWednesday and Fridays 10am-11:30am \nBring your toddlers and preschoolers (18 months to 5 years old) for an unforgettable outdoor adventure! Every session is packed with nature-themed activities\, songs\, stories\, and take-home crafts designed to spark curiosity.
URL:https://www.dorsetvt.com/dorset-events/kits-and-cubs-at-merck-forest/2026-07-17/
LOCATION:Merck Forest\, 3270 VT-315\, Rupert\, VT\, United States
ATTACH;FMTTYPE=image/jpeg:https://www.dorsetvt.com/wp-content/uploads/2026/01/IMG_0638-1.jpeg
END:VEVENT
BEGIN:VEVENT
DTSTART;TZID=America/New_York:20260721T100000
DTEND;TZID=America/New_York:20260721T113000
DTSTAMP:20260420T011438
CREATED:20260408T123816Z
LAST-MODIFIED:20260408T123816Z
UID:10002699-1784628000-1784633400@www.dorsetvt.com
SUMMARY:GMALL Presents: Behind the Headlines
DESCRIPTION:Behind the Headlines: A Weekly Conversation \nmoderated by Peter Radford \n\n\n\n\n\n\n\n\n\n\n\n\n\n\n\nJoin this engaging weekly forum to explore the deeper themes and ideas shaping today’s news. Each session features a topic introduced by the moderator\, who may share background materials and guide a thoughtful\, balanced discussion. Hear diverse perspectives\, exchange ideas\, and share your own views in a welcoming\, small-group setting. Enrollment is limited. \nRegister Here: https://greenmtnacademy.org/\n\n\n\n\n\n\n\n\n\n\n\n\n\n\n\nTen consecutive Tuesdays  \nbeginning April 21 and ending on June 23 \n10-11:30 am \nvia Zoom \n$100
URL:https://www.dorsetvt.com/dorset-events/gmall-presents-behind-the-headlines/2026-07-21/
LOCATION:VT
END:VEVENT
BEGIN:VEVENT
DTSTART;TZID=America/New_York:20260721T170000
DTEND;TZID=America/New_York:20260721T180000
DTSTAMP:20260420T011438
CREATED:20250729T121432Z
LAST-MODIFIED:20250729T121432Z
UID:10000823-1784653200-1784656800@www.dorsetvt.com
SUMMARY:Dorset Knitters at Library
DESCRIPTION:Are you an expert knitter? Can only knit and purl? Or want to learn from scratch?\nJoin the Dorset Knitters at 5pm every Tuesday!\nSnacks (finger foods) and beverages are pot-luck style! \nEmail: dorsetvillagelibrary@gmail.com if you have questions…or if you’re interested in Loom Knitting!
URL:https://www.dorsetvt.com/dorset-events/dorset-knitters-at-library/2026-07-21/
LOCATION:The Dorset Village Library\, 13 Church Street\, Dorset\, VT\, 05251\, United States
ATTACH;FMTTYPE=image/jpeg:https://www.dorsetvt.com/wp-content/uploads/2025/07/IMG_7679.jpeg
END:VEVENT
BEGIN:VEVENT
DTSTART;TZID=America/New_York:20260722T090000
DTEND;TZID=America/New_York:20260722T170000
DTSTAMP:20260420T011438
CREATED:20260211T180450Z
LAST-MODIFIED:20260211T180450Z
UID:10002053-1784710800-1784739600@www.dorsetvt.com
SUMMARY:Local’s Day @ JK Adams Kitchen Store
DESCRIPTION:Local’s Day @ JK Adams Kitchen Store \nEvery Wednesday in February & March is Local’s Day – where everyone is a local! Spin the wheel and win a discount up to 30% of on your entire purchase (some exclusions apply). Exclusions include already discounted items and electronics.
URL:https://www.dorsetvt.com/dorset-events/locals-day-jk-adams-kitchen-store/2026-07-22/
LOCATION:JK Adams\, Rte 30\, Dorset\, VT\, 05251\, United States
ATTACH;FMTTYPE=image/jpeg:https://www.dorsetvt.com/wp-content/uploads/2026/02/Locals-Day-Social-2.jpg
END:VEVENT
BEGIN:VEVENT
DTSTART;TZID=America/New_York:20260722T100000
DTEND;TZID=America/New_York:20260722T110000
DTSTAMP:20260420T011438
CREATED:20260130T200149Z
LAST-MODIFIED:20260323T175057Z
UID:10001791-1784714400-1784718000@www.dorsetvt.com
SUMMARY:Storytime at Dorset Village Library
DESCRIPTION:Story Time | Wednesdays at 10AM \nJoin us in the Children’s Room* every Wednesday at 10am for stories\, songs and play! Even the littlest kiddos learn at Story Time! No registration. \n*Please note this room is only accessible by stair\, we have no elevator.
URL:https://www.dorsetvt.com/dorset-events/storytime-at-dorset-village-library/2026-07-22/
LOCATION:The Dorset Village Library\, 13 Church Street\, Dorset\, VT\, 05251\, United States
ATTACH;FMTTYPE=image/png:https://www.dorsetvt.com/wp-content/uploads/2026/01/Story-Time-1.png
END:VEVENT
BEGIN:VEVENT
DTSTART;TZID=America/New_York:20260722T100000
DTEND;TZID=America/New_York:20260722T113000
DTSTAMP:20260420T011438
CREATED:20260128T184647Z
LAST-MODIFIED:20260302T145643Z
UID:10002155-1784714400-1784719800@www.dorsetvt.com
SUMMARY:Kits and Cubs at Merck Forest
DESCRIPTION:Kits and Cubs at Merck Forest \nWednesday and Fridays 10am-11:30am \nBring your toddlers and preschoolers (18 months to 5 years old) for an unforgettable outdoor adventure! Every session is packed with nature-themed activities\, songs\, stories\, and take-home crafts designed to spark curiosity.
URL:https://www.dorsetvt.com/dorset-events/kits-and-cubs-at-merck-forest/2026-07-22/
LOCATION:Merck Forest\, 3270 VT-315\, Rupert\, VT\, United States
ATTACH;FMTTYPE=image/jpeg:https://www.dorsetvt.com/wp-content/uploads/2026/01/IMG_0638-1.jpeg
END:VEVENT
BEGIN:VEVENT
DTSTART;TZID=America/New_York:20260724T100000
DTEND;TZID=America/New_York:20260724T113000
DTSTAMP:20260420T011438
CREATED:20260128T184647Z
LAST-MODIFIED:20260302T145643Z
UID:10002156-1784887200-1784892600@www.dorsetvt.com
SUMMARY:Kits and Cubs at Merck Forest
DESCRIPTION:Kits and Cubs at Merck Forest \nWednesday and Fridays 10am-11:30am \nBring your toddlers and preschoolers (18 months to 5 years old) for an unforgettable outdoor adventure! Every session is packed with nature-themed activities\, songs\, stories\, and take-home crafts designed to spark curiosity.
URL:https://www.dorsetvt.com/dorset-events/kits-and-cubs-at-merck-forest/2026-07-24/
LOCATION:Merck Forest\, 3270 VT-315\, Rupert\, VT\, United States
ATTACH;FMTTYPE=image/jpeg:https://www.dorsetvt.com/wp-content/uploads/2026/01/IMG_0638-1.jpeg
END:VEVENT
BEGIN:VEVENT
DTSTART;TZID=America/New_York:20260728T100000
DTEND;TZID=America/New_York:20260728T113000
DTSTAMP:20260420T011438
CREATED:20260408T123816Z
LAST-MODIFIED:20260408T123816Z
UID:10002700-1785232800-1785238200@www.dorsetvt.com
SUMMARY:GMALL Presents: Behind the Headlines
DESCRIPTION:Behind the Headlines: A Weekly Conversation \nmoderated by Peter Radford \n\n\n\n\n\n\n\n\n\n\n\n\n\n\n\nJoin this engaging weekly forum to explore the deeper themes and ideas shaping today’s news. Each session features a topic introduced by the moderator\, who may share background materials and guide a thoughtful\, balanced discussion. Hear diverse perspectives\, exchange ideas\, and share your own views in a welcoming\, small-group setting. Enrollment is limited. \nRegister Here: https://greenmtnacademy.org/\n\n\n\n\n\n\n\n\n\n\n\n\n\n\n\nTen consecutive Tuesdays  \nbeginning April 21 and ending on June 23 \n10-11:30 am \nvia Zoom \n$100
URL:https://www.dorsetvt.com/dorset-events/gmall-presents-behind-the-headlines/2026-07-28/
LOCATION:VT
END:VEVENT
BEGIN:VEVENT
DTSTART;TZID=America/New_York:20260728T170000
DTEND;TZID=America/New_York:20260728T180000
DTSTAMP:20260420T011438
CREATED:20250729T121432Z
LAST-MODIFIED:20250729T121432Z
UID:10000824-1785258000-1785261600@www.dorsetvt.com
SUMMARY:Dorset Knitters at Library
DESCRIPTION:Are you an expert knitter? Can only knit and purl? Or want to learn from scratch?\nJoin the Dorset Knitters at 5pm every Tuesday!\nSnacks (finger foods) and beverages are pot-luck style! \nEmail: dorsetvillagelibrary@gmail.com if you have questions…or if you’re interested in Loom Knitting!
URL:https://www.dorsetvt.com/dorset-events/dorset-knitters-at-library/2026-07-28/
LOCATION:The Dorset Village Library\, 13 Church Street\, Dorset\, VT\, 05251\, United States
ATTACH;FMTTYPE=image/jpeg:https://www.dorsetvt.com/wp-content/uploads/2025/07/IMG_7679.jpeg
END:VEVENT
BEGIN:VEVENT
DTSTART;TZID=America/New_York:20260729T090000
DTEND;TZID=America/New_York:20260729T170000
DTSTAMP:20260420T011438
CREATED:20260211T180450Z
LAST-MODIFIED:20260211T180450Z
UID:10002054-1785315600-1785344400@www.dorsetvt.com
SUMMARY:Local’s Day @ JK Adams Kitchen Store
DESCRIPTION:Local’s Day @ JK Adams Kitchen Store \nEvery Wednesday in February & March is Local’s Day – where everyone is a local! Spin the wheel and win a discount up to 30% of on your entire purchase (some exclusions apply). Exclusions include already discounted items and electronics.
URL:https://www.dorsetvt.com/dorset-events/locals-day-jk-adams-kitchen-store/2026-07-29/
LOCATION:JK Adams\, Rte 30\, Dorset\, VT\, 05251\, United States
ATTACH;FMTTYPE=image/jpeg:https://www.dorsetvt.com/wp-content/uploads/2026/02/Locals-Day-Social-2.jpg
END:VEVENT
BEGIN:VEVENT
DTSTART;TZID=America/New_York:20260729T100000
DTEND;TZID=America/New_York:20260729T110000
DTSTAMP:20260420T011438
CREATED:20260130T200149Z
LAST-MODIFIED:20260323T175057Z
UID:10001792-1785319200-1785322800@www.dorsetvt.com
SUMMARY:Storytime at Dorset Village Library
DESCRIPTION:Story Time | Wednesdays at 10AM \nJoin us in the Children’s Room* every Wednesday at 10am for stories\, songs and play! Even the littlest kiddos learn at Story Time! No registration. \n*Please note this room is only accessible by stair\, we have no elevator.
URL:https://www.dorsetvt.com/dorset-events/storytime-at-dorset-village-library/2026-07-29/
LOCATION:The Dorset Village Library\, 13 Church Street\, Dorset\, VT\, 05251\, United States
ATTACH;FMTTYPE=image/png:https://www.dorsetvt.com/wp-content/uploads/2026/01/Story-Time-1.png
END:VEVENT
BEGIN:VEVENT
DTSTART;TZID=America/New_York:20260729T100000
DTEND;TZID=America/New_York:20260729T113000
DTSTAMP:20260420T011438
CREATED:20260128T184647Z
LAST-MODIFIED:20260302T145643Z
UID:10002157-1785319200-1785324600@www.dorsetvt.com
SUMMARY:Kits and Cubs at Merck Forest
DESCRIPTION:Kits and Cubs at Merck Forest \nWednesday and Fridays 10am-11:30am \nBring your toddlers and preschoolers (18 months to 5 years old) for an unforgettable outdoor adventure! Every session is packed with nature-themed activities\, songs\, stories\, and take-home crafts designed to spark curiosity.
URL:https://www.dorsetvt.com/dorset-events/kits-and-cubs-at-merck-forest/2026-07-29/
LOCATION:Merck Forest\, 3270 VT-315\, Rupert\, VT\, United States
ATTACH;FMTTYPE=image/jpeg:https://www.dorsetvt.com/wp-content/uploads/2026/01/IMG_0638-1.jpeg
END:VEVENT
BEGIN:VEVENT
DTSTART;TZID=America/New_York:20260731T100000
DTEND;TZID=America/New_York:20260731T113000
DTSTAMP:20260420T011438
CREATED:20260128T184647Z
LAST-MODIFIED:20260302T145643Z
UID:10002158-1785492000-1785497400@www.dorsetvt.com
SUMMARY:Kits and Cubs at Merck Forest
DESCRIPTION:Kits and Cubs at Merck Forest \nWednesday and Fridays 10am-11:30am \nBring your toddlers and preschoolers (18 months to 5 years old) for an unforgettable outdoor adventure! Every session is packed with nature-themed activities\, songs\, stories\, and take-home crafts designed to spark curiosity.
URL:https://www.dorsetvt.com/dorset-events/kits-and-cubs-at-merck-forest/2026-07-31/
LOCATION:Merck Forest\, 3270 VT-315\, Rupert\, VT\, United States
ATTACH;FMTTYPE=image/jpeg:https://www.dorsetvt.com/wp-content/uploads/2026/01/IMG_0638-1.jpeg
END:VEVENT
BEGIN:VEVENT
DTSTART;TZID=America/New_York:20260804T100000
DTEND;TZID=America/New_York:20260804T113000
DTSTAMP:20260420T011438
CREATED:20260408T123816Z
LAST-MODIFIED:20260408T123816Z
UID:10002701-1785837600-1785843000@www.dorsetvt.com
SUMMARY:GMALL Presents: Behind the Headlines
DESCRIPTION:Behind the Headlines: A Weekly Conversation \nmoderated by Peter Radford \n\n\n\n\n\n\n\n\n\n\n\n\n\n\n\nJoin this engaging weekly forum to explore the deeper themes and ideas shaping today’s news. Each session features a topic introduced by the moderator\, who may share background materials and guide a thoughtful\, balanced discussion. Hear diverse perspectives\, exchange ideas\, and share your own views in a welcoming\, small-group setting. Enrollment is limited. \nRegister Here: https://greenmtnacademy.org/\n\n\n\n\n\n\n\n\n\n\n\n\n\n\n\nTen consecutive Tuesdays  \nbeginning April 21 and ending on June 23 \n10-11:30 am \nvia Zoom \n$100
URL:https://www.dorsetvt.com/dorset-events/gmall-presents-behind-the-headlines/2026-08-04/
LOCATION:VT
END:VEVENT
BEGIN:VEVENT
DTSTART;TZID=America/New_York:20260804T170000
DTEND;TZID=America/New_York:20260804T180000
DTSTAMP:20260420T011438
CREATED:20250729T121432Z
LAST-MODIFIED:20250729T121432Z
UID:10000825-1785862800-1785866400@www.dorsetvt.com
SUMMARY:Dorset Knitters at Library
DESCRIPTION:Are you an expert knitter? Can only knit and purl? Or want to learn from scratch?\nJoin the Dorset Knitters at 5pm every Tuesday!\nSnacks (finger foods) and beverages are pot-luck style! \nEmail: dorsetvillagelibrary@gmail.com if you have questions…or if you’re interested in Loom Knitting!
URL:https://www.dorsetvt.com/dorset-events/dorset-knitters-at-library/2026-08-04/
LOCATION:The Dorset Village Library\, 13 Church Street\, Dorset\, VT\, 05251\, United States
ATTACH;FMTTYPE=image/jpeg:https://www.dorsetvt.com/wp-content/uploads/2025/07/IMG_7679.jpeg
END:VEVENT
END:VCALENDAR