BEGIN:VCALENDAR
VERSION:2.0
PRODID:-//Discover Dorset Vermont - ECPv6.15.20//NONSGML v1.0//EN
CALSCALE:GREGORIAN
METHOD:PUBLISH
X-WR-CALNAME:Discover Dorset Vermont
X-ORIGINAL-URL:https://www.dorsetvt.com
X-WR-CALDESC:Events for Discover Dorset Vermont
REFRESH-INTERVAL;VALUE=DURATION:PT1H
X-Robots-Tag:noindex
X-PUBLISHED-TTL:PT1H
BEGIN:VTIMEZONE
TZID:America/New_York
BEGIN:DAYLIGHT
TZOFFSETFROM:-0500
TZOFFSETTO:-0400
TZNAME:EDT
DTSTART:20260308T070000
END:DAYLIGHT
BEGIN:STANDARD
TZOFFSETFROM:-0400
TZOFFSETTO:-0500
TZNAME:EST
DTSTART:20261101T060000
END:STANDARD
BEGIN:DAYLIGHT
TZOFFSETFROM:-0500
TZOFFSETTO:-0400
TZNAME:EDT
DTSTART:20270314T070000
END:DAYLIGHT
BEGIN:STANDARD
TZOFFSETFROM:-0400
TZOFFSETTO:-0500
TZNAME:EST
DTSTART:20271107T060000
END:STANDARD
BEGIN:DAYLIGHT
TZOFFSETFROM:-0500
TZOFFSETTO:-0400
TZNAME:EDT
DTSTART:20280312T070000
END:DAYLIGHT
BEGIN:STANDARD
TZOFFSETFROM:-0400
TZOFFSETTO:-0500
TZNAME:EST
DTSTART:20281105T060000
END:STANDARD
END:VTIMEZONE
BEGIN:VEVENT
DTSTART;TZID=America/New_York:20270205T100000
DTEND;TZID=America/New_York:20270205T113000
DTSTAMP:20260421T045954
CREATED:20260128T184647Z
LAST-MODIFIED:20260302T145643Z
UID:10002212-1801821600-1801827000@www.dorsetvt.com
SUMMARY:Kits and Cubs at Merck Forest
DESCRIPTION:Kits and Cubs at Merck Forest \nWednesday and Fridays 10am-11:30am \nBring your toddlers and preschoolers (18 months to 5 years old) for an unforgettable outdoor adventure! Every session is packed with nature-themed activities\, songs\, stories\, and take-home crafts designed to spark curiosity.
URL:https://www.dorsetvt.com/dorset-events/kits-and-cubs-at-merck-forest/2027-02-05/
LOCATION:Merck Forest\, 3270 VT-315\, Rupert\, VT\, United States
ATTACH;FMTTYPE=image/jpeg:https://www.dorsetvt.com/wp-content/uploads/2026/01/IMG_0638-1.jpeg
END:VEVENT
BEGIN:VEVENT
DTSTART;TZID=America/New_York:20270209T100000
DTEND;TZID=America/New_York:20270209T113000
DTSTAMP:20260421T045954
CREATED:20260408T123816Z
LAST-MODIFIED:20260408T123816Z
UID:10002728-1802167200-1802172600@www.dorsetvt.com
SUMMARY:GMALL Presents: Behind the Headlines
DESCRIPTION:Behind the Headlines: A Weekly Conversation \nmoderated by Peter Radford \n\n\n\n\n\n\n\n\n\n\n\n\n\n\n\nJoin this engaging weekly forum to explore the deeper themes and ideas shaping today’s news. Each session features a topic introduced by the moderator\, who may share background materials and guide a thoughtful\, balanced discussion. Hear diverse perspectives\, exchange ideas\, and share your own views in a welcoming\, small-group setting. Enrollment is limited. \nRegister Here: https://greenmtnacademy.org/\n\n\n\n\n\n\n\n\n\n\n\n\n\n\n\nTen consecutive Tuesdays  \nbeginning April 21 and ending on June 23 \n10-11:30 am \nvia Zoom \n$100
URL:https://www.dorsetvt.com/dorset-events/gmall-presents-behind-the-headlines/2027-02-09/
LOCATION:VT
END:VEVENT
BEGIN:VEVENT
DTSTART;TZID=America/New_York:20270209T170000
DTEND;TZID=America/New_York:20270209T180000
DTSTAMP:20260421T045954
CREATED:20250729T121432Z
LAST-MODIFIED:20250729T121432Z
UID:10000852-1802192400-1802196000@www.dorsetvt.com
SUMMARY:Dorset Knitters at Library
DESCRIPTION:Are you an expert knitter? Can only knit and purl? Or want to learn from scratch?\nJoin the Dorset Knitters at 5pm every Tuesday!\nSnacks (finger foods) and beverages are pot-luck style! \nEmail: dorsetvillagelibrary@gmail.com if you have questions…or if you’re interested in Loom Knitting!
URL:https://www.dorsetvt.com/dorset-events/dorset-knitters-at-library/2027-02-09/
LOCATION:The Dorset Village Library\, 13 Church Street\, Dorset\, VT\, 05251\, United States
ATTACH;FMTTYPE=image/jpeg:https://www.dorsetvt.com/wp-content/uploads/2025/07/IMG_7679.jpeg
END:VEVENT
BEGIN:VEVENT
DTSTART;TZID=America/New_York:20270210T090000
DTEND;TZID=America/New_York:20270210T170000
DTSTAMP:20260421T045954
CREATED:20260211T180450Z
LAST-MODIFIED:20260211T180450Z
UID:10002082-1802250000-1802278800@www.dorsetvt.com
SUMMARY:Local’s Day @ JK Adams Kitchen Store
DESCRIPTION:Local’s Day @ JK Adams Kitchen Store \nEvery Wednesday in February & March is Local’s Day – where everyone is a local! Spin the wheel and win a discount up to 30% of on your entire purchase (some exclusions apply). Exclusions include already discounted items and electronics.
URL:https://www.dorsetvt.com/dorset-events/locals-day-jk-adams-kitchen-store/2027-02-10/
LOCATION:JK Adams\, Rte 30\, Dorset\, VT\, 05251\, United States
ATTACH;FMTTYPE=image/jpeg:https://www.dorsetvt.com/wp-content/uploads/2026/02/Locals-Day-Social-2.jpg
END:VEVENT
BEGIN:VEVENT
DTSTART;TZID=America/New_York:20270210T100000
DTEND;TZID=America/New_York:20270210T110000
DTSTAMP:20260421T045954
CREATED:20260130T200149Z
LAST-MODIFIED:20260323T175057Z
UID:10001820-1802253600-1802257200@www.dorsetvt.com
SUMMARY:Storytime at Dorset Village Library
DESCRIPTION:Story Time | Wednesdays at 10AM \nJoin us in the Children’s Room* every Wednesday at 10am for stories\, songs and play! Even the littlest kiddos learn at Story Time! No registration. \n*Please note this room is only accessible by stair\, we have no elevator.
URL:https://www.dorsetvt.com/dorset-events/storytime-at-dorset-village-library/2027-02-10/
LOCATION:The Dorset Village Library\, 13 Church Street\, Dorset\, VT\, 05251\, United States
ATTACH;FMTTYPE=image/png:https://www.dorsetvt.com/wp-content/uploads/2026/01/Story-Time-1.png
END:VEVENT
BEGIN:VEVENT
DTSTART;TZID=America/New_York:20270210T100000
DTEND;TZID=America/New_York:20270210T113000
DTSTAMP:20260421T045954
CREATED:20260128T184647Z
LAST-MODIFIED:20260302T145643Z
UID:10002213-1802253600-1802259000@www.dorsetvt.com
SUMMARY:Kits and Cubs at Merck Forest
DESCRIPTION:Kits and Cubs at Merck Forest \nWednesday and Fridays 10am-11:30am \nBring your toddlers and preschoolers (18 months to 5 years old) for an unforgettable outdoor adventure! Every session is packed with nature-themed activities\, songs\, stories\, and take-home crafts designed to spark curiosity.
URL:https://www.dorsetvt.com/dorset-events/kits-and-cubs-at-merck-forest/2027-02-10/
LOCATION:Merck Forest\, 3270 VT-315\, Rupert\, VT\, United States
ATTACH;FMTTYPE=image/jpeg:https://www.dorsetvt.com/wp-content/uploads/2026/01/IMG_0638-1.jpeg
END:VEVENT
BEGIN:VEVENT
DTSTART;TZID=America/New_York:20270212T100000
DTEND;TZID=America/New_York:20270212T113000
DTSTAMP:20260421T045954
CREATED:20260128T184647Z
LAST-MODIFIED:20260302T145643Z
UID:10002214-1802426400-1802431800@www.dorsetvt.com
SUMMARY:Kits and Cubs at Merck Forest
DESCRIPTION:Kits and Cubs at Merck Forest \nWednesday and Fridays 10am-11:30am \nBring your toddlers and preschoolers (18 months to 5 years old) for an unforgettable outdoor adventure! Every session is packed with nature-themed activities\, songs\, stories\, and take-home crafts designed to spark curiosity.
URL:https://www.dorsetvt.com/dorset-events/kits-and-cubs-at-merck-forest/2027-02-12/
LOCATION:Merck Forest\, 3270 VT-315\, Rupert\, VT\, United States
ATTACH;FMTTYPE=image/jpeg:https://www.dorsetvt.com/wp-content/uploads/2026/01/IMG_0638-1.jpeg
END:VEVENT
BEGIN:VEVENT
DTSTART;TZID=America/New_York:20270216T100000
DTEND;TZID=America/New_York:20270216T113000
DTSTAMP:20260421T045954
CREATED:20260408T123816Z
LAST-MODIFIED:20260408T123816Z
UID:10002729-1802772000-1802777400@www.dorsetvt.com
SUMMARY:GMALL Presents: Behind the Headlines
DESCRIPTION:Behind the Headlines: A Weekly Conversation \nmoderated by Peter Radford \n\n\n\n\n\n\n\n\n\n\n\n\n\n\n\nJoin this engaging weekly forum to explore the deeper themes and ideas shaping today’s news. Each session features a topic introduced by the moderator\, who may share background materials and guide a thoughtful\, balanced discussion. Hear diverse perspectives\, exchange ideas\, and share your own views in a welcoming\, small-group setting. Enrollment is limited. \nRegister Here: https://greenmtnacademy.org/\n\n\n\n\n\n\n\n\n\n\n\n\n\n\n\nTen consecutive Tuesdays  \nbeginning April 21 and ending on June 23 \n10-11:30 am \nvia Zoom \n$100
URL:https://www.dorsetvt.com/dorset-events/gmall-presents-behind-the-headlines/2027-02-16/
LOCATION:VT
END:VEVENT
BEGIN:VEVENT
DTSTART;TZID=America/New_York:20270216T170000
DTEND;TZID=America/New_York:20270216T180000
DTSTAMP:20260421T045954
CREATED:20250729T121432Z
LAST-MODIFIED:20250729T121432Z
UID:10000853-1802797200-1802800800@www.dorsetvt.com
SUMMARY:Dorset Knitters at Library
DESCRIPTION:Are you an expert knitter? Can only knit and purl? Or want to learn from scratch?\nJoin the Dorset Knitters at 5pm every Tuesday!\nSnacks (finger foods) and beverages are pot-luck style! \nEmail: dorsetvillagelibrary@gmail.com if you have questions…or if you’re interested in Loom Knitting!
URL:https://www.dorsetvt.com/dorset-events/dorset-knitters-at-library/2027-02-16/
LOCATION:The Dorset Village Library\, 13 Church Street\, Dorset\, VT\, 05251\, United States
ATTACH;FMTTYPE=image/jpeg:https://www.dorsetvt.com/wp-content/uploads/2025/07/IMG_7679.jpeg
END:VEVENT
BEGIN:VEVENT
DTSTART;TZID=America/New_York:20270217T090000
DTEND;TZID=America/New_York:20270217T170000
DTSTAMP:20260421T045954
CREATED:20260211T180450Z
LAST-MODIFIED:20260211T180450Z
UID:10002083-1802854800-1802883600@www.dorsetvt.com
SUMMARY:Local’s Day @ JK Adams Kitchen Store
DESCRIPTION:Local’s Day @ JK Adams Kitchen Store \nEvery Wednesday in February & March is Local’s Day – where everyone is a local! Spin the wheel and win a discount up to 30% of on your entire purchase (some exclusions apply). Exclusions include already discounted items and electronics.
URL:https://www.dorsetvt.com/dorset-events/locals-day-jk-adams-kitchen-store/2027-02-17/
LOCATION:JK Adams\, Rte 30\, Dorset\, VT\, 05251\, United States
ATTACH;FMTTYPE=image/jpeg:https://www.dorsetvt.com/wp-content/uploads/2026/02/Locals-Day-Social-2.jpg
END:VEVENT
BEGIN:VEVENT
DTSTART;TZID=America/New_York:20270217T100000
DTEND;TZID=America/New_York:20270217T110000
DTSTAMP:20260421T045954
CREATED:20260130T200149Z
LAST-MODIFIED:20260323T175057Z
UID:10001821-1802858400-1802862000@www.dorsetvt.com
SUMMARY:Storytime at Dorset Village Library
DESCRIPTION:Story Time | Wednesdays at 10AM \nJoin us in the Children’s Room* every Wednesday at 10am for stories\, songs and play! Even the littlest kiddos learn at Story Time! No registration. \n*Please note this room is only accessible by stair\, we have no elevator.
URL:https://www.dorsetvt.com/dorset-events/storytime-at-dorset-village-library/2027-02-17/
LOCATION:The Dorset Village Library\, 13 Church Street\, Dorset\, VT\, 05251\, United States
ATTACH;FMTTYPE=image/png:https://www.dorsetvt.com/wp-content/uploads/2026/01/Story-Time-1.png
END:VEVENT
BEGIN:VEVENT
DTSTART;TZID=America/New_York:20270217T100000
DTEND;TZID=America/New_York:20270217T113000
DTSTAMP:20260421T045954
CREATED:20260128T184647Z
LAST-MODIFIED:20260302T145643Z
UID:10002215-1802858400-1802863800@www.dorsetvt.com
SUMMARY:Kits and Cubs at Merck Forest
DESCRIPTION:Kits and Cubs at Merck Forest \nWednesday and Fridays 10am-11:30am \nBring your toddlers and preschoolers (18 months to 5 years old) for an unforgettable outdoor adventure! Every session is packed with nature-themed activities\, songs\, stories\, and take-home crafts designed to spark curiosity.
URL:https://www.dorsetvt.com/dorset-events/kits-and-cubs-at-merck-forest/2027-02-17/
LOCATION:Merck Forest\, 3270 VT-315\, Rupert\, VT\, United States
ATTACH;FMTTYPE=image/jpeg:https://www.dorsetvt.com/wp-content/uploads/2026/01/IMG_0638-1.jpeg
END:VEVENT
BEGIN:VEVENT
DTSTART;TZID=America/New_York:20270219T100000
DTEND;TZID=America/New_York:20270219T113000
DTSTAMP:20260421T045954
CREATED:20260128T184647Z
LAST-MODIFIED:20260302T145643Z
UID:10002216-1803031200-1803036600@www.dorsetvt.com
SUMMARY:Kits and Cubs at Merck Forest
DESCRIPTION:Kits and Cubs at Merck Forest \nWednesday and Fridays 10am-11:30am \nBring your toddlers and preschoolers (18 months to 5 years old) for an unforgettable outdoor adventure! Every session is packed with nature-themed activities\, songs\, stories\, and take-home crafts designed to spark curiosity.
URL:https://www.dorsetvt.com/dorset-events/kits-and-cubs-at-merck-forest/2027-02-19/
LOCATION:Merck Forest\, 3270 VT-315\, Rupert\, VT\, United States
ATTACH;FMTTYPE=image/jpeg:https://www.dorsetvt.com/wp-content/uploads/2026/01/IMG_0638-1.jpeg
END:VEVENT
BEGIN:VEVENT
DTSTART;TZID=America/New_York:20270223T100000
DTEND;TZID=America/New_York:20270223T113000
DTSTAMP:20260421T045954
CREATED:20260408T123816Z
LAST-MODIFIED:20260408T123816Z
UID:10002730-1803376800-1803382200@www.dorsetvt.com
SUMMARY:GMALL Presents: Behind the Headlines
DESCRIPTION:Behind the Headlines: A Weekly Conversation \nmoderated by Peter Radford \n\n\n\n\n\n\n\n\n\n\n\n\n\n\n\nJoin this engaging weekly forum to explore the deeper themes and ideas shaping today’s news. Each session features a topic introduced by the moderator\, who may share background materials and guide a thoughtful\, balanced discussion. Hear diverse perspectives\, exchange ideas\, and share your own views in a welcoming\, small-group setting. Enrollment is limited. \nRegister Here: https://greenmtnacademy.org/\n\n\n\n\n\n\n\n\n\n\n\n\n\n\n\nTen consecutive Tuesdays  \nbeginning April 21 and ending on June 23 \n10-11:30 am \nvia Zoom \n$100
URL:https://www.dorsetvt.com/dorset-events/gmall-presents-behind-the-headlines/2027-02-23/
LOCATION:VT
END:VEVENT
BEGIN:VEVENT
DTSTART;TZID=America/New_York:20270223T170000
DTEND;TZID=America/New_York:20270223T180000
DTSTAMP:20260421T045954
CREATED:20250729T121432Z
LAST-MODIFIED:20250729T121432Z
UID:10000854-1803402000-1803405600@www.dorsetvt.com
SUMMARY:Dorset Knitters at Library
DESCRIPTION:Are you an expert knitter? Can only knit and purl? Or want to learn from scratch?\nJoin the Dorset Knitters at 5pm every Tuesday!\nSnacks (finger foods) and beverages are pot-luck style! \nEmail: dorsetvillagelibrary@gmail.com if you have questions…or if you’re interested in Loom Knitting!
URL:https://www.dorsetvt.com/dorset-events/dorset-knitters-at-library/2027-02-23/
LOCATION:The Dorset Village Library\, 13 Church Street\, Dorset\, VT\, 05251\, United States
ATTACH;FMTTYPE=image/jpeg:https://www.dorsetvt.com/wp-content/uploads/2025/07/IMG_7679.jpeg
END:VEVENT
BEGIN:VEVENT
DTSTART;TZID=America/New_York:20270224T090000
DTEND;TZID=America/New_York:20270224T170000
DTSTAMP:20260421T045954
CREATED:20260211T180450Z
LAST-MODIFIED:20260211T180450Z
UID:10002084-1803459600-1803488400@www.dorsetvt.com
SUMMARY:Local’s Day @ JK Adams Kitchen Store
DESCRIPTION:Local’s Day @ JK Adams Kitchen Store \nEvery Wednesday in February & March is Local’s Day – where everyone is a local! Spin the wheel and win a discount up to 30% of on your entire purchase (some exclusions apply). Exclusions include already discounted items and electronics.
URL:https://www.dorsetvt.com/dorset-events/locals-day-jk-adams-kitchen-store/2027-02-24/
LOCATION:JK Adams\, Rte 30\, Dorset\, VT\, 05251\, United States
ATTACH;FMTTYPE=image/jpeg:https://www.dorsetvt.com/wp-content/uploads/2026/02/Locals-Day-Social-2.jpg
END:VEVENT
BEGIN:VEVENT
DTSTART;TZID=America/New_York:20270224T100000
DTEND;TZID=America/New_York:20270224T110000
DTSTAMP:20260421T045954
CREATED:20260130T200149Z
LAST-MODIFIED:20260323T175057Z
UID:10001822-1803463200-1803466800@www.dorsetvt.com
SUMMARY:Storytime at Dorset Village Library
DESCRIPTION:Story Time | Wednesdays at 10AM \nJoin us in the Children’s Room* every Wednesday at 10am for stories\, songs and play! Even the littlest kiddos learn at Story Time! No registration. \n*Please note this room is only accessible by stair\, we have no elevator.
URL:https://www.dorsetvt.com/dorset-events/storytime-at-dorset-village-library/2027-02-24/
LOCATION:The Dorset Village Library\, 13 Church Street\, Dorset\, VT\, 05251\, United States
ATTACH;FMTTYPE=image/png:https://www.dorsetvt.com/wp-content/uploads/2026/01/Story-Time-1.png
END:VEVENT
BEGIN:VEVENT
DTSTART;TZID=America/New_York:20270224T100000
DTEND;TZID=America/New_York:20270224T113000
DTSTAMP:20260421T045954
CREATED:20260128T184647Z
LAST-MODIFIED:20260302T145643Z
UID:10002217-1803463200-1803468600@www.dorsetvt.com
SUMMARY:Kits and Cubs at Merck Forest
DESCRIPTION:Kits and Cubs at Merck Forest \nWednesday and Fridays 10am-11:30am \nBring your toddlers and preschoolers (18 months to 5 years old) for an unforgettable outdoor adventure! Every session is packed with nature-themed activities\, songs\, stories\, and take-home crafts designed to spark curiosity.
URL:https://www.dorsetvt.com/dorset-events/kits-and-cubs-at-merck-forest/2027-02-24/
LOCATION:Merck Forest\, 3270 VT-315\, Rupert\, VT\, United States
ATTACH;FMTTYPE=image/jpeg:https://www.dorsetvt.com/wp-content/uploads/2026/01/IMG_0638-1.jpeg
END:VEVENT
BEGIN:VEVENT
DTSTART;TZID=America/New_York:20270226T100000
DTEND;TZID=America/New_York:20270226T113000
DTSTAMP:20260421T045954
CREATED:20260128T184647Z
LAST-MODIFIED:20260302T145643Z
UID:10002218-1803636000-1803641400@www.dorsetvt.com
SUMMARY:Kits and Cubs at Merck Forest
DESCRIPTION:Kits and Cubs at Merck Forest \nWednesday and Fridays 10am-11:30am \nBring your toddlers and preschoolers (18 months to 5 years old) for an unforgettable outdoor adventure! Every session is packed with nature-themed activities\, songs\, stories\, and take-home crafts designed to spark curiosity.
URL:https://www.dorsetvt.com/dorset-events/kits-and-cubs-at-merck-forest/2027-02-26/
LOCATION:Merck Forest\, 3270 VT-315\, Rupert\, VT\, United States
ATTACH;FMTTYPE=image/jpeg:https://www.dorsetvt.com/wp-content/uploads/2026/01/IMG_0638-1.jpeg
END:VEVENT
BEGIN:VEVENT
DTSTART;TZID=America/New_York:20270302T100000
DTEND;TZID=America/New_York:20270302T113000
DTSTAMP:20260421T045954
CREATED:20260408T123816Z
LAST-MODIFIED:20260408T123816Z
UID:10002731-1803981600-1803987000@www.dorsetvt.com
SUMMARY:GMALL Presents: Behind the Headlines
DESCRIPTION:Behind the Headlines: A Weekly Conversation \nmoderated by Peter Radford \n\n\n\n\n\n\n\n\n\n\n\n\n\n\n\nJoin this engaging weekly forum to explore the deeper themes and ideas shaping today’s news. Each session features a topic introduced by the moderator\, who may share background materials and guide a thoughtful\, balanced discussion. Hear diverse perspectives\, exchange ideas\, and share your own views in a welcoming\, small-group setting. Enrollment is limited. \nRegister Here: https://greenmtnacademy.org/\n\n\n\n\n\n\n\n\n\n\n\n\n\n\n\nTen consecutive Tuesdays  \nbeginning April 21 and ending on June 23 \n10-11:30 am \nvia Zoom \n$100
URL:https://www.dorsetvt.com/dorset-events/gmall-presents-behind-the-headlines/2027-03-02/
LOCATION:VT
END:VEVENT
BEGIN:VEVENT
DTSTART;TZID=America/New_York:20270302T170000
DTEND;TZID=America/New_York:20270302T180000
DTSTAMP:20260421T045954
CREATED:20250729T121432Z
LAST-MODIFIED:20250729T121432Z
UID:10000855-1804006800-1804010400@www.dorsetvt.com
SUMMARY:Dorset Knitters at Library
DESCRIPTION:Are you an expert knitter? Can only knit and purl? Or want to learn from scratch?\nJoin the Dorset Knitters at 5pm every Tuesday!\nSnacks (finger foods) and beverages are pot-luck style! \nEmail: dorsetvillagelibrary@gmail.com if you have questions…or if you’re interested in Loom Knitting!
URL:https://www.dorsetvt.com/dorset-events/dorset-knitters-at-library/2027-03-02/
LOCATION:The Dorset Village Library\, 13 Church Street\, Dorset\, VT\, 05251\, United States
ATTACH;FMTTYPE=image/jpeg:https://www.dorsetvt.com/wp-content/uploads/2025/07/IMG_7679.jpeg
END:VEVENT
BEGIN:VEVENT
DTSTART;TZID=America/New_York:20270303T090000
DTEND;TZID=America/New_York:20270303T170000
DTSTAMP:20260421T045954
CREATED:20260211T180450Z
LAST-MODIFIED:20260211T180450Z
UID:10002085-1804064400-1804093200@www.dorsetvt.com
SUMMARY:Local’s Day @ JK Adams Kitchen Store
DESCRIPTION:Local’s Day @ JK Adams Kitchen Store \nEvery Wednesday in February & March is Local’s Day – where everyone is a local! Spin the wheel and win a discount up to 30% of on your entire purchase (some exclusions apply). Exclusions include already discounted items and electronics.
URL:https://www.dorsetvt.com/dorset-events/locals-day-jk-adams-kitchen-store/2027-03-03/
LOCATION:JK Adams\, Rte 30\, Dorset\, VT\, 05251\, United States
ATTACH;FMTTYPE=image/jpeg:https://www.dorsetvt.com/wp-content/uploads/2026/02/Locals-Day-Social-2.jpg
END:VEVENT
BEGIN:VEVENT
DTSTART;TZID=America/New_York:20270303T100000
DTEND;TZID=America/New_York:20270303T110000
DTSTAMP:20260421T045954
CREATED:20260130T200149Z
LAST-MODIFIED:20260323T175057Z
UID:10001823-1804068000-1804071600@www.dorsetvt.com
SUMMARY:Storytime at Dorset Village Library
DESCRIPTION:Story Time | Wednesdays at 10AM \nJoin us in the Children’s Room* every Wednesday at 10am for stories\, songs and play! Even the littlest kiddos learn at Story Time! No registration. \n*Please note this room is only accessible by stair\, we have no elevator.
URL:https://www.dorsetvt.com/dorset-events/storytime-at-dorset-village-library/2027-03-03/
LOCATION:The Dorset Village Library\, 13 Church Street\, Dorset\, VT\, 05251\, United States
ATTACH;FMTTYPE=image/png:https://www.dorsetvt.com/wp-content/uploads/2026/01/Story-Time-1.png
END:VEVENT
BEGIN:VEVENT
DTSTART;TZID=America/New_York:20270303T100000
DTEND;TZID=America/New_York:20270303T113000
DTSTAMP:20260421T045954
CREATED:20260128T184647Z
LAST-MODIFIED:20260302T145643Z
UID:10002219-1804068000-1804073400@www.dorsetvt.com
SUMMARY:Kits and Cubs at Merck Forest
DESCRIPTION:Kits and Cubs at Merck Forest \nWednesday and Fridays 10am-11:30am \nBring your toddlers and preschoolers (18 months to 5 years old) for an unforgettable outdoor adventure! Every session is packed with nature-themed activities\, songs\, stories\, and take-home crafts designed to spark curiosity.
URL:https://www.dorsetvt.com/dorset-events/kits-and-cubs-at-merck-forest/2027-03-03/
LOCATION:Merck Forest\, 3270 VT-315\, Rupert\, VT\, United States
ATTACH;FMTTYPE=image/jpeg:https://www.dorsetvt.com/wp-content/uploads/2026/01/IMG_0638-1.jpeg
END:VEVENT
BEGIN:VEVENT
DTSTART;TZID=America/New_York:20270305T100000
DTEND;TZID=America/New_York:20270305T113000
DTSTAMP:20260421T045954
CREATED:20260128T184647Z
LAST-MODIFIED:20260302T145643Z
UID:10002220-1804240800-1804246200@www.dorsetvt.com
SUMMARY:Kits and Cubs at Merck Forest
DESCRIPTION:Kits and Cubs at Merck Forest \nWednesday and Fridays 10am-11:30am \nBring your toddlers and preschoolers (18 months to 5 years old) for an unforgettable outdoor adventure! Every session is packed with nature-themed activities\, songs\, stories\, and take-home crafts designed to spark curiosity.
URL:https://www.dorsetvt.com/dorset-events/kits-and-cubs-at-merck-forest/2027-03-05/
LOCATION:Merck Forest\, 3270 VT-315\, Rupert\, VT\, United States
ATTACH;FMTTYPE=image/jpeg:https://www.dorsetvt.com/wp-content/uploads/2026/01/IMG_0638-1.jpeg
END:VEVENT
BEGIN:VEVENT
DTSTART;TZID=America/New_York:20270309T100000
DTEND;TZID=America/New_York:20270309T113000
DTSTAMP:20260421T045954
CREATED:20260408T123816Z
LAST-MODIFIED:20260408T123816Z
UID:10002732-1804586400-1804591800@www.dorsetvt.com
SUMMARY:GMALL Presents: Behind the Headlines
DESCRIPTION:Behind the Headlines: A Weekly Conversation \nmoderated by Peter Radford \n\n\n\n\n\n\n\n\n\n\n\n\n\n\n\nJoin this engaging weekly forum to explore the deeper themes and ideas shaping today’s news. Each session features a topic introduced by the moderator\, who may share background materials and guide a thoughtful\, balanced discussion. Hear diverse perspectives\, exchange ideas\, and share your own views in a welcoming\, small-group setting. Enrollment is limited. \nRegister Here: https://greenmtnacademy.org/\n\n\n\n\n\n\n\n\n\n\n\n\n\n\n\nTen consecutive Tuesdays  \nbeginning April 21 and ending on June 23 \n10-11:30 am \nvia Zoom \n$100
URL:https://www.dorsetvt.com/dorset-events/gmall-presents-behind-the-headlines/2027-03-09/
LOCATION:VT
END:VEVENT
BEGIN:VEVENT
DTSTART;TZID=America/New_York:20270309T170000
DTEND;TZID=America/New_York:20270309T180000
DTSTAMP:20260421T045954
CREATED:20250729T121432Z
LAST-MODIFIED:20250729T121432Z
UID:10000856-1804611600-1804615200@www.dorsetvt.com
SUMMARY:Dorset Knitters at Library
DESCRIPTION:Are you an expert knitter? Can only knit and purl? Or want to learn from scratch?\nJoin the Dorset Knitters at 5pm every Tuesday!\nSnacks (finger foods) and beverages are pot-luck style! \nEmail: dorsetvillagelibrary@gmail.com if you have questions…or if you’re interested in Loom Knitting!
URL:https://www.dorsetvt.com/dorset-events/dorset-knitters-at-library/2027-03-09/
LOCATION:The Dorset Village Library\, 13 Church Street\, Dorset\, VT\, 05251\, United States
ATTACH;FMTTYPE=image/jpeg:https://www.dorsetvt.com/wp-content/uploads/2025/07/IMG_7679.jpeg
END:VEVENT
BEGIN:VEVENT
DTSTART;TZID=America/New_York:20270310T090000
DTEND;TZID=America/New_York:20270310T170000
DTSTAMP:20260421T045954
CREATED:20260211T180450Z
LAST-MODIFIED:20260211T180450Z
UID:10002086-1804669200-1804698000@www.dorsetvt.com
SUMMARY:Local’s Day @ JK Adams Kitchen Store
DESCRIPTION:Local’s Day @ JK Adams Kitchen Store \nEvery Wednesday in February & March is Local’s Day – where everyone is a local! Spin the wheel and win a discount up to 30% of on your entire purchase (some exclusions apply). Exclusions include already discounted items and electronics.
URL:https://www.dorsetvt.com/dorset-events/locals-day-jk-adams-kitchen-store/2027-03-10/
LOCATION:JK Adams\, Rte 30\, Dorset\, VT\, 05251\, United States
ATTACH;FMTTYPE=image/jpeg:https://www.dorsetvt.com/wp-content/uploads/2026/02/Locals-Day-Social-2.jpg
END:VEVENT
BEGIN:VEVENT
DTSTART;TZID=America/New_York:20270310T100000
DTEND;TZID=America/New_York:20270310T110000
DTSTAMP:20260421T045954
CREATED:20260130T200149Z
LAST-MODIFIED:20260323T175057Z
UID:10001824-1804672800-1804676400@www.dorsetvt.com
SUMMARY:Storytime at Dorset Village Library
DESCRIPTION:Story Time | Wednesdays at 10AM \nJoin us in the Children’s Room* every Wednesday at 10am for stories\, songs and play! Even the littlest kiddos learn at Story Time! No registration. \n*Please note this room is only accessible by stair\, we have no elevator.
URL:https://www.dorsetvt.com/dorset-events/storytime-at-dorset-village-library/2027-03-10/
LOCATION:The Dorset Village Library\, 13 Church Street\, Dorset\, VT\, 05251\, United States
ATTACH;FMTTYPE=image/png:https://www.dorsetvt.com/wp-content/uploads/2026/01/Story-Time-1.png
END:VEVENT
BEGIN:VEVENT
DTSTART;TZID=America/New_York:20270310T100000
DTEND;TZID=America/New_York:20270310T113000
DTSTAMP:20260421T045954
CREATED:20260128T184647Z
LAST-MODIFIED:20260302T145643Z
UID:10002221-1804672800-1804678200@www.dorsetvt.com
SUMMARY:Kits and Cubs at Merck Forest
DESCRIPTION:Kits and Cubs at Merck Forest \nWednesday and Fridays 10am-11:30am \nBring your toddlers and preschoolers (18 months to 5 years old) for an unforgettable outdoor adventure! Every session is packed with nature-themed activities\, songs\, stories\, and take-home crafts designed to spark curiosity.
URL:https://www.dorsetvt.com/dorset-events/kits-and-cubs-at-merck-forest/2027-03-10/
LOCATION:Merck Forest\, 3270 VT-315\, Rupert\, VT\, United States
ATTACH;FMTTYPE=image/jpeg:https://www.dorsetvt.com/wp-content/uploads/2026/01/IMG_0638-1.jpeg
END:VEVENT
END:VCALENDAR