BEGIN:VCALENDAR
VERSION:2.0
PRODID:-//Discover Dorset Vermont - ECPv6.15.20//NONSGML v1.0//EN
CALSCALE:GREGORIAN
METHOD:PUBLISH
X-WR-CALNAME:Discover Dorset Vermont
X-ORIGINAL-URL:https://www.dorsetvt.com
X-WR-CALDESC:Events for Discover Dorset Vermont
REFRESH-INTERVAL;VALUE=DURATION:PT1H
X-Robots-Tag:noindex
X-PUBLISHED-TTL:PT1H
BEGIN:VTIMEZONE
TZID:America/New_York
BEGIN:DAYLIGHT
TZOFFSETFROM:-0500
TZOFFSETTO:-0400
TZNAME:EDT
DTSTART:20260308T070000
END:DAYLIGHT
BEGIN:STANDARD
TZOFFSETFROM:-0400
TZOFFSETTO:-0500
TZNAME:EST
DTSTART:20261101T060000
END:STANDARD
BEGIN:DAYLIGHT
TZOFFSETFROM:-0500
TZOFFSETTO:-0400
TZNAME:EDT
DTSTART:20270314T070000
END:DAYLIGHT
BEGIN:STANDARD
TZOFFSETFROM:-0400
TZOFFSETTO:-0500
TZNAME:EST
DTSTART:20271107T060000
END:STANDARD
BEGIN:DAYLIGHT
TZOFFSETFROM:-0500
TZOFFSETTO:-0400
TZNAME:EDT
DTSTART:20280312T070000
END:DAYLIGHT
BEGIN:STANDARD
TZOFFSETFROM:-0400
TZOFFSETTO:-0500
TZNAME:EST
DTSTART:20281105T060000
END:STANDARD
END:VTIMEZONE
BEGIN:VEVENT
DTSTART;TZID=America/New_York:20270402T100000
DTEND;TZID=America/New_York:20270402T113000
DTSTAMP:20260421T141222
CREATED:20260128T184647Z
LAST-MODIFIED:20260302T145643Z
UID:10002228-1806660000-1806665400@www.dorsetvt.com
SUMMARY:Kits and Cubs at Merck Forest
DESCRIPTION:Kits and Cubs at Merck Forest \nWednesday and Fridays 10am-11:30am \nBring your toddlers and preschoolers (18 months to 5 years old) for an unforgettable outdoor adventure! Every session is packed with nature-themed activities\, songs\, stories\, and take-home crafts designed to spark curiosity.
URL:https://www.dorsetvt.com/dorset-events/kits-and-cubs-at-merck-forest/2027-04-02/
LOCATION:Merck Forest\, 3270 VT-315\, Rupert\, VT\, United States
ATTACH;FMTTYPE=image/jpeg:https://www.dorsetvt.com/wp-content/uploads/2026/01/IMG_0638-1.jpeg
END:VEVENT
BEGIN:VEVENT
DTSTART;TZID=America/New_York:20270406T100000
DTEND;TZID=America/New_York:20270406T113000
DTSTAMP:20260421T141222
CREATED:20260408T123816Z
LAST-MODIFIED:20260408T123816Z
UID:10002736-1807005600-1807011000@www.dorsetvt.com
SUMMARY:GMALL Presents: Behind the Headlines
DESCRIPTION:Behind the Headlines: A Weekly Conversation \nmoderated by Peter Radford \n\n\n\n\n\n\n\n\n\n\n\n\n\n\n\nJoin this engaging weekly forum to explore the deeper themes and ideas shaping today’s news. Each session features a topic introduced by the moderator\, who may share background materials and guide a thoughtful\, balanced discussion. Hear diverse perspectives\, exchange ideas\, and share your own views in a welcoming\, small-group setting. Enrollment is limited. \nRegister Here: https://greenmtnacademy.org/\n\n\n\n\n\n\n\n\n\n\n\n\n\n\n\nTen consecutive Tuesdays  \nbeginning April 21 and ending on June 23 \n10-11:30 am \nvia Zoom \n$100
URL:https://www.dorsetvt.com/dorset-events/gmall-presents-behind-the-headlines/2027-04-06/
LOCATION:VT
END:VEVENT
BEGIN:VEVENT
DTSTART;TZID=America/New_York:20270406T170000
DTEND;TZID=America/New_York:20270406T180000
DTSTAMP:20260421T141222
CREATED:20250729T121432Z
LAST-MODIFIED:20250729T121432Z
UID:10000860-1807030800-1807034400@www.dorsetvt.com
SUMMARY:Dorset Knitters at Library
DESCRIPTION:Are you an expert knitter? Can only knit and purl? Or want to learn from scratch?\nJoin the Dorset Knitters at 5pm every Tuesday!\nSnacks (finger foods) and beverages are pot-luck style! \nEmail: dorsetvillagelibrary@gmail.com if you have questions…or if you’re interested in Loom Knitting!
URL:https://www.dorsetvt.com/dorset-events/dorset-knitters-at-library/2027-04-06/
LOCATION:The Dorset Village Library\, 13 Church Street\, Dorset\, VT\, 05251\, United States
ATTACH;FMTTYPE=image/jpeg:https://www.dorsetvt.com/wp-content/uploads/2025/07/IMG_7679.jpeg
END:VEVENT
BEGIN:VEVENT
DTSTART;TZID=America/New_York:20270407T100000
DTEND;TZID=America/New_York:20270407T110000
DTSTAMP:20260421T141222
CREATED:20260130T200149Z
LAST-MODIFIED:20260323T175057Z
UID:10001828-1807092000-1807095600@www.dorsetvt.com
SUMMARY:Storytime at Dorset Village Library
DESCRIPTION:Story Time | Wednesdays at 10AM \nJoin us in the Children’s Room* every Wednesday at 10am for stories\, songs and play! Even the littlest kiddos learn at Story Time! No registration. \n*Please note this room is only accessible by stair\, we have no elevator.
URL:https://www.dorsetvt.com/dorset-events/storytime-at-dorset-village-library/2027-04-07/
LOCATION:The Dorset Village Library\, 13 Church Street\, Dorset\, VT\, 05251\, United States
ATTACH;FMTTYPE=image/png:https://www.dorsetvt.com/wp-content/uploads/2026/01/Story-Time-1.png
END:VEVENT
BEGIN:VEVENT
DTSTART;TZID=America/New_York:20270407T100000
DTEND;TZID=America/New_York:20270407T113000
DTSTAMP:20260421T141222
CREATED:20260128T184647Z
LAST-MODIFIED:20260302T145643Z
UID:10002229-1807092000-1807097400@www.dorsetvt.com
SUMMARY:Kits and Cubs at Merck Forest
DESCRIPTION:Kits and Cubs at Merck Forest \nWednesday and Fridays 10am-11:30am \nBring your toddlers and preschoolers (18 months to 5 years old) for an unforgettable outdoor adventure! Every session is packed with nature-themed activities\, songs\, stories\, and take-home crafts designed to spark curiosity.
URL:https://www.dorsetvt.com/dorset-events/kits-and-cubs-at-merck-forest/2027-04-07/
LOCATION:Merck Forest\, 3270 VT-315\, Rupert\, VT\, United States
ATTACH;FMTTYPE=image/jpeg:https://www.dorsetvt.com/wp-content/uploads/2026/01/IMG_0638-1.jpeg
END:VEVENT
BEGIN:VEVENT
DTSTART;TZID=America/New_York:20270409T100000
DTEND;TZID=America/New_York:20270409T113000
DTSTAMP:20260421T141222
CREATED:20260128T184647Z
LAST-MODIFIED:20260302T145643Z
UID:10002230-1807264800-1807270200@www.dorsetvt.com
SUMMARY:Kits and Cubs at Merck Forest
DESCRIPTION:Kits and Cubs at Merck Forest \nWednesday and Fridays 10am-11:30am \nBring your toddlers and preschoolers (18 months to 5 years old) for an unforgettable outdoor adventure! Every session is packed with nature-themed activities\, songs\, stories\, and take-home crafts designed to spark curiosity.
URL:https://www.dorsetvt.com/dorset-events/kits-and-cubs-at-merck-forest/2027-04-09/
LOCATION:Merck Forest\, 3270 VT-315\, Rupert\, VT\, United States
ATTACH;FMTTYPE=image/jpeg:https://www.dorsetvt.com/wp-content/uploads/2026/01/IMG_0638-1.jpeg
END:VEVENT
BEGIN:VEVENT
DTSTART;TZID=America/New_York:20270413T100000
DTEND;TZID=America/New_York:20270413T113000
DTSTAMP:20260421T141222
CREATED:20260408T123816Z
LAST-MODIFIED:20260408T123816Z
UID:10002737-1807610400-1807615800@www.dorsetvt.com
SUMMARY:GMALL Presents: Behind the Headlines
DESCRIPTION:Behind the Headlines: A Weekly Conversation \nmoderated by Peter Radford \n\n\n\n\n\n\n\n\n\n\n\n\n\n\n\nJoin this engaging weekly forum to explore the deeper themes and ideas shaping today’s news. Each session features a topic introduced by the moderator\, who may share background materials and guide a thoughtful\, balanced discussion. Hear diverse perspectives\, exchange ideas\, and share your own views in a welcoming\, small-group setting. Enrollment is limited. \nRegister Here: https://greenmtnacademy.org/\n\n\n\n\n\n\n\n\n\n\n\n\n\n\n\nTen consecutive Tuesdays  \nbeginning April 21 and ending on June 23 \n10-11:30 am \nvia Zoom \n$100
URL:https://www.dorsetvt.com/dorset-events/gmall-presents-behind-the-headlines/2027-04-13/
LOCATION:VT
END:VEVENT
BEGIN:VEVENT
DTSTART;TZID=America/New_York:20270413T170000
DTEND;TZID=America/New_York:20270413T180000
DTSTAMP:20260421T141222
CREATED:20250729T121432Z
LAST-MODIFIED:20250729T121432Z
UID:10000861-1807635600-1807639200@www.dorsetvt.com
SUMMARY:Dorset Knitters at Library
DESCRIPTION:Are you an expert knitter? Can only knit and purl? Or want to learn from scratch?\nJoin the Dorset Knitters at 5pm every Tuesday!\nSnacks (finger foods) and beverages are pot-luck style! \nEmail: dorsetvillagelibrary@gmail.com if you have questions…or if you’re interested in Loom Knitting!
URL:https://www.dorsetvt.com/dorset-events/dorset-knitters-at-library/2027-04-13/
LOCATION:The Dorset Village Library\, 13 Church Street\, Dorset\, VT\, 05251\, United States
ATTACH;FMTTYPE=image/jpeg:https://www.dorsetvt.com/wp-content/uploads/2025/07/IMG_7679.jpeg
END:VEVENT
BEGIN:VEVENT
DTSTART;TZID=America/New_York:20270414T100000
DTEND;TZID=America/New_York:20270414T110000
DTSTAMP:20260421T141222
CREATED:20260130T200149Z
LAST-MODIFIED:20260323T175057Z
UID:10001829-1807696800-1807700400@www.dorsetvt.com
SUMMARY:Storytime at Dorset Village Library
DESCRIPTION:Story Time | Wednesdays at 10AM \nJoin us in the Children’s Room* every Wednesday at 10am for stories\, songs and play! Even the littlest kiddos learn at Story Time! No registration. \n*Please note this room is only accessible by stair\, we have no elevator.
URL:https://www.dorsetvt.com/dorset-events/storytime-at-dorset-village-library/2027-04-14/
LOCATION:The Dorset Village Library\, 13 Church Street\, Dorset\, VT\, 05251\, United States
ATTACH;FMTTYPE=image/png:https://www.dorsetvt.com/wp-content/uploads/2026/01/Story-Time-1.png
END:VEVENT
BEGIN:VEVENT
DTSTART;TZID=America/New_York:20270414T100000
DTEND;TZID=America/New_York:20270414T113000
DTSTAMP:20260421T141222
CREATED:20260128T184647Z
LAST-MODIFIED:20260302T145643Z
UID:10002231-1807696800-1807702200@www.dorsetvt.com
SUMMARY:Kits and Cubs at Merck Forest
DESCRIPTION:Kits and Cubs at Merck Forest \nWednesday and Fridays 10am-11:30am \nBring your toddlers and preschoolers (18 months to 5 years old) for an unforgettable outdoor adventure! Every session is packed with nature-themed activities\, songs\, stories\, and take-home crafts designed to spark curiosity.
URL:https://www.dorsetvt.com/dorset-events/kits-and-cubs-at-merck-forest/2027-04-14/
LOCATION:Merck Forest\, 3270 VT-315\, Rupert\, VT\, United States
ATTACH;FMTTYPE=image/jpeg:https://www.dorsetvt.com/wp-content/uploads/2026/01/IMG_0638-1.jpeg
END:VEVENT
BEGIN:VEVENT
DTSTART;TZID=America/New_York:20270416T100000
DTEND;TZID=America/New_York:20270416T113000
DTSTAMP:20260421T141222
CREATED:20260128T184647Z
LAST-MODIFIED:20260302T145643Z
UID:10002232-1807869600-1807875000@www.dorsetvt.com
SUMMARY:Kits and Cubs at Merck Forest
DESCRIPTION:Kits and Cubs at Merck Forest \nWednesday and Fridays 10am-11:30am \nBring your toddlers and preschoolers (18 months to 5 years old) for an unforgettable outdoor adventure! Every session is packed with nature-themed activities\, songs\, stories\, and take-home crafts designed to spark curiosity.
URL:https://www.dorsetvt.com/dorset-events/kits-and-cubs-at-merck-forest/2027-04-16/
LOCATION:Merck Forest\, 3270 VT-315\, Rupert\, VT\, United States
ATTACH;FMTTYPE=image/jpeg:https://www.dorsetvt.com/wp-content/uploads/2026/01/IMG_0638-1.jpeg
END:VEVENT
BEGIN:VEVENT
DTSTART;TZID=America/New_York:20270420T100000
DTEND;TZID=America/New_York:20270420T113000
DTSTAMP:20260421T141222
CREATED:20260408T123816Z
LAST-MODIFIED:20260408T123816Z
UID:10002738-1808215200-1808220600@www.dorsetvt.com
SUMMARY:GMALL Presents: Behind the Headlines
DESCRIPTION:Behind the Headlines: A Weekly Conversation \nmoderated by Peter Radford \n\n\n\n\n\n\n\n\n\n\n\n\n\n\n\nJoin this engaging weekly forum to explore the deeper themes and ideas shaping today’s news. Each session features a topic introduced by the moderator\, who may share background materials and guide a thoughtful\, balanced discussion. Hear diverse perspectives\, exchange ideas\, and share your own views in a welcoming\, small-group setting. Enrollment is limited. \nRegister Here: https://greenmtnacademy.org/\n\n\n\n\n\n\n\n\n\n\n\n\n\n\n\nTen consecutive Tuesdays  \nbeginning April 21 and ending on June 23 \n10-11:30 am \nvia Zoom \n$100
URL:https://www.dorsetvt.com/dorset-events/gmall-presents-behind-the-headlines/2027-04-20/
LOCATION:VT
END:VEVENT
BEGIN:VEVENT
DTSTART;TZID=America/New_York:20270420T170000
DTEND;TZID=America/New_York:20270420T180000
DTSTAMP:20260421T141222
CREATED:20250729T121432Z
LAST-MODIFIED:20250729T121432Z
UID:10000862-1808240400-1808244000@www.dorsetvt.com
SUMMARY:Dorset Knitters at Library
DESCRIPTION:Are you an expert knitter? Can only knit and purl? Or want to learn from scratch?\nJoin the Dorset Knitters at 5pm every Tuesday!\nSnacks (finger foods) and beverages are pot-luck style! \nEmail: dorsetvillagelibrary@gmail.com if you have questions…or if you’re interested in Loom Knitting!
URL:https://www.dorsetvt.com/dorset-events/dorset-knitters-at-library/2027-04-20/
LOCATION:The Dorset Village Library\, 13 Church Street\, Dorset\, VT\, 05251\, United States
ATTACH;FMTTYPE=image/jpeg:https://www.dorsetvt.com/wp-content/uploads/2025/07/IMG_7679.jpeg
END:VEVENT
BEGIN:VEVENT
DTSTART;TZID=America/New_York:20270421T100000
DTEND;TZID=America/New_York:20270421T110000
DTSTAMP:20260421T141222
CREATED:20260130T200149Z
LAST-MODIFIED:20260323T175057Z
UID:10001830-1808301600-1808305200@www.dorsetvt.com
SUMMARY:Storytime at Dorset Village Library
DESCRIPTION:Story Time | Wednesdays at 10AM \nJoin us in the Children’s Room* every Wednesday at 10am for stories\, songs and play! Even the littlest kiddos learn at Story Time! No registration. \n*Please note this room is only accessible by stair\, we have no elevator.
URL:https://www.dorsetvt.com/dorset-events/storytime-at-dorset-village-library/2027-04-21/
LOCATION:The Dorset Village Library\, 13 Church Street\, Dorset\, VT\, 05251\, United States
ATTACH;FMTTYPE=image/png:https://www.dorsetvt.com/wp-content/uploads/2026/01/Story-Time-1.png
END:VEVENT
BEGIN:VEVENT
DTSTART;TZID=America/New_York:20270421T100000
DTEND;TZID=America/New_York:20270421T113000
DTSTAMP:20260421T141222
CREATED:20260128T184647Z
LAST-MODIFIED:20260302T145643Z
UID:10002233-1808301600-1808307000@www.dorsetvt.com
SUMMARY:Kits and Cubs at Merck Forest
DESCRIPTION:Kits and Cubs at Merck Forest \nWednesday and Fridays 10am-11:30am \nBring your toddlers and preschoolers (18 months to 5 years old) for an unforgettable outdoor adventure! Every session is packed with nature-themed activities\, songs\, stories\, and take-home crafts designed to spark curiosity.
URL:https://www.dorsetvt.com/dorset-events/kits-and-cubs-at-merck-forest/2027-04-21/
LOCATION:Merck Forest\, 3270 VT-315\, Rupert\, VT\, United States
ATTACH;FMTTYPE=image/jpeg:https://www.dorsetvt.com/wp-content/uploads/2026/01/IMG_0638-1.jpeg
END:VEVENT
BEGIN:VEVENT
DTSTART;TZID=America/New_York:20270423T100000
DTEND;TZID=America/New_York:20270423T113000
DTSTAMP:20260421T141222
CREATED:20260128T184647Z
LAST-MODIFIED:20260302T145643Z
UID:10002234-1808474400-1808479800@www.dorsetvt.com
SUMMARY:Kits and Cubs at Merck Forest
DESCRIPTION:Kits and Cubs at Merck Forest \nWednesday and Fridays 10am-11:30am \nBring your toddlers and preschoolers (18 months to 5 years old) for an unforgettable outdoor adventure! Every session is packed with nature-themed activities\, songs\, stories\, and take-home crafts designed to spark curiosity.
URL:https://www.dorsetvt.com/dorset-events/kits-and-cubs-at-merck-forest/2027-04-23/
LOCATION:Merck Forest\, 3270 VT-315\, Rupert\, VT\, United States
ATTACH;FMTTYPE=image/jpeg:https://www.dorsetvt.com/wp-content/uploads/2026/01/IMG_0638-1.jpeg
END:VEVENT
BEGIN:VEVENT
DTSTART;TZID=America/New_York:20270427T100000
DTEND;TZID=America/New_York:20270427T113000
DTSTAMP:20260421T141222
CREATED:20260408T123816Z
LAST-MODIFIED:20260408T123816Z
UID:10002739-1808820000-1808825400@www.dorsetvt.com
SUMMARY:GMALL Presents: Behind the Headlines
DESCRIPTION:Behind the Headlines: A Weekly Conversation \nmoderated by Peter Radford \n\n\n\n\n\n\n\n\n\n\n\n\n\n\n\nJoin this engaging weekly forum to explore the deeper themes and ideas shaping today’s news. Each session features a topic introduced by the moderator\, who may share background materials and guide a thoughtful\, balanced discussion. Hear diverse perspectives\, exchange ideas\, and share your own views in a welcoming\, small-group setting. Enrollment is limited. \nRegister Here: https://greenmtnacademy.org/\n\n\n\n\n\n\n\n\n\n\n\n\n\n\n\nTen consecutive Tuesdays  \nbeginning April 21 and ending on June 23 \n10-11:30 am \nvia Zoom \n$100
URL:https://www.dorsetvt.com/dorset-events/gmall-presents-behind-the-headlines/2027-04-27/
LOCATION:VT
END:VEVENT
BEGIN:VEVENT
DTSTART;TZID=America/New_York:20270427T170000
DTEND;TZID=America/New_York:20270427T180000
DTSTAMP:20260421T141222
CREATED:20250729T121432Z
LAST-MODIFIED:20250729T121432Z
UID:10000863-1808845200-1808848800@www.dorsetvt.com
SUMMARY:Dorset Knitters at Library
DESCRIPTION:Are you an expert knitter? Can only knit and purl? Or want to learn from scratch?\nJoin the Dorset Knitters at 5pm every Tuesday!\nSnacks (finger foods) and beverages are pot-luck style! \nEmail: dorsetvillagelibrary@gmail.com if you have questions…or if you’re interested in Loom Knitting!
URL:https://www.dorsetvt.com/dorset-events/dorset-knitters-at-library/2027-04-27/
LOCATION:The Dorset Village Library\, 13 Church Street\, Dorset\, VT\, 05251\, United States
ATTACH;FMTTYPE=image/jpeg:https://www.dorsetvt.com/wp-content/uploads/2025/07/IMG_7679.jpeg
END:VEVENT
BEGIN:VEVENT
DTSTART;TZID=America/New_York:20270428T100000
DTEND;TZID=America/New_York:20270428T110000
DTSTAMP:20260421T141222
CREATED:20260130T200149Z
LAST-MODIFIED:20260323T175057Z
UID:10001831-1808906400-1808910000@www.dorsetvt.com
SUMMARY:Storytime at Dorset Village Library
DESCRIPTION:Story Time | Wednesdays at 10AM \nJoin us in the Children’s Room* every Wednesday at 10am for stories\, songs and play! Even the littlest kiddos learn at Story Time! No registration. \n*Please note this room is only accessible by stair\, we have no elevator.
URL:https://www.dorsetvt.com/dorset-events/storytime-at-dorset-village-library/2027-04-28/
LOCATION:The Dorset Village Library\, 13 Church Street\, Dorset\, VT\, 05251\, United States
ATTACH;FMTTYPE=image/png:https://www.dorsetvt.com/wp-content/uploads/2026/01/Story-Time-1.png
END:VEVENT
BEGIN:VEVENT
DTSTART;TZID=America/New_York:20270428T100000
DTEND;TZID=America/New_York:20270428T113000
DTSTAMP:20260421T141222
CREATED:20260128T184647Z
LAST-MODIFIED:20260302T145643Z
UID:10002235-1808906400-1808911800@www.dorsetvt.com
SUMMARY:Kits and Cubs at Merck Forest
DESCRIPTION:Kits and Cubs at Merck Forest \nWednesday and Fridays 10am-11:30am \nBring your toddlers and preschoolers (18 months to 5 years old) for an unforgettable outdoor adventure! Every session is packed with nature-themed activities\, songs\, stories\, and take-home crafts designed to spark curiosity.
URL:https://www.dorsetvt.com/dorset-events/kits-and-cubs-at-merck-forest/2027-04-28/
LOCATION:Merck Forest\, 3270 VT-315\, Rupert\, VT\, United States
ATTACH;FMTTYPE=image/jpeg:https://www.dorsetvt.com/wp-content/uploads/2026/01/IMG_0638-1.jpeg
END:VEVENT
BEGIN:VEVENT
DTSTART;TZID=America/New_York:20270430T100000
DTEND;TZID=America/New_York:20270430T113000
DTSTAMP:20260421T141222
CREATED:20260128T184647Z
LAST-MODIFIED:20260302T145643Z
UID:10002236-1809079200-1809084600@www.dorsetvt.com
SUMMARY:Kits and Cubs at Merck Forest
DESCRIPTION:Kits and Cubs at Merck Forest \nWednesday and Fridays 10am-11:30am \nBring your toddlers and preschoolers (18 months to 5 years old) for an unforgettable outdoor adventure! Every session is packed with nature-themed activities\, songs\, stories\, and take-home crafts designed to spark curiosity.
URL:https://www.dorsetvt.com/dorset-events/kits-and-cubs-at-merck-forest/2027-04-30/
LOCATION:Merck Forest\, 3270 VT-315\, Rupert\, VT\, United States
ATTACH;FMTTYPE=image/jpeg:https://www.dorsetvt.com/wp-content/uploads/2026/01/IMG_0638-1.jpeg
END:VEVENT
BEGIN:VEVENT
DTSTART;TZID=America/New_York:20270504T100000
DTEND;TZID=America/New_York:20270504T113000
DTSTAMP:20260421T141222
CREATED:20260408T123816Z
LAST-MODIFIED:20260408T123816Z
UID:10002740-1809424800-1809430200@www.dorsetvt.com
SUMMARY:GMALL Presents: Behind the Headlines
DESCRIPTION:Behind the Headlines: A Weekly Conversation \nmoderated by Peter Radford \n\n\n\n\n\n\n\n\n\n\n\n\n\n\n\nJoin this engaging weekly forum to explore the deeper themes and ideas shaping today’s news. Each session features a topic introduced by the moderator\, who may share background materials and guide a thoughtful\, balanced discussion. Hear diverse perspectives\, exchange ideas\, and share your own views in a welcoming\, small-group setting. Enrollment is limited. \nRegister Here: https://greenmtnacademy.org/\n\n\n\n\n\n\n\n\n\n\n\n\n\n\n\nTen consecutive Tuesdays  \nbeginning April 21 and ending on June 23 \n10-11:30 am \nvia Zoom \n$100
URL:https://www.dorsetvt.com/dorset-events/gmall-presents-behind-the-headlines/2027-05-04/
LOCATION:VT
END:VEVENT
BEGIN:VEVENT
DTSTART;TZID=America/New_York:20270504T170000
DTEND;TZID=America/New_York:20270504T180000
DTSTAMP:20260421T141222
CREATED:20250729T121432Z
LAST-MODIFIED:20250729T121432Z
UID:10000864-1809450000-1809453600@www.dorsetvt.com
SUMMARY:Dorset Knitters at Library
DESCRIPTION:Are you an expert knitter? Can only knit and purl? Or want to learn from scratch?\nJoin the Dorset Knitters at 5pm every Tuesday!\nSnacks (finger foods) and beverages are pot-luck style! \nEmail: dorsetvillagelibrary@gmail.com if you have questions…or if you’re interested in Loom Knitting!
URL:https://www.dorsetvt.com/dorset-events/dorset-knitters-at-library/2027-05-04/
LOCATION:The Dorset Village Library\, 13 Church Street\, Dorset\, VT\, 05251\, United States
ATTACH;FMTTYPE=image/jpeg:https://www.dorsetvt.com/wp-content/uploads/2025/07/IMG_7679.jpeg
END:VEVENT
BEGIN:VEVENT
DTSTART;TZID=America/New_York:20270505T100000
DTEND;TZID=America/New_York:20270505T110000
DTSTAMP:20260421T141222
CREATED:20260130T200149Z
LAST-MODIFIED:20260323T175057Z
UID:10001832-1809511200-1809514800@www.dorsetvt.com
SUMMARY:Storytime at Dorset Village Library
DESCRIPTION:Story Time | Wednesdays at 10AM \nJoin us in the Children’s Room* every Wednesday at 10am for stories\, songs and play! Even the littlest kiddos learn at Story Time! No registration. \n*Please note this room is only accessible by stair\, we have no elevator.
URL:https://www.dorsetvt.com/dorset-events/storytime-at-dorset-village-library/2027-05-05/
LOCATION:The Dorset Village Library\, 13 Church Street\, Dorset\, VT\, 05251\, United States
ATTACH;FMTTYPE=image/png:https://www.dorsetvt.com/wp-content/uploads/2026/01/Story-Time-1.png
END:VEVENT
BEGIN:VEVENT
DTSTART;TZID=America/New_York:20270505T100000
DTEND;TZID=America/New_York:20270505T113000
DTSTAMP:20260421T141222
CREATED:20260128T184647Z
LAST-MODIFIED:20260302T145643Z
UID:10002237-1809511200-1809516600@www.dorsetvt.com
SUMMARY:Kits and Cubs at Merck Forest
DESCRIPTION:Kits and Cubs at Merck Forest \nWednesday and Fridays 10am-11:30am \nBring your toddlers and preschoolers (18 months to 5 years old) for an unforgettable outdoor adventure! Every session is packed with nature-themed activities\, songs\, stories\, and take-home crafts designed to spark curiosity.
URL:https://www.dorsetvt.com/dorset-events/kits-and-cubs-at-merck-forest/2027-05-05/
LOCATION:Merck Forest\, 3270 VT-315\, Rupert\, VT\, United States
ATTACH;FMTTYPE=image/jpeg:https://www.dorsetvt.com/wp-content/uploads/2026/01/IMG_0638-1.jpeg
END:VEVENT
BEGIN:VEVENT
DTSTART;TZID=America/New_York:20270507T100000
DTEND;TZID=America/New_York:20270507T113000
DTSTAMP:20260421T141222
CREATED:20260128T184647Z
LAST-MODIFIED:20260302T145643Z
UID:10002238-1809684000-1809689400@www.dorsetvt.com
SUMMARY:Kits and Cubs at Merck Forest
DESCRIPTION:Kits and Cubs at Merck Forest \nWednesday and Fridays 10am-11:30am \nBring your toddlers and preschoolers (18 months to 5 years old) for an unforgettable outdoor adventure! Every session is packed with nature-themed activities\, songs\, stories\, and take-home crafts designed to spark curiosity.
URL:https://www.dorsetvt.com/dorset-events/kits-and-cubs-at-merck-forest/2027-05-07/
LOCATION:Merck Forest\, 3270 VT-315\, Rupert\, VT\, United States
ATTACH;FMTTYPE=image/jpeg:https://www.dorsetvt.com/wp-content/uploads/2026/01/IMG_0638-1.jpeg
END:VEVENT
BEGIN:VEVENT
DTSTART;TZID=America/New_York:20270511T100000
DTEND;TZID=America/New_York:20270511T113000
DTSTAMP:20260421T141222
CREATED:20260408T123816Z
LAST-MODIFIED:20260408T123816Z
UID:10002741-1810029600-1810035000@www.dorsetvt.com
SUMMARY:GMALL Presents: Behind the Headlines
DESCRIPTION:Behind the Headlines: A Weekly Conversation \nmoderated by Peter Radford \n\n\n\n\n\n\n\n\n\n\n\n\n\n\n\nJoin this engaging weekly forum to explore the deeper themes and ideas shaping today’s news. Each session features a topic introduced by the moderator\, who may share background materials and guide a thoughtful\, balanced discussion. Hear diverse perspectives\, exchange ideas\, and share your own views in a welcoming\, small-group setting. Enrollment is limited. \nRegister Here: https://greenmtnacademy.org/\n\n\n\n\n\n\n\n\n\n\n\n\n\n\n\nTen consecutive Tuesdays  \nbeginning April 21 and ending on June 23 \n10-11:30 am \nvia Zoom \n$100
URL:https://www.dorsetvt.com/dorset-events/gmall-presents-behind-the-headlines/2027-05-11/
LOCATION:VT
END:VEVENT
BEGIN:VEVENT
DTSTART;TZID=America/New_York:20270511T170000
DTEND;TZID=America/New_York:20270511T180000
DTSTAMP:20260421T141222
CREATED:20250729T121432Z
LAST-MODIFIED:20250729T121432Z
UID:10000865-1810054800-1810058400@www.dorsetvt.com
SUMMARY:Dorset Knitters at Library
DESCRIPTION:Are you an expert knitter? Can only knit and purl? Or want to learn from scratch?\nJoin the Dorset Knitters at 5pm every Tuesday!\nSnacks (finger foods) and beverages are pot-luck style! \nEmail: dorsetvillagelibrary@gmail.com if you have questions…or if you’re interested in Loom Knitting!
URL:https://www.dorsetvt.com/dorset-events/dorset-knitters-at-library/2027-05-11/
LOCATION:The Dorset Village Library\, 13 Church Street\, Dorset\, VT\, 05251\, United States
ATTACH;FMTTYPE=image/jpeg:https://www.dorsetvt.com/wp-content/uploads/2025/07/IMG_7679.jpeg
END:VEVENT
BEGIN:VEVENT
DTSTART;TZID=America/New_York:20270512T100000
DTEND;TZID=America/New_York:20270512T110000
DTSTAMP:20260421T141222
CREATED:20260130T200149Z
LAST-MODIFIED:20260323T175057Z
UID:10001833-1810116000-1810119600@www.dorsetvt.com
SUMMARY:Storytime at Dorset Village Library
DESCRIPTION:Story Time | Wednesdays at 10AM \nJoin us in the Children’s Room* every Wednesday at 10am for stories\, songs and play! Even the littlest kiddos learn at Story Time! No registration. \n*Please note this room is only accessible by stair\, we have no elevator.
URL:https://www.dorsetvt.com/dorset-events/storytime-at-dorset-village-library/2027-05-12/
LOCATION:The Dorset Village Library\, 13 Church Street\, Dorset\, VT\, 05251\, United States
ATTACH;FMTTYPE=image/png:https://www.dorsetvt.com/wp-content/uploads/2026/01/Story-Time-1.png
END:VEVENT
BEGIN:VEVENT
DTSTART;TZID=America/New_York:20270512T100000
DTEND;TZID=America/New_York:20270512T113000
DTSTAMP:20260421T141222
CREATED:20260128T184647Z
LAST-MODIFIED:20260302T145643Z
UID:10002239-1810116000-1810121400@www.dorsetvt.com
SUMMARY:Kits and Cubs at Merck Forest
DESCRIPTION:Kits and Cubs at Merck Forest \nWednesday and Fridays 10am-11:30am \nBring your toddlers and preschoolers (18 months to 5 years old) for an unforgettable outdoor adventure! Every session is packed with nature-themed activities\, songs\, stories\, and take-home crafts designed to spark curiosity.
URL:https://www.dorsetvt.com/dorset-events/kits-and-cubs-at-merck-forest/2027-05-12/
LOCATION:Merck Forest\, 3270 VT-315\, Rupert\, VT\, United States
ATTACH;FMTTYPE=image/jpeg:https://www.dorsetvt.com/wp-content/uploads/2026/01/IMG_0638-1.jpeg
END:VEVENT
END:VCALENDAR