BEGIN:VCALENDAR
VERSION:2.0
PRODID:-//Discover Dorset Vermont - ECPv6.15.20//NONSGML v1.0//EN
CALSCALE:GREGORIAN
METHOD:PUBLISH
X-ORIGINAL-URL:https://www.dorsetvt.com
X-WR-CALDESC:Events for Discover Dorset Vermont
REFRESH-INTERVAL;VALUE=DURATION:PT1H
X-Robots-Tag:noindex
X-PUBLISHED-TTL:PT1H
BEGIN:VTIMEZONE
TZID:America/New_York
BEGIN:DAYLIGHT
TZOFFSETFROM:-0500
TZOFFSETTO:-0400
TZNAME:EDT
DTSTART:20260308T070000
END:DAYLIGHT
BEGIN:STANDARD
TZOFFSETFROM:-0400
TZOFFSETTO:-0500
TZNAME:EST
DTSTART:20261101T060000
END:STANDARD
BEGIN:DAYLIGHT
TZOFFSETFROM:-0500
TZOFFSETTO:-0400
TZNAME:EDT
DTSTART:20270314T070000
END:DAYLIGHT
BEGIN:STANDARD
TZOFFSETFROM:-0400
TZOFFSETTO:-0500
TZNAME:EST
DTSTART:20271107T060000
END:STANDARD
BEGIN:DAYLIGHT
TZOFFSETFROM:-0500
TZOFFSETTO:-0400
TZNAME:EDT
DTSTART:20280312T070000
END:DAYLIGHT
BEGIN:STANDARD
TZOFFSETFROM:-0400
TZOFFSETTO:-0500
TZNAME:EST
DTSTART:20281105T060000
END:STANDARD
END:VTIMEZONE
BEGIN:VEVENT
DTSTART;TZID=America/New_York:20270901T100000
DTEND;TZID=America/New_York:20270901T113000
DTSTAMP:20260422T051410
CREATED:20260128T184647Z
LAST-MODIFIED:20260302T145643Z
UID:10002271-1819792800-1819798200@www.dorsetvt.com
SUMMARY:Kits and Cubs at Merck Forest
DESCRIPTION:Kits and Cubs at Merck Forest \nWednesday and Fridays 10am-11:30am \nBring your toddlers and preschoolers (18 months to 5 years old) for an unforgettable outdoor adventure! Every session is packed with nature-themed activities\, songs\, stories\, and take-home crafts designed to spark curiosity.
URL:https://www.dorsetvt.com/dorset-events/kits-and-cubs-at-merck-forest/2027-09-01/
LOCATION:Merck Forest\, 3270 VT-315\, Rupert\, VT\, United States
ATTACH;FMTTYPE=image/jpeg:https://www.dorsetvt.com/wp-content/uploads/2026/01/IMG_0638-1.jpeg
END:VEVENT
BEGIN:VEVENT
DTSTART;TZID=America/New_York:20270903T100000
DTEND;TZID=America/New_York:20270903T113000
DTSTAMP:20260422T051410
CREATED:20260128T184647Z
LAST-MODIFIED:20260302T145643Z
UID:10002272-1819965600-1819971000@www.dorsetvt.com
SUMMARY:Kits and Cubs at Merck Forest
DESCRIPTION:Kits and Cubs at Merck Forest \nWednesday and Fridays 10am-11:30am \nBring your toddlers and preschoolers (18 months to 5 years old) for an unforgettable outdoor adventure! Every session is packed with nature-themed activities\, songs\, stories\, and take-home crafts designed to spark curiosity.
URL:https://www.dorsetvt.com/dorset-events/kits-and-cubs-at-merck-forest/2027-09-03/
LOCATION:Merck Forest\, 3270 VT-315\, Rupert\, VT\, United States
ATTACH;FMTTYPE=image/jpeg:https://www.dorsetvt.com/wp-content/uploads/2026/01/IMG_0638-1.jpeg
END:VEVENT
BEGIN:VEVENT
DTSTART;TZID=America/New_York:20270907T170000
DTEND;TZID=America/New_York:20270907T180000
DTSTAMP:20260422T051410
CREATED:20250729T121432Z
LAST-MODIFIED:20250729T121432Z
UID:10000882-1820336400-1820340000@www.dorsetvt.com
SUMMARY:Dorset Knitters at Library
DESCRIPTION:Are you an expert knitter? Can only knit and purl? Or want to learn from scratch?\nJoin the Dorset Knitters at 5pm every Tuesday!\nSnacks (finger foods) and beverages are pot-luck style! \nEmail: dorsetvillagelibrary@gmail.com if you have questions…or if you’re interested in Loom Knitting!
URL:https://www.dorsetvt.com/dorset-events/dorset-knitters-at-library/2027-09-07/
LOCATION:The Dorset Village Library\, 13 Church Street\, Dorset\, VT\, 05251\, United States
ATTACH;FMTTYPE=image/jpeg:https://www.dorsetvt.com/wp-content/uploads/2025/07/IMG_7679.jpeg
END:VEVENT
BEGIN:VEVENT
DTSTART;TZID=America/New_York:20270908T100000
DTEND;TZID=America/New_York:20270908T110000
DTSTAMP:20260422T051410
CREATED:20260130T200149Z
LAST-MODIFIED:20260323T175057Z
UID:10001850-1820397600-1820401200@www.dorsetvt.com
SUMMARY:Storytime at Dorset Village Library
DESCRIPTION:Story Time | Wednesdays at 10AM \nJoin us in the Children’s Room* every Wednesday at 10am for stories\, songs and play! Even the littlest kiddos learn at Story Time! No registration. \n*Please note this room is only accessible by stair\, we have no elevator.
URL:https://www.dorsetvt.com/dorset-events/storytime-at-dorset-village-library/2027-09-08/
LOCATION:The Dorset Village Library\, 13 Church Street\, Dorset\, VT\, 05251\, United States
ATTACH;FMTTYPE=image/png:https://www.dorsetvt.com/wp-content/uploads/2026/01/Story-Time-1.png
END:VEVENT
BEGIN:VEVENT
DTSTART;TZID=America/New_York:20270908T100000
DTEND;TZID=America/New_York:20270908T113000
DTSTAMP:20260422T051410
CREATED:20260128T184647Z
LAST-MODIFIED:20260302T145643Z
UID:10002273-1820397600-1820403000@www.dorsetvt.com
SUMMARY:Kits and Cubs at Merck Forest
DESCRIPTION:Kits and Cubs at Merck Forest \nWednesday and Fridays 10am-11:30am \nBring your toddlers and preschoolers (18 months to 5 years old) for an unforgettable outdoor adventure! Every session is packed with nature-themed activities\, songs\, stories\, and take-home crafts designed to spark curiosity.
URL:https://www.dorsetvt.com/dorset-events/kits-and-cubs-at-merck-forest/2027-09-08/
LOCATION:Merck Forest\, 3270 VT-315\, Rupert\, VT\, United States
ATTACH;FMTTYPE=image/jpeg:https://www.dorsetvt.com/wp-content/uploads/2026/01/IMG_0638-1.jpeg
END:VEVENT
BEGIN:VEVENT
DTSTART;TZID=America/New_York:20270910T100000
DTEND;TZID=America/New_York:20270910T113000
DTSTAMP:20260422T051410
CREATED:20260128T184647Z
LAST-MODIFIED:20260302T145643Z
UID:10002274-1820570400-1820575800@www.dorsetvt.com
SUMMARY:Kits and Cubs at Merck Forest
DESCRIPTION:Kits and Cubs at Merck Forest \nWednesday and Fridays 10am-11:30am \nBring your toddlers and preschoolers (18 months to 5 years old) for an unforgettable outdoor adventure! Every session is packed with nature-themed activities\, songs\, stories\, and take-home crafts designed to spark curiosity.
URL:https://www.dorsetvt.com/dorset-events/kits-and-cubs-at-merck-forest/2027-09-10/
LOCATION:Merck Forest\, 3270 VT-315\, Rupert\, VT\, United States
ATTACH;FMTTYPE=image/jpeg:https://www.dorsetvt.com/wp-content/uploads/2026/01/IMG_0638-1.jpeg
END:VEVENT
BEGIN:VEVENT
DTSTART;TZID=America/New_York:20270914T170000
DTEND;TZID=America/New_York:20270914T180000
DTSTAMP:20260422T051410
CREATED:20250729T121432Z
LAST-MODIFIED:20250729T121432Z
UID:10000883-1820941200-1820944800@www.dorsetvt.com
SUMMARY:Dorset Knitters at Library
DESCRIPTION:Are you an expert knitter? Can only knit and purl? Or want to learn from scratch?\nJoin the Dorset Knitters at 5pm every Tuesday!\nSnacks (finger foods) and beverages are pot-luck style! \nEmail: dorsetvillagelibrary@gmail.com if you have questions…or if you’re interested in Loom Knitting!
URL:https://www.dorsetvt.com/dorset-events/dorset-knitters-at-library/2027-09-14/
LOCATION:The Dorset Village Library\, 13 Church Street\, Dorset\, VT\, 05251\, United States
ATTACH;FMTTYPE=image/jpeg:https://www.dorsetvt.com/wp-content/uploads/2025/07/IMG_7679.jpeg
END:VEVENT
BEGIN:VEVENT
DTSTART;TZID=America/New_York:20270915T100000
DTEND;TZID=America/New_York:20270915T110000
DTSTAMP:20260422T051410
CREATED:20260130T200149Z
LAST-MODIFIED:20260323T175057Z
UID:10001851-1821002400-1821006000@www.dorsetvt.com
SUMMARY:Storytime at Dorset Village Library
DESCRIPTION:Story Time | Wednesdays at 10AM \nJoin us in the Children’s Room* every Wednesday at 10am for stories\, songs and play! Even the littlest kiddos learn at Story Time! No registration. \n*Please note this room is only accessible by stair\, we have no elevator.
URL:https://www.dorsetvt.com/dorset-events/storytime-at-dorset-village-library/2027-09-15/
LOCATION:The Dorset Village Library\, 13 Church Street\, Dorset\, VT\, 05251\, United States
ATTACH;FMTTYPE=image/png:https://www.dorsetvt.com/wp-content/uploads/2026/01/Story-Time-1.png
END:VEVENT
BEGIN:VEVENT
DTSTART;TZID=America/New_York:20270915T100000
DTEND;TZID=America/New_York:20270915T113000
DTSTAMP:20260422T051410
CREATED:20260128T184647Z
LAST-MODIFIED:20260302T145643Z
UID:10002275-1821002400-1821007800@www.dorsetvt.com
SUMMARY:Kits and Cubs at Merck Forest
DESCRIPTION:Kits and Cubs at Merck Forest \nWednesday and Fridays 10am-11:30am \nBring your toddlers and preschoolers (18 months to 5 years old) for an unforgettable outdoor adventure! Every session is packed with nature-themed activities\, songs\, stories\, and take-home crafts designed to spark curiosity.
URL:https://www.dorsetvt.com/dorset-events/kits-and-cubs-at-merck-forest/2027-09-15/
LOCATION:Merck Forest\, 3270 VT-315\, Rupert\, VT\, United States
ATTACH;FMTTYPE=image/jpeg:https://www.dorsetvt.com/wp-content/uploads/2026/01/IMG_0638-1.jpeg
END:VEVENT
BEGIN:VEVENT
DTSTART;TZID=America/New_York:20270917T100000
DTEND;TZID=America/New_York:20270917T113000
DTSTAMP:20260422T051410
CREATED:20260128T184647Z
LAST-MODIFIED:20260302T145643Z
UID:10002276-1821175200-1821180600@www.dorsetvt.com
SUMMARY:Kits and Cubs at Merck Forest
DESCRIPTION:Kits and Cubs at Merck Forest \nWednesday and Fridays 10am-11:30am \nBring your toddlers and preschoolers (18 months to 5 years old) for an unforgettable outdoor adventure! Every session is packed with nature-themed activities\, songs\, stories\, and take-home crafts designed to spark curiosity.
URL:https://www.dorsetvt.com/dorset-events/kits-and-cubs-at-merck-forest/2027-09-17/
LOCATION:Merck Forest\, 3270 VT-315\, Rupert\, VT\, United States
ATTACH;FMTTYPE=image/jpeg:https://www.dorsetvt.com/wp-content/uploads/2026/01/IMG_0638-1.jpeg
END:VEVENT
BEGIN:VEVENT
DTSTART;TZID=America/New_York:20270921T170000
DTEND;TZID=America/New_York:20270921T180000
DTSTAMP:20260422T051410
CREATED:20250729T121432Z
LAST-MODIFIED:20250729T121432Z
UID:10000884-1821546000-1821549600@www.dorsetvt.com
SUMMARY:Dorset Knitters at Library
DESCRIPTION:Are you an expert knitter? Can only knit and purl? Or want to learn from scratch?\nJoin the Dorset Knitters at 5pm every Tuesday!\nSnacks (finger foods) and beverages are pot-luck style! \nEmail: dorsetvillagelibrary@gmail.com if you have questions…or if you’re interested in Loom Knitting!
URL:https://www.dorsetvt.com/dorset-events/dorset-knitters-at-library/2027-09-21/
LOCATION:The Dorset Village Library\, 13 Church Street\, Dorset\, VT\, 05251\, United States
ATTACH;FMTTYPE=image/jpeg:https://www.dorsetvt.com/wp-content/uploads/2025/07/IMG_7679.jpeg
END:VEVENT
BEGIN:VEVENT
DTSTART;TZID=America/New_York:20270922T100000
DTEND;TZID=America/New_York:20270922T110000
DTSTAMP:20260422T051410
CREATED:20260130T200149Z
LAST-MODIFIED:20260323T175057Z
UID:10001852-1821607200-1821610800@www.dorsetvt.com
SUMMARY:Storytime at Dorset Village Library
DESCRIPTION:Story Time | Wednesdays at 10AM \nJoin us in the Children’s Room* every Wednesday at 10am for stories\, songs and play! Even the littlest kiddos learn at Story Time! No registration. \n*Please note this room is only accessible by stair\, we have no elevator.
URL:https://www.dorsetvt.com/dorset-events/storytime-at-dorset-village-library/2027-09-22/
LOCATION:The Dorset Village Library\, 13 Church Street\, Dorset\, VT\, 05251\, United States
ATTACH;FMTTYPE=image/png:https://www.dorsetvt.com/wp-content/uploads/2026/01/Story-Time-1.png
END:VEVENT
BEGIN:VEVENT
DTSTART;TZID=America/New_York:20270922T100000
DTEND;TZID=America/New_York:20270922T113000
DTSTAMP:20260422T051410
CREATED:20260128T184647Z
LAST-MODIFIED:20260302T145643Z
UID:10002277-1821607200-1821612600@www.dorsetvt.com
SUMMARY:Kits and Cubs at Merck Forest
DESCRIPTION:Kits and Cubs at Merck Forest \nWednesday and Fridays 10am-11:30am \nBring your toddlers and preschoolers (18 months to 5 years old) for an unforgettable outdoor adventure! Every session is packed with nature-themed activities\, songs\, stories\, and take-home crafts designed to spark curiosity.
URL:https://www.dorsetvt.com/dorset-events/kits-and-cubs-at-merck-forest/2027-09-22/
LOCATION:Merck Forest\, 3270 VT-315\, Rupert\, VT\, United States
ATTACH;FMTTYPE=image/jpeg:https://www.dorsetvt.com/wp-content/uploads/2026/01/IMG_0638-1.jpeg
END:VEVENT
BEGIN:VEVENT
DTSTART;TZID=America/New_York:20270924T100000
DTEND;TZID=America/New_York:20270924T113000
DTSTAMP:20260422T051410
CREATED:20260128T184647Z
LAST-MODIFIED:20260302T145643Z
UID:10002278-1821780000-1821785400@www.dorsetvt.com
SUMMARY:Kits and Cubs at Merck Forest
DESCRIPTION:Kits and Cubs at Merck Forest \nWednesday and Fridays 10am-11:30am \nBring your toddlers and preschoolers (18 months to 5 years old) for an unforgettable outdoor adventure! Every session is packed with nature-themed activities\, songs\, stories\, and take-home crafts designed to spark curiosity.
URL:https://www.dorsetvt.com/dorset-events/kits-and-cubs-at-merck-forest/2027-09-24/
LOCATION:Merck Forest\, 3270 VT-315\, Rupert\, VT\, United States
ATTACH;FMTTYPE=image/jpeg:https://www.dorsetvt.com/wp-content/uploads/2026/01/IMG_0638-1.jpeg
END:VEVENT
BEGIN:VEVENT
DTSTART;TZID=America/New_York:20270928T170000
DTEND;TZID=America/New_York:20270928T180000
DTSTAMP:20260422T051410
CREATED:20250729T121432Z
LAST-MODIFIED:20250729T121432Z
UID:10000885-1822150800-1822154400@www.dorsetvt.com
SUMMARY:Dorset Knitters at Library
DESCRIPTION:Are you an expert knitter? Can only knit and purl? Or want to learn from scratch?\nJoin the Dorset Knitters at 5pm every Tuesday!\nSnacks (finger foods) and beverages are pot-luck style! \nEmail: dorsetvillagelibrary@gmail.com if you have questions…or if you’re interested in Loom Knitting!
URL:https://www.dorsetvt.com/dorset-events/dorset-knitters-at-library/2027-09-28/
LOCATION:The Dorset Village Library\, 13 Church Street\, Dorset\, VT\, 05251\, United States
ATTACH;FMTTYPE=image/jpeg:https://www.dorsetvt.com/wp-content/uploads/2025/07/IMG_7679.jpeg
END:VEVENT
BEGIN:VEVENT
DTSTART;TZID=America/New_York:20270929T100000
DTEND;TZID=America/New_York:20270929T110000
DTSTAMP:20260422T051410
CREATED:20260130T200149Z
LAST-MODIFIED:20260323T175057Z
UID:10001853-1822212000-1822215600@www.dorsetvt.com
SUMMARY:Storytime at Dorset Village Library
DESCRIPTION:Story Time | Wednesdays at 10AM \nJoin us in the Children’s Room* every Wednesday at 10am for stories\, songs and play! Even the littlest kiddos learn at Story Time! No registration. \n*Please note this room is only accessible by stair\, we have no elevator.
URL:https://www.dorsetvt.com/dorset-events/storytime-at-dorset-village-library/2027-09-29/
LOCATION:The Dorset Village Library\, 13 Church Street\, Dorset\, VT\, 05251\, United States
ATTACH;FMTTYPE=image/png:https://www.dorsetvt.com/wp-content/uploads/2026/01/Story-Time-1.png
END:VEVENT
BEGIN:VEVENT
DTSTART;TZID=America/New_York:20270929T100000
DTEND;TZID=America/New_York:20270929T113000
DTSTAMP:20260422T051410
CREATED:20260128T184647Z
LAST-MODIFIED:20260302T145643Z
UID:10002279-1822212000-1822217400@www.dorsetvt.com
SUMMARY:Kits and Cubs at Merck Forest
DESCRIPTION:Kits and Cubs at Merck Forest \nWednesday and Fridays 10am-11:30am \nBring your toddlers and preschoolers (18 months to 5 years old) for an unforgettable outdoor adventure! Every session is packed with nature-themed activities\, songs\, stories\, and take-home crafts designed to spark curiosity.
URL:https://www.dorsetvt.com/dorset-events/kits-and-cubs-at-merck-forest/2027-09-29/
LOCATION:Merck Forest\, 3270 VT-315\, Rupert\, VT\, United States
ATTACH;FMTTYPE=image/jpeg:https://www.dorsetvt.com/wp-content/uploads/2026/01/IMG_0638-1.jpeg
END:VEVENT
BEGIN:VEVENT
DTSTART;TZID=America/New_York:20271001T100000
DTEND;TZID=America/New_York:20271001T113000
DTSTAMP:20260422T051410
CREATED:20260128T184647Z
LAST-MODIFIED:20260302T145643Z
UID:10002280-1822384800-1822390200@www.dorsetvt.com
SUMMARY:Kits and Cubs at Merck Forest
DESCRIPTION:Kits and Cubs at Merck Forest \nWednesday and Fridays 10am-11:30am \nBring your toddlers and preschoolers (18 months to 5 years old) for an unforgettable outdoor adventure! Every session is packed with nature-themed activities\, songs\, stories\, and take-home crafts designed to spark curiosity.
URL:https://www.dorsetvt.com/dorset-events/kits-and-cubs-at-merck-forest/2027-10-01/
LOCATION:Merck Forest\, 3270 VT-315\, Rupert\, VT\, United States
ATTACH;FMTTYPE=image/jpeg:https://www.dorsetvt.com/wp-content/uploads/2026/01/IMG_0638-1.jpeg
END:VEVENT
BEGIN:VEVENT
DTSTART;TZID=America/New_York:20271005T170000
DTEND;TZID=America/New_York:20271005T180000
DTSTAMP:20260422T051410
CREATED:20250729T121432Z
LAST-MODIFIED:20250729T121432Z
UID:10000886-1822755600-1822759200@www.dorsetvt.com
SUMMARY:Dorset Knitters at Library
DESCRIPTION:Are you an expert knitter? Can only knit and purl? Or want to learn from scratch?\nJoin the Dorset Knitters at 5pm every Tuesday!\nSnacks (finger foods) and beverages are pot-luck style! \nEmail: dorsetvillagelibrary@gmail.com if you have questions…or if you’re interested in Loom Knitting!
URL:https://www.dorsetvt.com/dorset-events/dorset-knitters-at-library/2027-10-05/
LOCATION:The Dorset Village Library\, 13 Church Street\, Dorset\, VT\, 05251\, United States
ATTACH;FMTTYPE=image/jpeg:https://www.dorsetvt.com/wp-content/uploads/2025/07/IMG_7679.jpeg
END:VEVENT
BEGIN:VEVENT
DTSTART;TZID=America/New_York:20271006T100000
DTEND;TZID=America/New_York:20271006T110000
DTSTAMP:20260422T051410
CREATED:20260130T200149Z
LAST-MODIFIED:20260323T175057Z
UID:10001854-1822816800-1822820400@www.dorsetvt.com
SUMMARY:Storytime at Dorset Village Library
DESCRIPTION:Story Time | Wednesdays at 10AM \nJoin us in the Children’s Room* every Wednesday at 10am for stories\, songs and play! Even the littlest kiddos learn at Story Time! No registration. \n*Please note this room is only accessible by stair\, we have no elevator.
URL:https://www.dorsetvt.com/dorset-events/storytime-at-dorset-village-library/2027-10-06/
LOCATION:The Dorset Village Library\, 13 Church Street\, Dorset\, VT\, 05251\, United States
ATTACH;FMTTYPE=image/png:https://www.dorsetvt.com/wp-content/uploads/2026/01/Story-Time-1.png
END:VEVENT
BEGIN:VEVENT
DTSTART;TZID=America/New_York:20271006T100000
DTEND;TZID=America/New_York:20271006T113000
DTSTAMP:20260422T051410
CREATED:20260128T184647Z
LAST-MODIFIED:20260302T145643Z
UID:10002281-1822816800-1822822200@www.dorsetvt.com
SUMMARY:Kits and Cubs at Merck Forest
DESCRIPTION:Kits and Cubs at Merck Forest \nWednesday and Fridays 10am-11:30am \nBring your toddlers and preschoolers (18 months to 5 years old) for an unforgettable outdoor adventure! Every session is packed with nature-themed activities\, songs\, stories\, and take-home crafts designed to spark curiosity.
URL:https://www.dorsetvt.com/dorset-events/kits-and-cubs-at-merck-forest/2027-10-06/
LOCATION:Merck Forest\, 3270 VT-315\, Rupert\, VT\, United States
ATTACH;FMTTYPE=image/jpeg:https://www.dorsetvt.com/wp-content/uploads/2026/01/IMG_0638-1.jpeg
END:VEVENT
BEGIN:VEVENT
DTSTART;TZID=America/New_York:20271008T100000
DTEND;TZID=America/New_York:20271008T113000
DTSTAMP:20260422T051410
CREATED:20260128T184647Z
LAST-MODIFIED:20260302T145643Z
UID:10002282-1822989600-1822995000@www.dorsetvt.com
SUMMARY:Kits and Cubs at Merck Forest
DESCRIPTION:Kits and Cubs at Merck Forest \nWednesday and Fridays 10am-11:30am \nBring your toddlers and preschoolers (18 months to 5 years old) for an unforgettable outdoor adventure! Every session is packed with nature-themed activities\, songs\, stories\, and take-home crafts designed to spark curiosity.
URL:https://www.dorsetvt.com/dorset-events/kits-and-cubs-at-merck-forest/2027-10-08/
LOCATION:Merck Forest\, 3270 VT-315\, Rupert\, VT\, United States
ATTACH;FMTTYPE=image/jpeg:https://www.dorsetvt.com/wp-content/uploads/2026/01/IMG_0638-1.jpeg
END:VEVENT
BEGIN:VEVENT
DTSTART;TZID=America/New_York:20271012T170000
DTEND;TZID=America/New_York:20271012T180000
DTSTAMP:20260422T051410
CREATED:20250729T121432Z
LAST-MODIFIED:20250729T121432Z
UID:10000887-1823360400-1823364000@www.dorsetvt.com
SUMMARY:Dorset Knitters at Library
DESCRIPTION:Are you an expert knitter? Can only knit and purl? Or want to learn from scratch?\nJoin the Dorset Knitters at 5pm every Tuesday!\nSnacks (finger foods) and beverages are pot-luck style! \nEmail: dorsetvillagelibrary@gmail.com if you have questions…or if you’re interested in Loom Knitting!
URL:https://www.dorsetvt.com/dorset-events/dorset-knitters-at-library/2027-10-12/
LOCATION:The Dorset Village Library\, 13 Church Street\, Dorset\, VT\, 05251\, United States
ATTACH;FMTTYPE=image/jpeg:https://www.dorsetvt.com/wp-content/uploads/2025/07/IMG_7679.jpeg
END:VEVENT
BEGIN:VEVENT
DTSTART;TZID=America/New_York:20271013T100000
DTEND;TZID=America/New_York:20271013T110000
DTSTAMP:20260422T051410
CREATED:20260130T200149Z
LAST-MODIFIED:20260323T175057Z
UID:10001855-1823421600-1823425200@www.dorsetvt.com
SUMMARY:Storytime at Dorset Village Library
DESCRIPTION:Story Time | Wednesdays at 10AM \nJoin us in the Children’s Room* every Wednesday at 10am for stories\, songs and play! Even the littlest kiddos learn at Story Time! No registration. \n*Please note this room is only accessible by stair\, we have no elevator.
URL:https://www.dorsetvt.com/dorset-events/storytime-at-dorset-village-library/2027-10-13/
LOCATION:The Dorset Village Library\, 13 Church Street\, Dorset\, VT\, 05251\, United States
ATTACH;FMTTYPE=image/png:https://www.dorsetvt.com/wp-content/uploads/2026/01/Story-Time-1.png
END:VEVENT
BEGIN:VEVENT
DTSTART;TZID=America/New_York:20271013T100000
DTEND;TZID=America/New_York:20271013T113000
DTSTAMP:20260422T051410
CREATED:20260128T184647Z
LAST-MODIFIED:20260302T145643Z
UID:10002283-1823421600-1823427000@www.dorsetvt.com
SUMMARY:Kits and Cubs at Merck Forest
DESCRIPTION:Kits and Cubs at Merck Forest \nWednesday and Fridays 10am-11:30am \nBring your toddlers and preschoolers (18 months to 5 years old) for an unforgettable outdoor adventure! Every session is packed with nature-themed activities\, songs\, stories\, and take-home crafts designed to spark curiosity.
URL:https://www.dorsetvt.com/dorset-events/kits-and-cubs-at-merck-forest/2027-10-13/
LOCATION:Merck Forest\, 3270 VT-315\, Rupert\, VT\, United States
ATTACH;FMTTYPE=image/jpeg:https://www.dorsetvt.com/wp-content/uploads/2026/01/IMG_0638-1.jpeg
END:VEVENT
BEGIN:VEVENT
DTSTART;TZID=America/New_York:20271015T100000
DTEND;TZID=America/New_York:20271015T113000
DTSTAMP:20260422T051410
CREATED:20260128T184647Z
LAST-MODIFIED:20260302T145643Z
UID:10002284-1823594400-1823599800@www.dorsetvt.com
SUMMARY:Kits and Cubs at Merck Forest
DESCRIPTION:Kits and Cubs at Merck Forest \nWednesday and Fridays 10am-11:30am \nBring your toddlers and preschoolers (18 months to 5 years old) for an unforgettable outdoor adventure! Every session is packed with nature-themed activities\, songs\, stories\, and take-home crafts designed to spark curiosity.
URL:https://www.dorsetvt.com/dorset-events/kits-and-cubs-at-merck-forest/2027-10-15/
LOCATION:Merck Forest\, 3270 VT-315\, Rupert\, VT\, United States
ATTACH;FMTTYPE=image/jpeg:https://www.dorsetvt.com/wp-content/uploads/2026/01/IMG_0638-1.jpeg
END:VEVENT
BEGIN:VEVENT
DTSTART;TZID=America/New_York:20271019T170000
DTEND;TZID=America/New_York:20271019T180000
DTSTAMP:20260422T051410
CREATED:20250729T121432Z
LAST-MODIFIED:20250729T121432Z
UID:10000888-1823965200-1823968800@www.dorsetvt.com
SUMMARY:Dorset Knitters at Library
DESCRIPTION:Are you an expert knitter? Can only knit and purl? Or want to learn from scratch?\nJoin the Dorset Knitters at 5pm every Tuesday!\nSnacks (finger foods) and beverages are pot-luck style! \nEmail: dorsetvillagelibrary@gmail.com if you have questions…or if you’re interested in Loom Knitting!
URL:https://www.dorsetvt.com/dorset-events/dorset-knitters-at-library/2027-10-19/
LOCATION:The Dorset Village Library\, 13 Church Street\, Dorset\, VT\, 05251\, United States
ATTACH;FMTTYPE=image/jpeg:https://www.dorsetvt.com/wp-content/uploads/2025/07/IMG_7679.jpeg
END:VEVENT
BEGIN:VEVENT
DTSTART;TZID=America/New_York:20271020T100000
DTEND;TZID=America/New_York:20271020T110000
DTSTAMP:20260422T051410
CREATED:20260130T200149Z
LAST-MODIFIED:20260323T175057Z
UID:10001856-1824026400-1824030000@www.dorsetvt.com
SUMMARY:Storytime at Dorset Village Library
DESCRIPTION:Story Time | Wednesdays at 10AM \nJoin us in the Children’s Room* every Wednesday at 10am for stories\, songs and play! Even the littlest kiddos learn at Story Time! No registration. \n*Please note this room is only accessible by stair\, we have no elevator.
URL:https://www.dorsetvt.com/dorset-events/storytime-at-dorset-village-library/2027-10-20/
LOCATION:The Dorset Village Library\, 13 Church Street\, Dorset\, VT\, 05251\, United States
ATTACH;FMTTYPE=image/png:https://www.dorsetvt.com/wp-content/uploads/2026/01/Story-Time-1.png
END:VEVENT
BEGIN:VEVENT
DTSTART;TZID=America/New_York:20271020T100000
DTEND;TZID=America/New_York:20271020T113000
DTSTAMP:20260422T051410
CREATED:20260128T184647Z
LAST-MODIFIED:20260302T145643Z
UID:10002285-1824026400-1824031800@www.dorsetvt.com
SUMMARY:Kits and Cubs at Merck Forest
DESCRIPTION:Kits and Cubs at Merck Forest \nWednesday and Fridays 10am-11:30am \nBring your toddlers and preschoolers (18 months to 5 years old) for an unforgettable outdoor adventure! Every session is packed with nature-themed activities\, songs\, stories\, and take-home crafts designed to spark curiosity.
URL:https://www.dorsetvt.com/dorset-events/kits-and-cubs-at-merck-forest/2027-10-20/
LOCATION:Merck Forest\, 3270 VT-315\, Rupert\, VT\, United States
ATTACH;FMTTYPE=image/jpeg:https://www.dorsetvt.com/wp-content/uploads/2026/01/IMG_0638-1.jpeg
END:VEVENT
BEGIN:VEVENT
DTSTART;TZID=America/New_York:20271022T100000
DTEND;TZID=America/New_York:20271022T113000
DTSTAMP:20260422T051410
CREATED:20260128T184647Z
LAST-MODIFIED:20260302T145643Z
UID:10002286-1824199200-1824204600@www.dorsetvt.com
SUMMARY:Kits and Cubs at Merck Forest
DESCRIPTION:Kits and Cubs at Merck Forest \nWednesday and Fridays 10am-11:30am \nBring your toddlers and preschoolers (18 months to 5 years old) for an unforgettable outdoor adventure! Every session is packed with nature-themed activities\, songs\, stories\, and take-home crafts designed to spark curiosity.
URL:https://www.dorsetvt.com/dorset-events/kits-and-cubs-at-merck-forest/2027-10-22/
LOCATION:Merck Forest\, 3270 VT-315\, Rupert\, VT\, United States
ATTACH;FMTTYPE=image/jpeg:https://www.dorsetvt.com/wp-content/uploads/2026/01/IMG_0638-1.jpeg
END:VEVENT
END:VCALENDAR