BEGIN:VCALENDAR
VERSION:2.0
PRODID:-//Discover Dorset Vermont - ECPv6.15.20//NONSGML v1.0//EN
CALSCALE:GREGORIAN
METHOD:PUBLISH
X-WR-CALNAME:Discover Dorset Vermont
X-ORIGINAL-URL:https://www.dorsetvt.com
X-WR-CALDESC:Events for Discover Dorset Vermont
REFRESH-INTERVAL;VALUE=DURATION:PT1H
X-Robots-Tag:noindex
X-PUBLISHED-TTL:PT1H
BEGIN:VTIMEZONE
TZID:America/New_York
BEGIN:DAYLIGHT
TZOFFSETFROM:-0500
TZOFFSETTO:-0400
TZNAME:EDT
DTSTART:20270314T070000
END:DAYLIGHT
BEGIN:STANDARD
TZOFFSETFROM:-0400
TZOFFSETTO:-0500
TZNAME:EST
DTSTART:20271107T060000
END:STANDARD
BEGIN:DAYLIGHT
TZOFFSETFROM:-0500
TZOFFSETTO:-0400
TZNAME:EDT
DTSTART:20280312T070000
END:DAYLIGHT
BEGIN:STANDARD
TZOFFSETFROM:-0400
TZOFFSETTO:-0500
TZNAME:EST
DTSTART:20281105T060000
END:STANDARD
BEGIN:DAYLIGHT
TZOFFSETFROM:-0500
TZOFFSETTO:-0400
TZNAME:EDT
DTSTART:20290311T070000
END:DAYLIGHT
BEGIN:STANDARD
TZOFFSETFROM:-0400
TZOFFSETTO:-0500
TZNAME:EST
DTSTART:20291104T060000
END:STANDARD
END:VTIMEZONE
BEGIN:VEVENT
DTSTART;TZID=America/New_York:20281025T100000
DTEND;TZID=America/New_York:20281025T113000
DTSTAMP:20260423T101447
CREATED:20260128T184647Z
LAST-MODIFIED:20260302T145643Z
UID:10002391-1856080800-1856086200@www.dorsetvt.com
SUMMARY:Kits and Cubs at Merck Forest
DESCRIPTION:Kits and Cubs at Merck Forest \nWednesday and Fridays 10am-11:30am \nBring your toddlers and preschoolers (18 months to 5 years old) for an unforgettable outdoor adventure! Every session is packed with nature-themed activities\, songs\, stories\, and take-home crafts designed to spark curiosity.
URL:https://www.dorsetvt.com/dorset-events/kits-and-cubs-at-merck-forest/2028-10-25/
LOCATION:Merck Forest\, 3270 VT-315\, Rupert\, VT\, United States
ATTACH;FMTTYPE=image/jpeg:https://www.dorsetvt.com/wp-content/uploads/2026/01/IMG_0638-1.jpeg
END:VEVENT
BEGIN:VEVENT
DTSTART;TZID=America/New_York:20281027T100000
DTEND;TZID=America/New_York:20281027T113000
DTSTAMP:20260423T101447
CREATED:20260128T184647Z
LAST-MODIFIED:20260302T145643Z
UID:10002392-1856253600-1856259000@www.dorsetvt.com
SUMMARY:Kits and Cubs at Merck Forest
DESCRIPTION:Kits and Cubs at Merck Forest \nWednesday and Fridays 10am-11:30am \nBring your toddlers and preschoolers (18 months to 5 years old) for an unforgettable outdoor adventure! Every session is packed with nature-themed activities\, songs\, stories\, and take-home crafts designed to spark curiosity.
URL:https://www.dorsetvt.com/dorset-events/kits-and-cubs-at-merck-forest/2028-10-27/
LOCATION:Merck Forest\, 3270 VT-315\, Rupert\, VT\, United States
ATTACH;FMTTYPE=image/jpeg:https://www.dorsetvt.com/wp-content/uploads/2026/01/IMG_0638-1.jpeg
END:VEVENT
BEGIN:VEVENT
DTSTART;TZID=America/New_York:20281031T170000
DTEND;TZID=America/New_York:20281031T180000
DTSTAMP:20260423T101447
CREATED:20250729T121432Z
LAST-MODIFIED:20250729T121432Z
UID:10000942-1856624400-1856628000@www.dorsetvt.com
SUMMARY:Dorset Knitters at Library
DESCRIPTION:Are you an expert knitter? Can only knit and purl? Or want to learn from scratch?\nJoin the Dorset Knitters at 5pm every Tuesday!\nSnacks (finger foods) and beverages are pot-luck style! \nEmail: dorsetvillagelibrary@gmail.com if you have questions…or if you’re interested in Loom Knitting!
URL:https://www.dorsetvt.com/dorset-events/dorset-knitters-at-library/2028-10-31/
LOCATION:The Dorset Village Library\, 13 Church Street\, Dorset\, VT\, 05251\, United States
ATTACH;FMTTYPE=image/jpeg:https://www.dorsetvt.com/wp-content/uploads/2025/07/IMG_7679.jpeg
END:VEVENT
BEGIN:VEVENT
DTSTART;TZID=America/New_York:20281101T100000
DTEND;TZID=America/New_York:20281101T110000
DTSTAMP:20260423T101447
CREATED:20260130T200149Z
LAST-MODIFIED:20260323T175057Z
UID:10001910-1856685600-1856689200@www.dorsetvt.com
SUMMARY:Storytime at Dorset Village Library
DESCRIPTION:Story Time | Wednesdays at 10AM \nJoin us in the Children’s Room* every Wednesday at 10am for stories\, songs and play! Even the littlest kiddos learn at Story Time! No registration. \n*Please note this room is only accessible by stair\, we have no elevator.
URL:https://www.dorsetvt.com/dorset-events/storytime-at-dorset-village-library/2028-11-01/
LOCATION:The Dorset Village Library\, 13 Church Street\, Dorset\, VT\, 05251\, United States
ATTACH;FMTTYPE=image/png:https://www.dorsetvt.com/wp-content/uploads/2026/01/Story-Time-1.png
END:VEVENT
BEGIN:VEVENT
DTSTART;TZID=America/New_York:20281101T100000
DTEND;TZID=America/New_York:20281101T113000
DTSTAMP:20260423T101447
CREATED:20260128T184647Z
LAST-MODIFIED:20260302T145643Z
UID:10002393-1856685600-1856691000@www.dorsetvt.com
SUMMARY:Kits and Cubs at Merck Forest
DESCRIPTION:Kits and Cubs at Merck Forest \nWednesday and Fridays 10am-11:30am \nBring your toddlers and preschoolers (18 months to 5 years old) for an unforgettable outdoor adventure! Every session is packed with nature-themed activities\, songs\, stories\, and take-home crafts designed to spark curiosity.
URL:https://www.dorsetvt.com/dorset-events/kits-and-cubs-at-merck-forest/2028-11-01/
LOCATION:Merck Forest\, 3270 VT-315\, Rupert\, VT\, United States
ATTACH;FMTTYPE=image/jpeg:https://www.dorsetvt.com/wp-content/uploads/2026/01/IMG_0638-1.jpeg
END:VEVENT
BEGIN:VEVENT
DTSTART;TZID=America/New_York:20281103T100000
DTEND;TZID=America/New_York:20281103T113000
DTSTAMP:20260423T101447
CREATED:20260128T184647Z
LAST-MODIFIED:20260302T145643Z
UID:10002394-1856858400-1856863800@www.dorsetvt.com
SUMMARY:Kits and Cubs at Merck Forest
DESCRIPTION:Kits and Cubs at Merck Forest \nWednesday and Fridays 10am-11:30am \nBring your toddlers and preschoolers (18 months to 5 years old) for an unforgettable outdoor adventure! Every session is packed with nature-themed activities\, songs\, stories\, and take-home crafts designed to spark curiosity.
URL:https://www.dorsetvt.com/dorset-events/kits-and-cubs-at-merck-forest/2028-11-03/
LOCATION:Merck Forest\, 3270 VT-315\, Rupert\, VT\, United States
ATTACH;FMTTYPE=image/jpeg:https://www.dorsetvt.com/wp-content/uploads/2026/01/IMG_0638-1.jpeg
END:VEVENT
BEGIN:VEVENT
DTSTART;TZID=America/New_York:20281107T170000
DTEND;TZID=America/New_York:20281107T180000
DTSTAMP:20260423T101447
CREATED:20250729T121432Z
LAST-MODIFIED:20250729T121432Z
UID:10000943-1857229200-1857232800@www.dorsetvt.com
SUMMARY:Dorset Knitters at Library
DESCRIPTION:Are you an expert knitter? Can only knit and purl? Or want to learn from scratch?\nJoin the Dorset Knitters at 5pm every Tuesday!\nSnacks (finger foods) and beverages are pot-luck style! \nEmail: dorsetvillagelibrary@gmail.com if you have questions…or if you’re interested in Loom Knitting!
URL:https://www.dorsetvt.com/dorset-events/dorset-knitters-at-library/2028-11-07/
LOCATION:The Dorset Village Library\, 13 Church Street\, Dorset\, VT\, 05251\, United States
ATTACH;FMTTYPE=image/jpeg:https://www.dorsetvt.com/wp-content/uploads/2025/07/IMG_7679.jpeg
END:VEVENT
BEGIN:VEVENT
DTSTART;TZID=America/New_York:20281108T100000
DTEND;TZID=America/New_York:20281108T110000
DTSTAMP:20260423T101447
CREATED:20260130T200149Z
LAST-MODIFIED:20260323T175057Z
UID:10001911-1857290400-1857294000@www.dorsetvt.com
SUMMARY:Storytime at Dorset Village Library
DESCRIPTION:Story Time | Wednesdays at 10AM \nJoin us in the Children’s Room* every Wednesday at 10am for stories\, songs and play! Even the littlest kiddos learn at Story Time! No registration. \n*Please note this room is only accessible by stair\, we have no elevator.
URL:https://www.dorsetvt.com/dorset-events/storytime-at-dorset-village-library/2028-11-08/
LOCATION:The Dorset Village Library\, 13 Church Street\, Dorset\, VT\, 05251\, United States
ATTACH;FMTTYPE=image/png:https://www.dorsetvt.com/wp-content/uploads/2026/01/Story-Time-1.png
END:VEVENT
BEGIN:VEVENT
DTSTART;TZID=America/New_York:20281108T100000
DTEND;TZID=America/New_York:20281108T113000
DTSTAMP:20260423T101447
CREATED:20260128T184647Z
LAST-MODIFIED:20260302T145643Z
UID:10002395-1857290400-1857295800@www.dorsetvt.com
SUMMARY:Kits and Cubs at Merck Forest
DESCRIPTION:Kits and Cubs at Merck Forest \nWednesday and Fridays 10am-11:30am \nBring your toddlers and preschoolers (18 months to 5 years old) for an unforgettable outdoor adventure! Every session is packed with nature-themed activities\, songs\, stories\, and take-home crafts designed to spark curiosity.
URL:https://www.dorsetvt.com/dorset-events/kits-and-cubs-at-merck-forest/2028-11-08/
LOCATION:Merck Forest\, 3270 VT-315\, Rupert\, VT\, United States
ATTACH;FMTTYPE=image/jpeg:https://www.dorsetvt.com/wp-content/uploads/2026/01/IMG_0638-1.jpeg
END:VEVENT
BEGIN:VEVENT
DTSTART;TZID=America/New_York:20281110T100000
DTEND;TZID=America/New_York:20281110T113000
DTSTAMP:20260423T101447
CREATED:20260128T184647Z
LAST-MODIFIED:20260302T145643Z
UID:10002396-1857463200-1857468600@www.dorsetvt.com
SUMMARY:Kits and Cubs at Merck Forest
DESCRIPTION:Kits and Cubs at Merck Forest \nWednesday and Fridays 10am-11:30am \nBring your toddlers and preschoolers (18 months to 5 years old) for an unforgettable outdoor adventure! Every session is packed with nature-themed activities\, songs\, stories\, and take-home crafts designed to spark curiosity.
URL:https://www.dorsetvt.com/dorset-events/kits-and-cubs-at-merck-forest/2028-11-10/
LOCATION:Merck Forest\, 3270 VT-315\, Rupert\, VT\, United States
ATTACH;FMTTYPE=image/jpeg:https://www.dorsetvt.com/wp-content/uploads/2026/01/IMG_0638-1.jpeg
END:VEVENT
BEGIN:VEVENT
DTSTART;TZID=America/New_York:20281114T170000
DTEND;TZID=America/New_York:20281114T180000
DTSTAMP:20260423T101447
CREATED:20250729T121432Z
LAST-MODIFIED:20250729T121432Z
UID:10000944-1857834000-1857837600@www.dorsetvt.com
SUMMARY:Dorset Knitters at Library
DESCRIPTION:Are you an expert knitter? Can only knit and purl? Or want to learn from scratch?\nJoin the Dorset Knitters at 5pm every Tuesday!\nSnacks (finger foods) and beverages are pot-luck style! \nEmail: dorsetvillagelibrary@gmail.com if you have questions…or if you’re interested in Loom Knitting!
URL:https://www.dorsetvt.com/dorset-events/dorset-knitters-at-library/2028-11-14/
LOCATION:The Dorset Village Library\, 13 Church Street\, Dorset\, VT\, 05251\, United States
ATTACH;FMTTYPE=image/jpeg:https://www.dorsetvt.com/wp-content/uploads/2025/07/IMG_7679.jpeg
END:VEVENT
BEGIN:VEVENT
DTSTART;TZID=America/New_York:20281115T100000
DTEND;TZID=America/New_York:20281115T110000
DTSTAMP:20260423T101447
CREATED:20260130T200149Z
LAST-MODIFIED:20260323T175057Z
UID:10001912-1857895200-1857898800@www.dorsetvt.com
SUMMARY:Storytime at Dorset Village Library
DESCRIPTION:Story Time | Wednesdays at 10AM \nJoin us in the Children’s Room* every Wednesday at 10am for stories\, songs and play! Even the littlest kiddos learn at Story Time! No registration. \n*Please note this room is only accessible by stair\, we have no elevator.
URL:https://www.dorsetvt.com/dorset-events/storytime-at-dorset-village-library/2028-11-15/
LOCATION:The Dorset Village Library\, 13 Church Street\, Dorset\, VT\, 05251\, United States
ATTACH;FMTTYPE=image/png:https://www.dorsetvt.com/wp-content/uploads/2026/01/Story-Time-1.png
END:VEVENT
BEGIN:VEVENT
DTSTART;TZID=America/New_York:20281115T100000
DTEND;TZID=America/New_York:20281115T113000
DTSTAMP:20260423T101447
CREATED:20260128T184647Z
LAST-MODIFIED:20260302T145643Z
UID:10002397-1857895200-1857900600@www.dorsetvt.com
SUMMARY:Kits and Cubs at Merck Forest
DESCRIPTION:Kits and Cubs at Merck Forest \nWednesday and Fridays 10am-11:30am \nBring your toddlers and preschoolers (18 months to 5 years old) for an unforgettable outdoor adventure! Every session is packed with nature-themed activities\, songs\, stories\, and take-home crafts designed to spark curiosity.
URL:https://www.dorsetvt.com/dorset-events/kits-and-cubs-at-merck-forest/2028-11-15/
LOCATION:Merck Forest\, 3270 VT-315\, Rupert\, VT\, United States
ATTACH;FMTTYPE=image/jpeg:https://www.dorsetvt.com/wp-content/uploads/2026/01/IMG_0638-1.jpeg
END:VEVENT
BEGIN:VEVENT
DTSTART;TZID=America/New_York:20281117T100000
DTEND;TZID=America/New_York:20281117T113000
DTSTAMP:20260423T101447
CREATED:20260128T184647Z
LAST-MODIFIED:20260302T145643Z
UID:10002398-1858068000-1858073400@www.dorsetvt.com
SUMMARY:Kits and Cubs at Merck Forest
DESCRIPTION:Kits and Cubs at Merck Forest \nWednesday and Fridays 10am-11:30am \nBring your toddlers and preschoolers (18 months to 5 years old) for an unforgettable outdoor adventure! Every session is packed with nature-themed activities\, songs\, stories\, and take-home crafts designed to spark curiosity.
URL:https://www.dorsetvt.com/dorset-events/kits-and-cubs-at-merck-forest/2028-11-17/
LOCATION:Merck Forest\, 3270 VT-315\, Rupert\, VT\, United States
ATTACH;FMTTYPE=image/jpeg:https://www.dorsetvt.com/wp-content/uploads/2026/01/IMG_0638-1.jpeg
END:VEVENT
BEGIN:VEVENT
DTSTART;TZID=America/New_York:20281121T170000
DTEND;TZID=America/New_York:20281121T180000
DTSTAMP:20260423T101447
CREATED:20250729T121432Z
LAST-MODIFIED:20250729T121432Z
UID:10000945-1858438800-1858442400@www.dorsetvt.com
SUMMARY:Dorset Knitters at Library
DESCRIPTION:Are you an expert knitter? Can only knit and purl? Or want to learn from scratch?\nJoin the Dorset Knitters at 5pm every Tuesday!\nSnacks (finger foods) and beverages are pot-luck style! \nEmail: dorsetvillagelibrary@gmail.com if you have questions…or if you’re interested in Loom Knitting!
URL:https://www.dorsetvt.com/dorset-events/dorset-knitters-at-library/2028-11-21/
LOCATION:The Dorset Village Library\, 13 Church Street\, Dorset\, VT\, 05251\, United States
ATTACH;FMTTYPE=image/jpeg:https://www.dorsetvt.com/wp-content/uploads/2025/07/IMG_7679.jpeg
END:VEVENT
BEGIN:VEVENT
DTSTART;TZID=America/New_York:20281122T100000
DTEND;TZID=America/New_York:20281122T110000
DTSTAMP:20260423T101447
CREATED:20260130T200149Z
LAST-MODIFIED:20260323T175057Z
UID:10001913-1858500000-1858503600@www.dorsetvt.com
SUMMARY:Storytime at Dorset Village Library
DESCRIPTION:Story Time | Wednesdays at 10AM \nJoin us in the Children’s Room* every Wednesday at 10am for stories\, songs and play! Even the littlest kiddos learn at Story Time! No registration. \n*Please note this room is only accessible by stair\, we have no elevator.
URL:https://www.dorsetvt.com/dorset-events/storytime-at-dorset-village-library/2028-11-22/
LOCATION:The Dorset Village Library\, 13 Church Street\, Dorset\, VT\, 05251\, United States
ATTACH;FMTTYPE=image/png:https://www.dorsetvt.com/wp-content/uploads/2026/01/Story-Time-1.png
END:VEVENT
BEGIN:VEVENT
DTSTART;TZID=America/New_York:20281122T100000
DTEND;TZID=America/New_York:20281122T113000
DTSTAMP:20260423T101447
CREATED:20260128T184647Z
LAST-MODIFIED:20260302T145643Z
UID:10002399-1858500000-1858505400@www.dorsetvt.com
SUMMARY:Kits and Cubs at Merck Forest
DESCRIPTION:Kits and Cubs at Merck Forest \nWednesday and Fridays 10am-11:30am \nBring your toddlers and preschoolers (18 months to 5 years old) for an unforgettable outdoor adventure! Every session is packed with nature-themed activities\, songs\, stories\, and take-home crafts designed to spark curiosity.
URL:https://www.dorsetvt.com/dorset-events/kits-and-cubs-at-merck-forest/2028-11-22/
LOCATION:Merck Forest\, 3270 VT-315\, Rupert\, VT\, United States
ATTACH;FMTTYPE=image/jpeg:https://www.dorsetvt.com/wp-content/uploads/2026/01/IMG_0638-1.jpeg
END:VEVENT
BEGIN:VEVENT
DTSTART;TZID=America/New_York:20281124T100000
DTEND;TZID=America/New_York:20281124T113000
DTSTAMP:20260423T101447
CREATED:20260128T184647Z
LAST-MODIFIED:20260302T145643Z
UID:10002400-1858672800-1858678200@www.dorsetvt.com
SUMMARY:Kits and Cubs at Merck Forest
DESCRIPTION:Kits and Cubs at Merck Forest \nWednesday and Fridays 10am-11:30am \nBring your toddlers and preschoolers (18 months to 5 years old) for an unforgettable outdoor adventure! Every session is packed with nature-themed activities\, songs\, stories\, and take-home crafts designed to spark curiosity.
URL:https://www.dorsetvt.com/dorset-events/kits-and-cubs-at-merck-forest/2028-11-24/
LOCATION:Merck Forest\, 3270 VT-315\, Rupert\, VT\, United States
ATTACH;FMTTYPE=image/jpeg:https://www.dorsetvt.com/wp-content/uploads/2026/01/IMG_0638-1.jpeg
END:VEVENT
BEGIN:VEVENT
DTSTART;TZID=America/New_York:20281128T170000
DTEND;TZID=America/New_York:20281128T180000
DTSTAMP:20260423T101447
CREATED:20250729T121432Z
LAST-MODIFIED:20250729T121432Z
UID:10000946-1859043600-1859047200@www.dorsetvt.com
SUMMARY:Dorset Knitters at Library
DESCRIPTION:Are you an expert knitter? Can only knit and purl? Or want to learn from scratch?\nJoin the Dorset Knitters at 5pm every Tuesday!\nSnacks (finger foods) and beverages are pot-luck style! \nEmail: dorsetvillagelibrary@gmail.com if you have questions…or if you’re interested in Loom Knitting!
URL:https://www.dorsetvt.com/dorset-events/dorset-knitters-at-library/2028-11-28/
LOCATION:The Dorset Village Library\, 13 Church Street\, Dorset\, VT\, 05251\, United States
ATTACH;FMTTYPE=image/jpeg:https://www.dorsetvt.com/wp-content/uploads/2025/07/IMG_7679.jpeg
END:VEVENT
BEGIN:VEVENT
DTSTART;TZID=America/New_York:20281129T100000
DTEND;TZID=America/New_York:20281129T110000
DTSTAMP:20260423T101447
CREATED:20260130T200149Z
LAST-MODIFIED:20260323T175057Z
UID:10001914-1859104800-1859108400@www.dorsetvt.com
SUMMARY:Storytime at Dorset Village Library
DESCRIPTION:Story Time | Wednesdays at 10AM \nJoin us in the Children’s Room* every Wednesday at 10am for stories\, songs and play! Even the littlest kiddos learn at Story Time! No registration. \n*Please note this room is only accessible by stair\, we have no elevator.
URL:https://www.dorsetvt.com/dorset-events/storytime-at-dorset-village-library/2028-11-29/
LOCATION:The Dorset Village Library\, 13 Church Street\, Dorset\, VT\, 05251\, United States
ATTACH;FMTTYPE=image/png:https://www.dorsetvt.com/wp-content/uploads/2026/01/Story-Time-1.png
END:VEVENT
BEGIN:VEVENT
DTSTART;TZID=America/New_York:20281129T100000
DTEND;TZID=America/New_York:20281129T113000
DTSTAMP:20260423T101447
CREATED:20260128T184647Z
LAST-MODIFIED:20260302T145643Z
UID:10002401-1859104800-1859110200@www.dorsetvt.com
SUMMARY:Kits and Cubs at Merck Forest
DESCRIPTION:Kits and Cubs at Merck Forest \nWednesday and Fridays 10am-11:30am \nBring your toddlers and preschoolers (18 months to 5 years old) for an unforgettable outdoor adventure! Every session is packed with nature-themed activities\, songs\, stories\, and take-home crafts designed to spark curiosity.
URL:https://www.dorsetvt.com/dorset-events/kits-and-cubs-at-merck-forest/2028-11-29/
LOCATION:Merck Forest\, 3270 VT-315\, Rupert\, VT\, United States
ATTACH;FMTTYPE=image/jpeg:https://www.dorsetvt.com/wp-content/uploads/2026/01/IMG_0638-1.jpeg
END:VEVENT
BEGIN:VEVENT
DTSTART;TZID=America/New_York:20281201T100000
DTEND;TZID=America/New_York:20281201T113000
DTSTAMP:20260423T101447
CREATED:20260128T184647Z
LAST-MODIFIED:20260302T145643Z
UID:10002402-1859277600-1859283000@www.dorsetvt.com
SUMMARY:Kits and Cubs at Merck Forest
DESCRIPTION:Kits and Cubs at Merck Forest \nWednesday and Fridays 10am-11:30am \nBring your toddlers and preschoolers (18 months to 5 years old) for an unforgettable outdoor adventure! Every session is packed with nature-themed activities\, songs\, stories\, and take-home crafts designed to spark curiosity.
URL:https://www.dorsetvt.com/dorset-events/kits-and-cubs-at-merck-forest/2028-12-01/
LOCATION:Merck Forest\, 3270 VT-315\, Rupert\, VT\, United States
ATTACH;FMTTYPE=image/jpeg:https://www.dorsetvt.com/wp-content/uploads/2026/01/IMG_0638-1.jpeg
END:VEVENT
BEGIN:VEVENT
DTSTART;TZID=America/New_York:20281205T170000
DTEND;TZID=America/New_York:20281205T180000
DTSTAMP:20260423T101447
CREATED:20250729T121432Z
LAST-MODIFIED:20250729T121432Z
UID:10000947-1859648400-1859652000@www.dorsetvt.com
SUMMARY:Dorset Knitters at Library
DESCRIPTION:Are you an expert knitter? Can only knit and purl? Or want to learn from scratch?\nJoin the Dorset Knitters at 5pm every Tuesday!\nSnacks (finger foods) and beverages are pot-luck style! \nEmail: dorsetvillagelibrary@gmail.com if you have questions…or if you’re interested in Loom Knitting!
URL:https://www.dorsetvt.com/dorset-events/dorset-knitters-at-library/2028-12-05/
LOCATION:The Dorset Village Library\, 13 Church Street\, Dorset\, VT\, 05251\, United States
ATTACH;FMTTYPE=image/jpeg:https://www.dorsetvt.com/wp-content/uploads/2025/07/IMG_7679.jpeg
END:VEVENT
BEGIN:VEVENT
DTSTART;TZID=America/New_York:20281206T100000
DTEND;TZID=America/New_York:20281206T110000
DTSTAMP:20260423T101447
CREATED:20260130T200149Z
LAST-MODIFIED:20260323T175057Z
UID:10001915-1859709600-1859713200@www.dorsetvt.com
SUMMARY:Storytime at Dorset Village Library
DESCRIPTION:Story Time | Wednesdays at 10AM \nJoin us in the Children’s Room* every Wednesday at 10am for stories\, songs and play! Even the littlest kiddos learn at Story Time! No registration. \n*Please note this room is only accessible by stair\, we have no elevator.
URL:https://www.dorsetvt.com/dorset-events/storytime-at-dorset-village-library/2028-12-06/
LOCATION:The Dorset Village Library\, 13 Church Street\, Dorset\, VT\, 05251\, United States
ATTACH;FMTTYPE=image/png:https://www.dorsetvt.com/wp-content/uploads/2026/01/Story-Time-1.png
END:VEVENT
BEGIN:VEVENT
DTSTART;TZID=America/New_York:20281206T100000
DTEND;TZID=America/New_York:20281206T113000
DTSTAMP:20260423T101447
CREATED:20260128T184647Z
LAST-MODIFIED:20260302T145643Z
UID:10002403-1859709600-1859715000@www.dorsetvt.com
SUMMARY:Kits and Cubs at Merck Forest
DESCRIPTION:Kits and Cubs at Merck Forest \nWednesday and Fridays 10am-11:30am \nBring your toddlers and preschoolers (18 months to 5 years old) for an unforgettable outdoor adventure! Every session is packed with nature-themed activities\, songs\, stories\, and take-home crafts designed to spark curiosity.
URL:https://www.dorsetvt.com/dorset-events/kits-and-cubs-at-merck-forest/2028-12-06/
LOCATION:Merck Forest\, 3270 VT-315\, Rupert\, VT\, United States
ATTACH;FMTTYPE=image/jpeg:https://www.dorsetvt.com/wp-content/uploads/2026/01/IMG_0638-1.jpeg
END:VEVENT
BEGIN:VEVENT
DTSTART;TZID=America/New_York:20281208T100000
DTEND;TZID=America/New_York:20281208T113000
DTSTAMP:20260423T101447
CREATED:20260128T184647Z
LAST-MODIFIED:20260302T145643Z
UID:10002404-1859882400-1859887800@www.dorsetvt.com
SUMMARY:Kits and Cubs at Merck Forest
DESCRIPTION:Kits and Cubs at Merck Forest \nWednesday and Fridays 10am-11:30am \nBring your toddlers and preschoolers (18 months to 5 years old) for an unforgettable outdoor adventure! Every session is packed with nature-themed activities\, songs\, stories\, and take-home crafts designed to spark curiosity.
URL:https://www.dorsetvt.com/dorset-events/kits-and-cubs-at-merck-forest/2028-12-08/
LOCATION:Merck Forest\, 3270 VT-315\, Rupert\, VT\, United States
ATTACH;FMTTYPE=image/jpeg:https://www.dorsetvt.com/wp-content/uploads/2026/01/IMG_0638-1.jpeg
END:VEVENT
BEGIN:VEVENT
DTSTART;TZID=America/New_York:20281212T170000
DTEND;TZID=America/New_York:20281212T180000
DTSTAMP:20260423T101447
CREATED:20250729T121432Z
LAST-MODIFIED:20250729T121432Z
UID:10000948-1860253200-1860256800@www.dorsetvt.com
SUMMARY:Dorset Knitters at Library
DESCRIPTION:Are you an expert knitter? Can only knit and purl? Or want to learn from scratch?\nJoin the Dorset Knitters at 5pm every Tuesday!\nSnacks (finger foods) and beverages are pot-luck style! \nEmail: dorsetvillagelibrary@gmail.com if you have questions…or if you’re interested in Loom Knitting!
URL:https://www.dorsetvt.com/dorset-events/dorset-knitters-at-library/2028-12-12/
LOCATION:The Dorset Village Library\, 13 Church Street\, Dorset\, VT\, 05251\, United States
ATTACH;FMTTYPE=image/jpeg:https://www.dorsetvt.com/wp-content/uploads/2025/07/IMG_7679.jpeg
END:VEVENT
BEGIN:VEVENT
DTSTART;TZID=America/New_York:20281213T100000
DTEND;TZID=America/New_York:20281213T110000
DTSTAMP:20260423T101447
CREATED:20260130T200149Z
LAST-MODIFIED:20260323T175057Z
UID:10001916-1860314400-1860318000@www.dorsetvt.com
SUMMARY:Storytime at Dorset Village Library
DESCRIPTION:Story Time | Wednesdays at 10AM \nJoin us in the Children’s Room* every Wednesday at 10am for stories\, songs and play! Even the littlest kiddos learn at Story Time! No registration. \n*Please note this room is only accessible by stair\, we have no elevator.
URL:https://www.dorsetvt.com/dorset-events/storytime-at-dorset-village-library/2028-12-13/
LOCATION:The Dorset Village Library\, 13 Church Street\, Dorset\, VT\, 05251\, United States
ATTACH;FMTTYPE=image/png:https://www.dorsetvt.com/wp-content/uploads/2026/01/Story-Time-1.png
END:VEVENT
BEGIN:VEVENT
DTSTART;TZID=America/New_York:20281213T100000
DTEND;TZID=America/New_York:20281213T113000
DTSTAMP:20260423T101447
CREATED:20260128T184647Z
LAST-MODIFIED:20260302T145643Z
UID:10002405-1860314400-1860319800@www.dorsetvt.com
SUMMARY:Kits and Cubs at Merck Forest
DESCRIPTION:Kits and Cubs at Merck Forest \nWednesday and Fridays 10am-11:30am \nBring your toddlers and preschoolers (18 months to 5 years old) for an unforgettable outdoor adventure! Every session is packed with nature-themed activities\, songs\, stories\, and take-home crafts designed to spark curiosity.
URL:https://www.dorsetvt.com/dorset-events/kits-and-cubs-at-merck-forest/2028-12-13/
LOCATION:Merck Forest\, 3270 VT-315\, Rupert\, VT\, United States
ATTACH;FMTTYPE=image/jpeg:https://www.dorsetvt.com/wp-content/uploads/2026/01/IMG_0638-1.jpeg
END:VEVENT
BEGIN:VEVENT
DTSTART;TZID=America/New_York:20281215T100000
DTEND;TZID=America/New_York:20281215T113000
DTSTAMP:20260423T101447
CREATED:20260128T184647Z
LAST-MODIFIED:20260302T145643Z
UID:10002406-1860487200-1860492600@www.dorsetvt.com
SUMMARY:Kits and Cubs at Merck Forest
DESCRIPTION:Kits and Cubs at Merck Forest \nWednesday and Fridays 10am-11:30am \nBring your toddlers and preschoolers (18 months to 5 years old) for an unforgettable outdoor adventure! Every session is packed with nature-themed activities\, songs\, stories\, and take-home crafts designed to spark curiosity.
URL:https://www.dorsetvt.com/dorset-events/kits-and-cubs-at-merck-forest/2028-12-15/
LOCATION:Merck Forest\, 3270 VT-315\, Rupert\, VT\, United States
ATTACH;FMTTYPE=image/jpeg:https://www.dorsetvt.com/wp-content/uploads/2026/01/IMG_0638-1.jpeg
END:VEVENT
END:VCALENDAR