BEGIN:VCALENDAR
VERSION:2.0
PRODID:-//Discover Dorset Vermont - ECPv6.15.20//NONSGML v1.0//EN
CALSCALE:GREGORIAN
METHOD:PUBLISH
X-WR-CALNAME:Discover Dorset Vermont
X-ORIGINAL-URL:https://www.dorsetvt.com
X-WR-CALDESC:Events for Discover Dorset Vermont
REFRESH-INTERVAL;VALUE=DURATION:PT1H
X-Robots-Tag:noindex
X-PUBLISHED-TTL:PT1H
BEGIN:VTIMEZONE
TZID:America/New_York
BEGIN:DAYLIGHT
TZOFFSETFROM:-0500
TZOFFSETTO:-0400
TZNAME:EDT
DTSTART:20270314T070000
END:DAYLIGHT
BEGIN:STANDARD
TZOFFSETFROM:-0400
TZOFFSETTO:-0500
TZNAME:EST
DTSTART:20271107T060000
END:STANDARD
BEGIN:DAYLIGHT
TZOFFSETFROM:-0500
TZOFFSETTO:-0400
TZNAME:EDT
DTSTART:20280312T070000
END:DAYLIGHT
BEGIN:STANDARD
TZOFFSETFROM:-0400
TZOFFSETTO:-0500
TZNAME:EST
DTSTART:20281105T060000
END:STANDARD
BEGIN:DAYLIGHT
TZOFFSETFROM:-0500
TZOFFSETTO:-0400
TZNAME:EDT
DTSTART:20290311T070000
END:DAYLIGHT
BEGIN:STANDARD
TZOFFSETFROM:-0400
TZOFFSETTO:-0500
TZNAME:EST
DTSTART:20291104T060000
END:STANDARD
BEGIN:DAYLIGHT
TZOFFSETFROM:-0500
TZOFFSETTO:-0400
TZNAME:EDT
DTSTART:20300310T070000
END:DAYLIGHT
BEGIN:STANDARD
TZOFFSETFROM:-0400
TZOFFSETTO:-0500
TZNAME:EST
DTSTART:20301103T060000
END:STANDARD
END:VTIMEZONE
BEGIN:VEVENT
DTSTART;TZID=America/New_York:20281227T100000
DTEND;TZID=America/New_York:20281227T113000
DTSTAMP:20260423T135805
CREATED:20260128T184647Z
LAST-MODIFIED:20260302T145643Z
UID:10002409-1861524000-1861529400@www.dorsetvt.com
SUMMARY:Kits and Cubs at Merck Forest
DESCRIPTION:Kits and Cubs at Merck Forest \nWednesday and Fridays 10am-11:30am \nBring your toddlers and preschoolers (18 months to 5 years old) for an unforgettable outdoor adventure! Every session is packed with nature-themed activities\, songs\, stories\, and take-home crafts designed to spark curiosity.
URL:https://www.dorsetvt.com/dorset-events/kits-and-cubs-at-merck-forest/2028-12-27/
LOCATION:Merck Forest\, 3270 VT-315\, Rupert\, VT\, United States
ATTACH;FMTTYPE=image/jpeg:https://www.dorsetvt.com/wp-content/uploads/2026/01/IMG_0638-1.jpeg
END:VEVENT
BEGIN:VEVENT
DTSTART;TZID=America/New_York:20281229T100000
DTEND;TZID=America/New_York:20281229T113000
DTSTAMP:20260423T135805
CREATED:20260128T184647Z
LAST-MODIFIED:20260302T145643Z
UID:10002410-1861696800-1861702200@www.dorsetvt.com
SUMMARY:Kits and Cubs at Merck Forest
DESCRIPTION:Kits and Cubs at Merck Forest \nWednesday and Fridays 10am-11:30am \nBring your toddlers and preschoolers (18 months to 5 years old) for an unforgettable outdoor adventure! Every session is packed with nature-themed activities\, songs\, stories\, and take-home crafts designed to spark curiosity.
URL:https://www.dorsetvt.com/dorset-events/kits-and-cubs-at-merck-forest/2028-12-29/
LOCATION:Merck Forest\, 3270 VT-315\, Rupert\, VT\, United States
ATTACH;FMTTYPE=image/jpeg:https://www.dorsetvt.com/wp-content/uploads/2026/01/IMG_0638-1.jpeg
END:VEVENT
BEGIN:VEVENT
DTSTART;TZID=America/New_York:20290102T170000
DTEND;TZID=America/New_York:20290102T180000
DTSTAMP:20260423T135805
CREATED:20250729T121432Z
LAST-MODIFIED:20250729T121432Z
UID:10000951-1862067600-1862071200@www.dorsetvt.com
SUMMARY:Dorset Knitters at Library
DESCRIPTION:Are you an expert knitter? Can only knit and purl? Or want to learn from scratch?\nJoin the Dorset Knitters at 5pm every Tuesday!\nSnacks (finger foods) and beverages are pot-luck style! \nEmail: dorsetvillagelibrary@gmail.com if you have questions…or if you’re interested in Loom Knitting!
URL:https://www.dorsetvt.com/dorset-events/dorset-knitters-at-library/2029-01-02/
LOCATION:The Dorset Village Library\, 13 Church Street\, Dorset\, VT\, 05251\, United States
ATTACH;FMTTYPE=image/jpeg:https://www.dorsetvt.com/wp-content/uploads/2025/07/IMG_7679.jpeg
END:VEVENT
BEGIN:VEVENT
DTSTART;TZID=America/New_York:20290103T100000
DTEND;TZID=America/New_York:20290103T110000
DTSTAMP:20260423T135805
CREATED:20260130T200149Z
LAST-MODIFIED:20260323T175057Z
UID:10001919-1862128800-1862132400@www.dorsetvt.com
SUMMARY:Storytime at Dorset Village Library
DESCRIPTION:Story Time | Wednesdays at 10AM \nJoin us in the Children’s Room* every Wednesday at 10am for stories\, songs and play! Even the littlest kiddos learn at Story Time! No registration. \n*Please note this room is only accessible by stair\, we have no elevator.
URL:https://www.dorsetvt.com/dorset-events/storytime-at-dorset-village-library/2029-01-03/
LOCATION:The Dorset Village Library\, 13 Church Street\, Dorset\, VT\, 05251\, United States
ATTACH;FMTTYPE=image/png:https://www.dorsetvt.com/wp-content/uploads/2026/01/Story-Time-1.png
END:VEVENT
BEGIN:VEVENT
DTSTART;TZID=America/New_York:20290103T100000
DTEND;TZID=America/New_York:20290103T113000
DTSTAMP:20260423T135805
CREATED:20260128T184647Z
LAST-MODIFIED:20260302T145643Z
UID:10002411-1862128800-1862134200@www.dorsetvt.com
SUMMARY:Kits and Cubs at Merck Forest
DESCRIPTION:Kits and Cubs at Merck Forest \nWednesday and Fridays 10am-11:30am \nBring your toddlers and preschoolers (18 months to 5 years old) for an unforgettable outdoor adventure! Every session is packed with nature-themed activities\, songs\, stories\, and take-home crafts designed to spark curiosity.
URL:https://www.dorsetvt.com/dorset-events/kits-and-cubs-at-merck-forest/2029-01-03/
LOCATION:Merck Forest\, 3270 VT-315\, Rupert\, VT\, United States
ATTACH;FMTTYPE=image/jpeg:https://www.dorsetvt.com/wp-content/uploads/2026/01/IMG_0638-1.jpeg
END:VEVENT
BEGIN:VEVENT
DTSTART;TZID=America/New_York:20290105T100000
DTEND;TZID=America/New_York:20290105T113000
DTSTAMP:20260423T135805
CREATED:20260128T184647Z
LAST-MODIFIED:20260302T145643Z
UID:10002412-1862301600-1862307000@www.dorsetvt.com
SUMMARY:Kits and Cubs at Merck Forest
DESCRIPTION:Kits and Cubs at Merck Forest \nWednesday and Fridays 10am-11:30am \nBring your toddlers and preschoolers (18 months to 5 years old) for an unforgettable outdoor adventure! Every session is packed with nature-themed activities\, songs\, stories\, and take-home crafts designed to spark curiosity.
URL:https://www.dorsetvt.com/dorset-events/kits-and-cubs-at-merck-forest/2029-01-05/
LOCATION:Merck Forest\, 3270 VT-315\, Rupert\, VT\, United States
ATTACH;FMTTYPE=image/jpeg:https://www.dorsetvt.com/wp-content/uploads/2026/01/IMG_0638-1.jpeg
END:VEVENT
BEGIN:VEVENT
DTSTART;TZID=America/New_York:20290109T170000
DTEND;TZID=America/New_York:20290109T180000
DTSTAMP:20260423T135805
CREATED:20250729T121432Z
LAST-MODIFIED:20250729T121432Z
UID:10000952-1862672400-1862676000@www.dorsetvt.com
SUMMARY:Dorset Knitters at Library
DESCRIPTION:Are you an expert knitter? Can only knit and purl? Or want to learn from scratch?\nJoin the Dorset Knitters at 5pm every Tuesday!\nSnacks (finger foods) and beverages are pot-luck style! \nEmail: dorsetvillagelibrary@gmail.com if you have questions…or if you’re interested in Loom Knitting!
URL:https://www.dorsetvt.com/dorset-events/dorset-knitters-at-library/2029-01-09/
LOCATION:The Dorset Village Library\, 13 Church Street\, Dorset\, VT\, 05251\, United States
ATTACH;FMTTYPE=image/jpeg:https://www.dorsetvt.com/wp-content/uploads/2025/07/IMG_7679.jpeg
END:VEVENT
BEGIN:VEVENT
DTSTART;TZID=America/New_York:20290110T100000
DTEND;TZID=America/New_York:20290110T110000
DTSTAMP:20260423T135805
CREATED:20260130T200149Z
LAST-MODIFIED:20260323T175057Z
UID:10001920-1862733600-1862737200@www.dorsetvt.com
SUMMARY:Storytime at Dorset Village Library
DESCRIPTION:Story Time | Wednesdays at 10AM \nJoin us in the Children’s Room* every Wednesday at 10am for stories\, songs and play! Even the littlest kiddos learn at Story Time! No registration. \n*Please note this room is only accessible by stair\, we have no elevator.
URL:https://www.dorsetvt.com/dorset-events/storytime-at-dorset-village-library/2029-01-10/
LOCATION:The Dorset Village Library\, 13 Church Street\, Dorset\, VT\, 05251\, United States
ATTACH;FMTTYPE=image/png:https://www.dorsetvt.com/wp-content/uploads/2026/01/Story-Time-1.png
END:VEVENT
BEGIN:VEVENT
DTSTART;TZID=America/New_York:20290110T100000
DTEND;TZID=America/New_York:20290110T113000
DTSTAMP:20260423T135805
CREATED:20260128T184647Z
LAST-MODIFIED:20260302T145643Z
UID:10002413-1862733600-1862739000@www.dorsetvt.com
SUMMARY:Kits and Cubs at Merck Forest
DESCRIPTION:Kits and Cubs at Merck Forest \nWednesday and Fridays 10am-11:30am \nBring your toddlers and preschoolers (18 months to 5 years old) for an unforgettable outdoor adventure! Every session is packed with nature-themed activities\, songs\, stories\, and take-home crafts designed to spark curiosity.
URL:https://www.dorsetvt.com/dorset-events/kits-and-cubs-at-merck-forest/2029-01-10/
LOCATION:Merck Forest\, 3270 VT-315\, Rupert\, VT\, United States
ATTACH;FMTTYPE=image/jpeg:https://www.dorsetvt.com/wp-content/uploads/2026/01/IMG_0638-1.jpeg
END:VEVENT
BEGIN:VEVENT
DTSTART;TZID=America/New_York:20290112T100000
DTEND;TZID=America/New_York:20290112T113000
DTSTAMP:20260423T135805
CREATED:20260128T184647Z
LAST-MODIFIED:20260302T145643Z
UID:10002414-1862906400-1862911800@www.dorsetvt.com
SUMMARY:Kits and Cubs at Merck Forest
DESCRIPTION:Kits and Cubs at Merck Forest \nWednesday and Fridays 10am-11:30am \nBring your toddlers and preschoolers (18 months to 5 years old) for an unforgettable outdoor adventure! Every session is packed with nature-themed activities\, songs\, stories\, and take-home crafts designed to spark curiosity.
URL:https://www.dorsetvt.com/dorset-events/kits-and-cubs-at-merck-forest/2029-01-12/
LOCATION:Merck Forest\, 3270 VT-315\, Rupert\, VT\, United States
ATTACH;FMTTYPE=image/jpeg:https://www.dorsetvt.com/wp-content/uploads/2026/01/IMG_0638-1.jpeg
END:VEVENT
BEGIN:VEVENT
DTSTART;TZID=America/New_York:20290116T170000
DTEND;TZID=America/New_York:20290116T180000
DTSTAMP:20260423T135805
CREATED:20250729T121432Z
LAST-MODIFIED:20250729T121432Z
UID:10000953-1863277200-1863280800@www.dorsetvt.com
SUMMARY:Dorset Knitters at Library
DESCRIPTION:Are you an expert knitter? Can only knit and purl? Or want to learn from scratch?\nJoin the Dorset Knitters at 5pm every Tuesday!\nSnacks (finger foods) and beverages are pot-luck style! \nEmail: dorsetvillagelibrary@gmail.com if you have questions…or if you’re interested in Loom Knitting!
URL:https://www.dorsetvt.com/dorset-events/dorset-knitters-at-library/2029-01-16/
LOCATION:The Dorset Village Library\, 13 Church Street\, Dorset\, VT\, 05251\, United States
ATTACH;FMTTYPE=image/jpeg:https://www.dorsetvt.com/wp-content/uploads/2025/07/IMG_7679.jpeg
END:VEVENT
BEGIN:VEVENT
DTSTART;TZID=America/New_York:20290117T100000
DTEND;TZID=America/New_York:20290117T110000
DTSTAMP:20260423T135805
CREATED:20260130T200149Z
LAST-MODIFIED:20260323T175057Z
UID:10001921-1863338400-1863342000@www.dorsetvt.com
SUMMARY:Storytime at Dorset Village Library
DESCRIPTION:Story Time | Wednesdays at 10AM \nJoin us in the Children’s Room* every Wednesday at 10am for stories\, songs and play! Even the littlest kiddos learn at Story Time! No registration. \n*Please note this room is only accessible by stair\, we have no elevator.
URL:https://www.dorsetvt.com/dorset-events/storytime-at-dorset-village-library/2029-01-17/
LOCATION:The Dorset Village Library\, 13 Church Street\, Dorset\, VT\, 05251\, United States
ATTACH;FMTTYPE=image/png:https://www.dorsetvt.com/wp-content/uploads/2026/01/Story-Time-1.png
END:VEVENT
BEGIN:VEVENT
DTSTART;TZID=America/New_York:20290117T100000
DTEND;TZID=America/New_York:20290117T113000
DTSTAMP:20260423T135805
CREATED:20260128T184647Z
LAST-MODIFIED:20260302T145643Z
UID:10002415-1863338400-1863343800@www.dorsetvt.com
SUMMARY:Kits and Cubs at Merck Forest
DESCRIPTION:Kits and Cubs at Merck Forest \nWednesday and Fridays 10am-11:30am \nBring your toddlers and preschoolers (18 months to 5 years old) for an unforgettable outdoor adventure! Every session is packed with nature-themed activities\, songs\, stories\, and take-home crafts designed to spark curiosity.
URL:https://www.dorsetvt.com/dorset-events/kits-and-cubs-at-merck-forest/2029-01-17/
LOCATION:Merck Forest\, 3270 VT-315\, Rupert\, VT\, United States
ATTACH;FMTTYPE=image/jpeg:https://www.dorsetvt.com/wp-content/uploads/2026/01/IMG_0638-1.jpeg
END:VEVENT
BEGIN:VEVENT
DTSTART;TZID=America/New_York:20290119T100000
DTEND;TZID=America/New_York:20290119T113000
DTSTAMP:20260423T135805
CREATED:20260128T184647Z
LAST-MODIFIED:20260302T145643Z
UID:10002416-1863511200-1863516600@www.dorsetvt.com
SUMMARY:Kits and Cubs at Merck Forest
DESCRIPTION:Kits and Cubs at Merck Forest \nWednesday and Fridays 10am-11:30am \nBring your toddlers and preschoolers (18 months to 5 years old) for an unforgettable outdoor adventure! Every session is packed with nature-themed activities\, songs\, stories\, and take-home crafts designed to spark curiosity.
URL:https://www.dorsetvt.com/dorset-events/kits-and-cubs-at-merck-forest/2029-01-19/
LOCATION:Merck Forest\, 3270 VT-315\, Rupert\, VT\, United States
ATTACH;FMTTYPE=image/jpeg:https://www.dorsetvt.com/wp-content/uploads/2026/01/IMG_0638-1.jpeg
END:VEVENT
BEGIN:VEVENT
DTSTART;TZID=America/New_York:20290123T170000
DTEND;TZID=America/New_York:20290123T180000
DTSTAMP:20260423T135805
CREATED:20250729T121432Z
LAST-MODIFIED:20250729T121432Z
UID:10000954-1863882000-1863885600@www.dorsetvt.com
SUMMARY:Dorset Knitters at Library
DESCRIPTION:Are you an expert knitter? Can only knit and purl? Or want to learn from scratch?\nJoin the Dorset Knitters at 5pm every Tuesday!\nSnacks (finger foods) and beverages are pot-luck style! \nEmail: dorsetvillagelibrary@gmail.com if you have questions…or if you’re interested in Loom Knitting!
URL:https://www.dorsetvt.com/dorset-events/dorset-knitters-at-library/2029-01-23/
LOCATION:The Dorset Village Library\, 13 Church Street\, Dorset\, VT\, 05251\, United States
ATTACH;FMTTYPE=image/jpeg:https://www.dorsetvt.com/wp-content/uploads/2025/07/IMG_7679.jpeg
END:VEVENT
BEGIN:VEVENT
DTSTART;TZID=America/New_York:20290124T100000
DTEND;TZID=America/New_York:20290124T110000
DTSTAMP:20260423T135805
CREATED:20260130T200149Z
LAST-MODIFIED:20260323T175057Z
UID:10001922-1863943200-1863946800@www.dorsetvt.com
SUMMARY:Storytime at Dorset Village Library
DESCRIPTION:Story Time | Wednesdays at 10AM \nJoin us in the Children’s Room* every Wednesday at 10am for stories\, songs and play! Even the littlest kiddos learn at Story Time! No registration. \n*Please note this room is only accessible by stair\, we have no elevator.
URL:https://www.dorsetvt.com/dorset-events/storytime-at-dorset-village-library/2029-01-24/
LOCATION:The Dorset Village Library\, 13 Church Street\, Dorset\, VT\, 05251\, United States
ATTACH;FMTTYPE=image/png:https://www.dorsetvt.com/wp-content/uploads/2026/01/Story-Time-1.png
END:VEVENT
BEGIN:VEVENT
DTSTART;TZID=America/New_York:20290124T100000
DTEND;TZID=America/New_York:20290124T113000
DTSTAMP:20260423T135805
CREATED:20260128T184647Z
LAST-MODIFIED:20260302T145643Z
UID:10002417-1863943200-1863948600@www.dorsetvt.com
SUMMARY:Kits and Cubs at Merck Forest
DESCRIPTION:Kits and Cubs at Merck Forest \nWednesday and Fridays 10am-11:30am \nBring your toddlers and preschoolers (18 months to 5 years old) for an unforgettable outdoor adventure! Every session is packed with nature-themed activities\, songs\, stories\, and take-home crafts designed to spark curiosity.
URL:https://www.dorsetvt.com/dorset-events/kits-and-cubs-at-merck-forest/2029-01-24/
LOCATION:Merck Forest\, 3270 VT-315\, Rupert\, VT\, United States
ATTACH;FMTTYPE=image/jpeg:https://www.dorsetvt.com/wp-content/uploads/2026/01/IMG_0638-1.jpeg
END:VEVENT
BEGIN:VEVENT
DTSTART;TZID=America/New_York:20290126T100000
DTEND;TZID=America/New_York:20290126T113000
DTSTAMP:20260423T135805
CREATED:20260128T184647Z
LAST-MODIFIED:20260302T145643Z
UID:10002418-1864116000-1864121400@www.dorsetvt.com
SUMMARY:Kits and Cubs at Merck Forest
DESCRIPTION:Kits and Cubs at Merck Forest \nWednesday and Fridays 10am-11:30am \nBring your toddlers and preschoolers (18 months to 5 years old) for an unforgettable outdoor adventure! Every session is packed with nature-themed activities\, songs\, stories\, and take-home crafts designed to spark curiosity.
URL:https://www.dorsetvt.com/dorset-events/kits-and-cubs-at-merck-forest/2029-01-26/
LOCATION:Merck Forest\, 3270 VT-315\, Rupert\, VT\, United States
ATTACH;FMTTYPE=image/jpeg:https://www.dorsetvt.com/wp-content/uploads/2026/01/IMG_0638-1.jpeg
END:VEVENT
BEGIN:VEVENT
DTSTART;TZID=America/New_York:20290130T170000
DTEND;TZID=America/New_York:20290130T180000
DTSTAMP:20260423T135805
CREATED:20250729T121432Z
LAST-MODIFIED:20250729T121432Z
UID:10000955-1864486800-1864490400@www.dorsetvt.com
SUMMARY:Dorset Knitters at Library
DESCRIPTION:Are you an expert knitter? Can only knit and purl? Or want to learn from scratch?\nJoin the Dorset Knitters at 5pm every Tuesday!\nSnacks (finger foods) and beverages are pot-luck style! \nEmail: dorsetvillagelibrary@gmail.com if you have questions…or if you’re interested in Loom Knitting!
URL:https://www.dorsetvt.com/dorset-events/dorset-knitters-at-library/2029-01-30/
LOCATION:The Dorset Village Library\, 13 Church Street\, Dorset\, VT\, 05251\, United States
ATTACH;FMTTYPE=image/jpeg:https://www.dorsetvt.com/wp-content/uploads/2025/07/IMG_7679.jpeg
END:VEVENT
BEGIN:VEVENT
DTSTART;TZID=America/New_York:20290131T100000
DTEND;TZID=America/New_York:20290131T110000
DTSTAMP:20260423T135805
CREATED:20260130T200149Z
LAST-MODIFIED:20260323T175057Z
UID:10001923-1864548000-1864551600@www.dorsetvt.com
SUMMARY:Storytime at Dorset Village Library
DESCRIPTION:Story Time | Wednesdays at 10AM \nJoin us in the Children’s Room* every Wednesday at 10am for stories\, songs and play! Even the littlest kiddos learn at Story Time! No registration. \n*Please note this room is only accessible by stair\, we have no elevator.
URL:https://www.dorsetvt.com/dorset-events/storytime-at-dorset-village-library/2029-01-31/
LOCATION:The Dorset Village Library\, 13 Church Street\, Dorset\, VT\, 05251\, United States
ATTACH;FMTTYPE=image/png:https://www.dorsetvt.com/wp-content/uploads/2026/01/Story-Time-1.png
END:VEVENT
BEGIN:VEVENT
DTSTART;TZID=America/New_York:20290131T100000
DTEND;TZID=America/New_York:20290131T113000
DTSTAMP:20260423T135805
CREATED:20260128T184647Z
LAST-MODIFIED:20260302T145643Z
UID:10002419-1864548000-1864553400@www.dorsetvt.com
SUMMARY:Kits and Cubs at Merck Forest
DESCRIPTION:Kits and Cubs at Merck Forest \nWednesday and Fridays 10am-11:30am \nBring your toddlers and preschoolers (18 months to 5 years old) for an unforgettable outdoor adventure! Every session is packed with nature-themed activities\, songs\, stories\, and take-home crafts designed to spark curiosity.
URL:https://www.dorsetvt.com/dorset-events/kits-and-cubs-at-merck-forest/2029-01-31/
LOCATION:Merck Forest\, 3270 VT-315\, Rupert\, VT\, United States
ATTACH;FMTTYPE=image/jpeg:https://www.dorsetvt.com/wp-content/uploads/2026/01/IMG_0638-1.jpeg
END:VEVENT
BEGIN:VEVENT
DTSTART;TZID=America/New_York:20290202T100000
DTEND;TZID=America/New_York:20290202T113000
DTSTAMP:20260423T135805
CREATED:20260128T184647Z
LAST-MODIFIED:20260302T145643Z
UID:10002420-1864720800-1864726200@www.dorsetvt.com
SUMMARY:Kits and Cubs at Merck Forest
DESCRIPTION:Kits and Cubs at Merck Forest \nWednesday and Fridays 10am-11:30am \nBring your toddlers and preschoolers (18 months to 5 years old) for an unforgettable outdoor adventure! Every session is packed with nature-themed activities\, songs\, stories\, and take-home crafts designed to spark curiosity.
URL:https://www.dorsetvt.com/dorset-events/kits-and-cubs-at-merck-forest/2029-02-02/
LOCATION:Merck Forest\, 3270 VT-315\, Rupert\, VT\, United States
ATTACH;FMTTYPE=image/jpeg:https://www.dorsetvt.com/wp-content/uploads/2026/01/IMG_0638-1.jpeg
END:VEVENT
BEGIN:VEVENT
DTSTART;TZID=America/New_York:20290206T170000
DTEND;TZID=America/New_York:20290206T180000
DTSTAMP:20260423T135805
CREATED:20250729T121432Z
LAST-MODIFIED:20250729T121432Z
UID:10000956-1865091600-1865095200@www.dorsetvt.com
SUMMARY:Dorset Knitters at Library
DESCRIPTION:Are you an expert knitter? Can only knit and purl? Or want to learn from scratch?\nJoin the Dorset Knitters at 5pm every Tuesday!\nSnacks (finger foods) and beverages are pot-luck style! \nEmail: dorsetvillagelibrary@gmail.com if you have questions…or if you’re interested in Loom Knitting!
URL:https://www.dorsetvt.com/dorset-events/dorset-knitters-at-library/2029-02-06/
LOCATION:The Dorset Village Library\, 13 Church Street\, Dorset\, VT\, 05251\, United States
ATTACH;FMTTYPE=image/jpeg:https://www.dorsetvt.com/wp-content/uploads/2025/07/IMG_7679.jpeg
END:VEVENT
BEGIN:VEVENT
DTSTART;TZID=America/New_York:20290207T100000
DTEND;TZID=America/New_York:20290207T110000
DTSTAMP:20260423T135805
CREATED:20260130T200149Z
LAST-MODIFIED:20260323T175057Z
UID:10001924-1865152800-1865156400@www.dorsetvt.com
SUMMARY:Storytime at Dorset Village Library
DESCRIPTION:Story Time | Wednesdays at 10AM \nJoin us in the Children’s Room* every Wednesday at 10am for stories\, songs and play! Even the littlest kiddos learn at Story Time! No registration. \n*Please note this room is only accessible by stair\, we have no elevator.
URL:https://www.dorsetvt.com/dorset-events/storytime-at-dorset-village-library/2029-02-07/
LOCATION:The Dorset Village Library\, 13 Church Street\, Dorset\, VT\, 05251\, United States
ATTACH;FMTTYPE=image/png:https://www.dorsetvt.com/wp-content/uploads/2026/01/Story-Time-1.png
END:VEVENT
BEGIN:VEVENT
DTSTART;TZID=America/New_York:20290207T100000
DTEND;TZID=America/New_York:20290207T113000
DTSTAMP:20260423T135805
CREATED:20260128T184647Z
LAST-MODIFIED:20260302T145643Z
UID:10002421-1865152800-1865158200@www.dorsetvt.com
SUMMARY:Kits and Cubs at Merck Forest
DESCRIPTION:Kits and Cubs at Merck Forest \nWednesday and Fridays 10am-11:30am \nBring your toddlers and preschoolers (18 months to 5 years old) for an unforgettable outdoor adventure! Every session is packed with nature-themed activities\, songs\, stories\, and take-home crafts designed to spark curiosity.
URL:https://www.dorsetvt.com/dorset-events/kits-and-cubs-at-merck-forest/2029-02-07/
LOCATION:Merck Forest\, 3270 VT-315\, Rupert\, VT\, United States
ATTACH;FMTTYPE=image/jpeg:https://www.dorsetvt.com/wp-content/uploads/2026/01/IMG_0638-1.jpeg
END:VEVENT
BEGIN:VEVENT
DTSTART;TZID=America/New_York:20290209T100000
DTEND;TZID=America/New_York:20290209T113000
DTSTAMP:20260423T135805
CREATED:20260128T184647Z
LAST-MODIFIED:20260302T145643Z
UID:10002422-1865325600-1865331000@www.dorsetvt.com
SUMMARY:Kits and Cubs at Merck Forest
DESCRIPTION:Kits and Cubs at Merck Forest \nWednesday and Fridays 10am-11:30am \nBring your toddlers and preschoolers (18 months to 5 years old) for an unforgettable outdoor adventure! Every session is packed with nature-themed activities\, songs\, stories\, and take-home crafts designed to spark curiosity.
URL:https://www.dorsetvt.com/dorset-events/kits-and-cubs-at-merck-forest/2029-02-09/
LOCATION:Merck Forest\, 3270 VT-315\, Rupert\, VT\, United States
ATTACH;FMTTYPE=image/jpeg:https://www.dorsetvt.com/wp-content/uploads/2026/01/IMG_0638-1.jpeg
END:VEVENT
BEGIN:VEVENT
DTSTART;TZID=America/New_York:20290213T170000
DTEND;TZID=America/New_York:20290213T180000
DTSTAMP:20260423T135805
CREATED:20250729T121432Z
LAST-MODIFIED:20250729T121432Z
UID:10000957-1865696400-1865700000@www.dorsetvt.com
SUMMARY:Dorset Knitters at Library
DESCRIPTION:Are you an expert knitter? Can only knit and purl? Or want to learn from scratch?\nJoin the Dorset Knitters at 5pm every Tuesday!\nSnacks (finger foods) and beverages are pot-luck style! \nEmail: dorsetvillagelibrary@gmail.com if you have questions…or if you’re interested in Loom Knitting!
URL:https://www.dorsetvt.com/dorset-events/dorset-knitters-at-library/2029-02-13/
LOCATION:The Dorset Village Library\, 13 Church Street\, Dorset\, VT\, 05251\, United States
ATTACH;FMTTYPE=image/jpeg:https://www.dorsetvt.com/wp-content/uploads/2025/07/IMG_7679.jpeg
END:VEVENT
BEGIN:VEVENT
DTSTART;TZID=America/New_York:20290214T100000
DTEND;TZID=America/New_York:20290214T110000
DTSTAMP:20260423T135805
CREATED:20260130T200149Z
LAST-MODIFIED:20260323T175057Z
UID:10001925-1865757600-1865761200@www.dorsetvt.com
SUMMARY:Storytime at Dorset Village Library
DESCRIPTION:Story Time | Wednesdays at 10AM \nJoin us in the Children’s Room* every Wednesday at 10am for stories\, songs and play! Even the littlest kiddos learn at Story Time! No registration. \n*Please note this room is only accessible by stair\, we have no elevator.
URL:https://www.dorsetvt.com/dorset-events/storytime-at-dorset-village-library/2029-02-14/
LOCATION:The Dorset Village Library\, 13 Church Street\, Dorset\, VT\, 05251\, United States
ATTACH;FMTTYPE=image/png:https://www.dorsetvt.com/wp-content/uploads/2026/01/Story-Time-1.png
END:VEVENT
BEGIN:VEVENT
DTSTART;TZID=America/New_York:20290214T100000
DTEND;TZID=America/New_York:20290214T113000
DTSTAMP:20260423T135805
CREATED:20260128T184647Z
LAST-MODIFIED:20260302T145643Z
UID:10002423-1865757600-1865763000@www.dorsetvt.com
SUMMARY:Kits and Cubs at Merck Forest
DESCRIPTION:Kits and Cubs at Merck Forest \nWednesday and Fridays 10am-11:30am \nBring your toddlers and preschoolers (18 months to 5 years old) for an unforgettable outdoor adventure! Every session is packed with nature-themed activities\, songs\, stories\, and take-home crafts designed to spark curiosity.
URL:https://www.dorsetvt.com/dorset-events/kits-and-cubs-at-merck-forest/2029-02-14/
LOCATION:Merck Forest\, 3270 VT-315\, Rupert\, VT\, United States
ATTACH;FMTTYPE=image/jpeg:https://www.dorsetvt.com/wp-content/uploads/2026/01/IMG_0638-1.jpeg
END:VEVENT
BEGIN:VEVENT
DTSTART;TZID=America/New_York:20290216T100000
DTEND;TZID=America/New_York:20290216T113000
DTSTAMP:20260423T135805
CREATED:20260128T184647Z
LAST-MODIFIED:20260302T145643Z
UID:10002424-1865930400-1865935800@www.dorsetvt.com
SUMMARY:Kits and Cubs at Merck Forest
DESCRIPTION:Kits and Cubs at Merck Forest \nWednesday and Fridays 10am-11:30am \nBring your toddlers and preschoolers (18 months to 5 years old) for an unforgettable outdoor adventure! Every session is packed with nature-themed activities\, songs\, stories\, and take-home crafts designed to spark curiosity.
URL:https://www.dorsetvt.com/dorset-events/kits-and-cubs-at-merck-forest/2029-02-16/
LOCATION:Merck Forest\, 3270 VT-315\, Rupert\, VT\, United States
ATTACH;FMTTYPE=image/jpeg:https://www.dorsetvt.com/wp-content/uploads/2026/01/IMG_0638-1.jpeg
END:VEVENT
END:VCALENDAR