BEGIN:VCALENDAR
VERSION:2.0
PRODID:-//Discover Dorset Vermont - ECPv6.15.20//NONSGML v1.0//EN
CALSCALE:GREGORIAN
METHOD:PUBLISH
X-WR-CALNAME:Discover Dorset Vermont
X-ORIGINAL-URL:https://www.dorsetvt.com
X-WR-CALDESC:Events for Discover Dorset Vermont
REFRESH-INTERVAL;VALUE=DURATION:PT1H
X-Robots-Tag:noindex
X-PUBLISHED-TTL:PT1H
BEGIN:VTIMEZONE
TZID:America/New_York
BEGIN:DAYLIGHT
TZOFFSETFROM:-0500
TZOFFSETTO:-0400
TZNAME:EDT
DTSTART:20290311T070000
END:DAYLIGHT
BEGIN:STANDARD
TZOFFSETFROM:-0400
TZOFFSETTO:-0500
TZNAME:EST
DTSTART:20291104T060000
END:STANDARD
BEGIN:DAYLIGHT
TZOFFSETFROM:-0500
TZOFFSETTO:-0400
TZNAME:EDT
DTSTART:20300310T070000
END:DAYLIGHT
BEGIN:STANDARD
TZOFFSETFROM:-0400
TZOFFSETTO:-0500
TZNAME:EST
DTSTART:20301103T060000
END:STANDARD
BEGIN:DAYLIGHT
TZOFFSETFROM:-0500
TZOFFSETTO:-0400
TZNAME:EDT
DTSTART:20310309T070000
END:DAYLIGHT
BEGIN:STANDARD
TZOFFSETFROM:-0400
TZOFFSETTO:-0500
TZNAME:EST
DTSTART:20311102T060000
END:STANDARD
END:VTIMEZONE
BEGIN:VEVENT
DTSTART;TZID=America/New_York:20300424T100000
DTEND;TZID=America/New_York:20300424T113000
DTSTAMP:20260424T202426
CREATED:20260128T184647Z
LAST-MODIFIED:20260302T145643Z
UID:10002547-1903255200-1903260600@www.dorsetvt.com
SUMMARY:Kits and Cubs at Merck Forest
DESCRIPTION:Kits and Cubs at Merck Forest \nWednesday and Fridays 10am-11:30am \nBring your toddlers and preschoolers (18 months to 5 years old) for an unforgettable outdoor adventure! Every session is packed with nature-themed activities\, songs\, stories\, and take-home crafts designed to spark curiosity.
URL:https://www.dorsetvt.com/dorset-events/kits-and-cubs-at-merck-forest/2030-04-24/
LOCATION:Merck Forest\, 3270 VT-315\, Rupert\, VT\, United States
ATTACH;FMTTYPE=image/jpeg:https://www.dorsetvt.com/wp-content/uploads/2026/01/IMG_0638-1.jpeg
END:VEVENT
BEGIN:VEVENT
DTSTART;TZID=America/New_York:20300426T100000
DTEND;TZID=America/New_York:20300426T113000
DTSTAMP:20260424T202426
CREATED:20260128T184647Z
LAST-MODIFIED:20260302T145643Z
UID:10002548-1903428000-1903433400@www.dorsetvt.com
SUMMARY:Kits and Cubs at Merck Forest
DESCRIPTION:Kits and Cubs at Merck Forest \nWednesday and Fridays 10am-11:30am \nBring your toddlers and preschoolers (18 months to 5 years old) for an unforgettable outdoor adventure! Every session is packed with nature-themed activities\, songs\, stories\, and take-home crafts designed to spark curiosity.
URL:https://www.dorsetvt.com/dorset-events/kits-and-cubs-at-merck-forest/2030-04-26/
LOCATION:Merck Forest\, 3270 VT-315\, Rupert\, VT\, United States
ATTACH;FMTTYPE=image/jpeg:https://www.dorsetvt.com/wp-content/uploads/2026/01/IMG_0638-1.jpeg
END:VEVENT
BEGIN:VEVENT
DTSTART;TZID=America/New_York:20300430T170000
DTEND;TZID=America/New_York:20300430T180000
DTSTAMP:20260424T202426
CREATED:20250729T121432Z
LAST-MODIFIED:20250729T121432Z
UID:10001020-1903798800-1903802400@www.dorsetvt.com
SUMMARY:Dorset Knitters at Library
DESCRIPTION:Are you an expert knitter? Can only knit and purl? Or want to learn from scratch?\nJoin the Dorset Knitters at 5pm every Tuesday!\nSnacks (finger foods) and beverages are pot-luck style! \nEmail: dorsetvillagelibrary@gmail.com if you have questions…or if you’re interested in Loom Knitting!
URL:https://www.dorsetvt.com/dorset-events/dorset-knitters-at-library/2030-04-30/
LOCATION:The Dorset Village Library\, 13 Church Street\, Dorset\, VT\, 05251\, United States
ATTACH;FMTTYPE=image/jpeg:https://www.dorsetvt.com/wp-content/uploads/2025/07/IMG_7679.jpeg
END:VEVENT
BEGIN:VEVENT
DTSTART;TZID=America/New_York:20300501T100000
DTEND;TZID=America/New_York:20300501T110000
DTSTAMP:20260424T202426
CREATED:20260130T200149Z
LAST-MODIFIED:20260323T175057Z
UID:10001988-1903860000-1903863600@www.dorsetvt.com
SUMMARY:Storytime at Dorset Village Library
DESCRIPTION:Story Time | Wednesdays at 10AM \nJoin us in the Children’s Room* every Wednesday at 10am for stories\, songs and play! Even the littlest kiddos learn at Story Time! No registration. \n*Please note this room is only accessible by stair\, we have no elevator.
URL:https://www.dorsetvt.com/dorset-events/storytime-at-dorset-village-library/2030-05-01/
LOCATION:The Dorset Village Library\, 13 Church Street\, Dorset\, VT\, 05251\, United States
ATTACH;FMTTYPE=image/png:https://www.dorsetvt.com/wp-content/uploads/2026/01/Story-Time-1.png
END:VEVENT
BEGIN:VEVENT
DTSTART;TZID=America/New_York:20300501T100000
DTEND;TZID=America/New_York:20300501T113000
DTSTAMP:20260424T202426
CREATED:20260128T184647Z
LAST-MODIFIED:20260302T145643Z
UID:10002549-1903860000-1903865400@www.dorsetvt.com
SUMMARY:Kits and Cubs at Merck Forest
DESCRIPTION:Kits and Cubs at Merck Forest \nWednesday and Fridays 10am-11:30am \nBring your toddlers and preschoolers (18 months to 5 years old) for an unforgettable outdoor adventure! Every session is packed with nature-themed activities\, songs\, stories\, and take-home crafts designed to spark curiosity.
URL:https://www.dorsetvt.com/dorset-events/kits-and-cubs-at-merck-forest/2030-05-01/
LOCATION:Merck Forest\, 3270 VT-315\, Rupert\, VT\, United States
ATTACH;FMTTYPE=image/jpeg:https://www.dorsetvt.com/wp-content/uploads/2026/01/IMG_0638-1.jpeg
END:VEVENT
BEGIN:VEVENT
DTSTART;TZID=America/New_York:20300503T100000
DTEND;TZID=America/New_York:20300503T113000
DTSTAMP:20260424T202426
CREATED:20260128T184647Z
LAST-MODIFIED:20260302T145643Z
UID:10002550-1904032800-1904038200@www.dorsetvt.com
SUMMARY:Kits and Cubs at Merck Forest
DESCRIPTION:Kits and Cubs at Merck Forest \nWednesday and Fridays 10am-11:30am \nBring your toddlers and preschoolers (18 months to 5 years old) for an unforgettable outdoor adventure! Every session is packed with nature-themed activities\, songs\, stories\, and take-home crafts designed to spark curiosity.
URL:https://www.dorsetvt.com/dorset-events/kits-and-cubs-at-merck-forest/2030-05-03/
LOCATION:Merck Forest\, 3270 VT-315\, Rupert\, VT\, United States
ATTACH;FMTTYPE=image/jpeg:https://www.dorsetvt.com/wp-content/uploads/2026/01/IMG_0638-1.jpeg
END:VEVENT
BEGIN:VEVENT
DTSTART;TZID=America/New_York:20300507T170000
DTEND;TZID=America/New_York:20300507T180000
DTSTAMP:20260424T202426
CREATED:20250729T121432Z
LAST-MODIFIED:20250729T121432Z
UID:10001021-1904403600-1904407200@www.dorsetvt.com
SUMMARY:Dorset Knitters at Library
DESCRIPTION:Are you an expert knitter? Can only knit and purl? Or want to learn from scratch?\nJoin the Dorset Knitters at 5pm every Tuesday!\nSnacks (finger foods) and beverages are pot-luck style! \nEmail: dorsetvillagelibrary@gmail.com if you have questions…or if you’re interested in Loom Knitting!
URL:https://www.dorsetvt.com/dorset-events/dorset-knitters-at-library/2030-05-07/
LOCATION:The Dorset Village Library\, 13 Church Street\, Dorset\, VT\, 05251\, United States
ATTACH;FMTTYPE=image/jpeg:https://www.dorsetvt.com/wp-content/uploads/2025/07/IMG_7679.jpeg
END:VEVENT
BEGIN:VEVENT
DTSTART;TZID=America/New_York:20300508T100000
DTEND;TZID=America/New_York:20300508T110000
DTSTAMP:20260424T202426
CREATED:20260130T200149Z
LAST-MODIFIED:20260323T175057Z
UID:10001989-1904464800-1904468400@www.dorsetvt.com
SUMMARY:Storytime at Dorset Village Library
DESCRIPTION:Story Time | Wednesdays at 10AM \nJoin us in the Children’s Room* every Wednesday at 10am for stories\, songs and play! Even the littlest kiddos learn at Story Time! No registration. \n*Please note this room is only accessible by stair\, we have no elevator.
URL:https://www.dorsetvt.com/dorset-events/storytime-at-dorset-village-library/2030-05-08/
LOCATION:The Dorset Village Library\, 13 Church Street\, Dorset\, VT\, 05251\, United States
ATTACH;FMTTYPE=image/png:https://www.dorsetvt.com/wp-content/uploads/2026/01/Story-Time-1.png
END:VEVENT
BEGIN:VEVENT
DTSTART;TZID=America/New_York:20300508T100000
DTEND;TZID=America/New_York:20300508T113000
DTSTAMP:20260424T202426
CREATED:20260128T184647Z
LAST-MODIFIED:20260302T145643Z
UID:10002551-1904464800-1904470200@www.dorsetvt.com
SUMMARY:Kits and Cubs at Merck Forest
DESCRIPTION:Kits and Cubs at Merck Forest \nWednesday and Fridays 10am-11:30am \nBring your toddlers and preschoolers (18 months to 5 years old) for an unforgettable outdoor adventure! Every session is packed with nature-themed activities\, songs\, stories\, and take-home crafts designed to spark curiosity.
URL:https://www.dorsetvt.com/dorset-events/kits-and-cubs-at-merck-forest/2030-05-08/
LOCATION:Merck Forest\, 3270 VT-315\, Rupert\, VT\, United States
ATTACH;FMTTYPE=image/jpeg:https://www.dorsetvt.com/wp-content/uploads/2026/01/IMG_0638-1.jpeg
END:VEVENT
BEGIN:VEVENT
DTSTART;TZID=America/New_York:20300510T100000
DTEND;TZID=America/New_York:20300510T113000
DTSTAMP:20260424T202426
CREATED:20260128T184647Z
LAST-MODIFIED:20260302T145643Z
UID:10002552-1904637600-1904643000@www.dorsetvt.com
SUMMARY:Kits and Cubs at Merck Forest
DESCRIPTION:Kits and Cubs at Merck Forest \nWednesday and Fridays 10am-11:30am \nBring your toddlers and preschoolers (18 months to 5 years old) for an unforgettable outdoor adventure! Every session is packed with nature-themed activities\, songs\, stories\, and take-home crafts designed to spark curiosity.
URL:https://www.dorsetvt.com/dorset-events/kits-and-cubs-at-merck-forest/2030-05-10/
LOCATION:Merck Forest\, 3270 VT-315\, Rupert\, VT\, United States
ATTACH;FMTTYPE=image/jpeg:https://www.dorsetvt.com/wp-content/uploads/2026/01/IMG_0638-1.jpeg
END:VEVENT
BEGIN:VEVENT
DTSTART;TZID=America/New_York:20300514T170000
DTEND;TZID=America/New_York:20300514T180000
DTSTAMP:20260424T202426
CREATED:20250729T121432Z
LAST-MODIFIED:20250729T121432Z
UID:10001022-1905008400-1905012000@www.dorsetvt.com
SUMMARY:Dorset Knitters at Library
DESCRIPTION:Are you an expert knitter? Can only knit and purl? Or want to learn from scratch?\nJoin the Dorset Knitters at 5pm every Tuesday!\nSnacks (finger foods) and beverages are pot-luck style! \nEmail: dorsetvillagelibrary@gmail.com if you have questions…or if you’re interested in Loom Knitting!
URL:https://www.dorsetvt.com/dorset-events/dorset-knitters-at-library/2030-05-14/
LOCATION:The Dorset Village Library\, 13 Church Street\, Dorset\, VT\, 05251\, United States
ATTACH;FMTTYPE=image/jpeg:https://www.dorsetvt.com/wp-content/uploads/2025/07/IMG_7679.jpeg
END:VEVENT
BEGIN:VEVENT
DTSTART;TZID=America/New_York:20300515T100000
DTEND;TZID=America/New_York:20300515T110000
DTSTAMP:20260424T202426
CREATED:20260130T200149Z
LAST-MODIFIED:20260323T175057Z
UID:10001990-1905069600-1905073200@www.dorsetvt.com
SUMMARY:Storytime at Dorset Village Library
DESCRIPTION:Story Time | Wednesdays at 10AM \nJoin us in the Children’s Room* every Wednesday at 10am for stories\, songs and play! Even the littlest kiddos learn at Story Time! No registration. \n*Please note this room is only accessible by stair\, we have no elevator.
URL:https://www.dorsetvt.com/dorset-events/storytime-at-dorset-village-library/2030-05-15/
LOCATION:The Dorset Village Library\, 13 Church Street\, Dorset\, VT\, 05251\, United States
ATTACH;FMTTYPE=image/png:https://www.dorsetvt.com/wp-content/uploads/2026/01/Story-Time-1.png
END:VEVENT
BEGIN:VEVENT
DTSTART;TZID=America/New_York:20300515T100000
DTEND;TZID=America/New_York:20300515T113000
DTSTAMP:20260424T202426
CREATED:20260128T184647Z
LAST-MODIFIED:20260302T145643Z
UID:10002553-1905069600-1905075000@www.dorsetvt.com
SUMMARY:Kits and Cubs at Merck Forest
DESCRIPTION:Kits and Cubs at Merck Forest \nWednesday and Fridays 10am-11:30am \nBring your toddlers and preschoolers (18 months to 5 years old) for an unforgettable outdoor adventure! Every session is packed with nature-themed activities\, songs\, stories\, and take-home crafts designed to spark curiosity.
URL:https://www.dorsetvt.com/dorset-events/kits-and-cubs-at-merck-forest/2030-05-15/
LOCATION:Merck Forest\, 3270 VT-315\, Rupert\, VT\, United States
ATTACH;FMTTYPE=image/jpeg:https://www.dorsetvt.com/wp-content/uploads/2026/01/IMG_0638-1.jpeg
END:VEVENT
BEGIN:VEVENT
DTSTART;TZID=America/New_York:20300517T100000
DTEND;TZID=America/New_York:20300517T113000
DTSTAMP:20260424T202426
CREATED:20260128T184647Z
LAST-MODIFIED:20260302T145643Z
UID:10002554-1905242400-1905247800@www.dorsetvt.com
SUMMARY:Kits and Cubs at Merck Forest
DESCRIPTION:Kits and Cubs at Merck Forest \nWednesday and Fridays 10am-11:30am \nBring your toddlers and preschoolers (18 months to 5 years old) for an unforgettable outdoor adventure! Every session is packed with nature-themed activities\, songs\, stories\, and take-home crafts designed to spark curiosity.
URL:https://www.dorsetvt.com/dorset-events/kits-and-cubs-at-merck-forest/2030-05-17/
LOCATION:Merck Forest\, 3270 VT-315\, Rupert\, VT\, United States
ATTACH;FMTTYPE=image/jpeg:https://www.dorsetvt.com/wp-content/uploads/2026/01/IMG_0638-1.jpeg
END:VEVENT
BEGIN:VEVENT
DTSTART;TZID=America/New_York:20300521T170000
DTEND;TZID=America/New_York:20300521T180000
DTSTAMP:20260424T202426
CREATED:20250729T121432Z
LAST-MODIFIED:20250729T121432Z
UID:10001023-1905613200-1905616800@www.dorsetvt.com
SUMMARY:Dorset Knitters at Library
DESCRIPTION:Are you an expert knitter? Can only knit and purl? Or want to learn from scratch?\nJoin the Dorset Knitters at 5pm every Tuesday!\nSnacks (finger foods) and beverages are pot-luck style! \nEmail: dorsetvillagelibrary@gmail.com if you have questions…or if you’re interested in Loom Knitting!
URL:https://www.dorsetvt.com/dorset-events/dorset-knitters-at-library/2030-05-21/
LOCATION:The Dorset Village Library\, 13 Church Street\, Dorset\, VT\, 05251\, United States
ATTACH;FMTTYPE=image/jpeg:https://www.dorsetvt.com/wp-content/uploads/2025/07/IMG_7679.jpeg
END:VEVENT
BEGIN:VEVENT
DTSTART;TZID=America/New_York:20300522T100000
DTEND;TZID=America/New_York:20300522T110000
DTSTAMP:20260424T202426
CREATED:20260130T200149Z
LAST-MODIFIED:20260323T175057Z
UID:10001991-1905674400-1905678000@www.dorsetvt.com
SUMMARY:Storytime at Dorset Village Library
DESCRIPTION:Story Time | Wednesdays at 10AM \nJoin us in the Children’s Room* every Wednesday at 10am for stories\, songs and play! Even the littlest kiddos learn at Story Time! No registration. \n*Please note this room is only accessible by stair\, we have no elevator.
URL:https://www.dorsetvt.com/dorset-events/storytime-at-dorset-village-library/2030-05-22/
LOCATION:The Dorset Village Library\, 13 Church Street\, Dorset\, VT\, 05251\, United States
ATTACH;FMTTYPE=image/png:https://www.dorsetvt.com/wp-content/uploads/2026/01/Story-Time-1.png
END:VEVENT
BEGIN:VEVENT
DTSTART;TZID=America/New_York:20300522T100000
DTEND;TZID=America/New_York:20300522T113000
DTSTAMP:20260424T202426
CREATED:20260128T184647Z
LAST-MODIFIED:20260302T145643Z
UID:10002555-1905674400-1905679800@www.dorsetvt.com
SUMMARY:Kits and Cubs at Merck Forest
DESCRIPTION:Kits and Cubs at Merck Forest \nWednesday and Fridays 10am-11:30am \nBring your toddlers and preschoolers (18 months to 5 years old) for an unforgettable outdoor adventure! Every session is packed with nature-themed activities\, songs\, stories\, and take-home crafts designed to spark curiosity.
URL:https://www.dorsetvt.com/dorset-events/kits-and-cubs-at-merck-forest/2030-05-22/
LOCATION:Merck Forest\, 3270 VT-315\, Rupert\, VT\, United States
ATTACH;FMTTYPE=image/jpeg:https://www.dorsetvt.com/wp-content/uploads/2026/01/IMG_0638-1.jpeg
END:VEVENT
BEGIN:VEVENT
DTSTART;TZID=America/New_York:20300524T100000
DTEND;TZID=America/New_York:20300524T113000
DTSTAMP:20260424T202426
CREATED:20260128T184647Z
LAST-MODIFIED:20260302T145643Z
UID:10002556-1905847200-1905852600@www.dorsetvt.com
SUMMARY:Kits and Cubs at Merck Forest
DESCRIPTION:Kits and Cubs at Merck Forest \nWednesday and Fridays 10am-11:30am \nBring your toddlers and preschoolers (18 months to 5 years old) for an unforgettable outdoor adventure! Every session is packed with nature-themed activities\, songs\, stories\, and take-home crafts designed to spark curiosity.
URL:https://www.dorsetvt.com/dorset-events/kits-and-cubs-at-merck-forest/2030-05-24/
LOCATION:Merck Forest\, 3270 VT-315\, Rupert\, VT\, United States
ATTACH;FMTTYPE=image/jpeg:https://www.dorsetvt.com/wp-content/uploads/2026/01/IMG_0638-1.jpeg
END:VEVENT
BEGIN:VEVENT
DTSTART;TZID=America/New_York:20300528T170000
DTEND;TZID=America/New_York:20300528T180000
DTSTAMP:20260424T202426
CREATED:20250729T121432Z
LAST-MODIFIED:20250729T121432Z
UID:10001024-1906218000-1906221600@www.dorsetvt.com
SUMMARY:Dorset Knitters at Library
DESCRIPTION:Are you an expert knitter? Can only knit and purl? Or want to learn from scratch?\nJoin the Dorset Knitters at 5pm every Tuesday!\nSnacks (finger foods) and beverages are pot-luck style! \nEmail: dorsetvillagelibrary@gmail.com if you have questions…or if you’re interested in Loom Knitting!
URL:https://www.dorsetvt.com/dorset-events/dorset-knitters-at-library/2030-05-28/
LOCATION:The Dorset Village Library\, 13 Church Street\, Dorset\, VT\, 05251\, United States
ATTACH;FMTTYPE=image/jpeg:https://www.dorsetvt.com/wp-content/uploads/2025/07/IMG_7679.jpeg
END:VEVENT
BEGIN:VEVENT
DTSTART;TZID=America/New_York:20300529T100000
DTEND;TZID=America/New_York:20300529T110000
DTSTAMP:20260424T202426
CREATED:20260130T200149Z
LAST-MODIFIED:20260323T175057Z
UID:10001992-1906279200-1906282800@www.dorsetvt.com
SUMMARY:Storytime at Dorset Village Library
DESCRIPTION:Story Time | Wednesdays at 10AM \nJoin us in the Children’s Room* every Wednesday at 10am for stories\, songs and play! Even the littlest kiddos learn at Story Time! No registration. \n*Please note this room is only accessible by stair\, we have no elevator.
URL:https://www.dorsetvt.com/dorset-events/storytime-at-dorset-village-library/2030-05-29/
LOCATION:The Dorset Village Library\, 13 Church Street\, Dorset\, VT\, 05251\, United States
ATTACH;FMTTYPE=image/png:https://www.dorsetvt.com/wp-content/uploads/2026/01/Story-Time-1.png
END:VEVENT
BEGIN:VEVENT
DTSTART;TZID=America/New_York:20300529T100000
DTEND;TZID=America/New_York:20300529T113000
DTSTAMP:20260424T202426
CREATED:20260128T184647Z
LAST-MODIFIED:20260302T145643Z
UID:10002557-1906279200-1906284600@www.dorsetvt.com
SUMMARY:Kits and Cubs at Merck Forest
DESCRIPTION:Kits and Cubs at Merck Forest \nWednesday and Fridays 10am-11:30am \nBring your toddlers and preschoolers (18 months to 5 years old) for an unforgettable outdoor adventure! Every session is packed with nature-themed activities\, songs\, stories\, and take-home crafts designed to spark curiosity.
URL:https://www.dorsetvt.com/dorset-events/kits-and-cubs-at-merck-forest/2030-05-29/
LOCATION:Merck Forest\, 3270 VT-315\, Rupert\, VT\, United States
ATTACH;FMTTYPE=image/jpeg:https://www.dorsetvt.com/wp-content/uploads/2026/01/IMG_0638-1.jpeg
END:VEVENT
BEGIN:VEVENT
DTSTART;TZID=America/New_York:20300531T100000
DTEND;TZID=America/New_York:20300531T113000
DTSTAMP:20260424T202426
CREATED:20260128T184647Z
LAST-MODIFIED:20260302T145643Z
UID:10002558-1906452000-1906457400@www.dorsetvt.com
SUMMARY:Kits and Cubs at Merck Forest
DESCRIPTION:Kits and Cubs at Merck Forest \nWednesday and Fridays 10am-11:30am \nBring your toddlers and preschoolers (18 months to 5 years old) for an unforgettable outdoor adventure! Every session is packed with nature-themed activities\, songs\, stories\, and take-home crafts designed to spark curiosity.
URL:https://www.dorsetvt.com/dorset-events/kits-and-cubs-at-merck-forest/2030-05-31/
LOCATION:Merck Forest\, 3270 VT-315\, Rupert\, VT\, United States
ATTACH;FMTTYPE=image/jpeg:https://www.dorsetvt.com/wp-content/uploads/2026/01/IMG_0638-1.jpeg
END:VEVENT
BEGIN:VEVENT
DTSTART;TZID=America/New_York:20300604T170000
DTEND;TZID=America/New_York:20300604T180000
DTSTAMP:20260424T202426
CREATED:20250729T121432Z
LAST-MODIFIED:20250729T121432Z
UID:10001025-1906822800-1906826400@www.dorsetvt.com
SUMMARY:Dorset Knitters at Library
DESCRIPTION:Are you an expert knitter? Can only knit and purl? Or want to learn from scratch?\nJoin the Dorset Knitters at 5pm every Tuesday!\nSnacks (finger foods) and beverages are pot-luck style! \nEmail: dorsetvillagelibrary@gmail.com if you have questions…or if you’re interested in Loom Knitting!
URL:https://www.dorsetvt.com/dorset-events/dorset-knitters-at-library/2030-06-04/
LOCATION:The Dorset Village Library\, 13 Church Street\, Dorset\, VT\, 05251\, United States
ATTACH;FMTTYPE=image/jpeg:https://www.dorsetvt.com/wp-content/uploads/2025/07/IMG_7679.jpeg
END:VEVENT
BEGIN:VEVENT
DTSTART;TZID=America/New_York:20300605T100000
DTEND;TZID=America/New_York:20300605T110000
DTSTAMP:20260424T202426
CREATED:20260130T200149Z
LAST-MODIFIED:20260323T175057Z
UID:10001993-1906884000-1906887600@www.dorsetvt.com
SUMMARY:Storytime at Dorset Village Library
DESCRIPTION:Story Time | Wednesdays at 10AM \nJoin us in the Children’s Room* every Wednesday at 10am for stories\, songs and play! Even the littlest kiddos learn at Story Time! No registration. \n*Please note this room is only accessible by stair\, we have no elevator.
URL:https://www.dorsetvt.com/dorset-events/storytime-at-dorset-village-library/2030-06-05/
LOCATION:The Dorset Village Library\, 13 Church Street\, Dorset\, VT\, 05251\, United States
ATTACH;FMTTYPE=image/png:https://www.dorsetvt.com/wp-content/uploads/2026/01/Story-Time-1.png
END:VEVENT
BEGIN:VEVENT
DTSTART;TZID=America/New_York:20300605T100000
DTEND;TZID=America/New_York:20300605T113000
DTSTAMP:20260424T202426
CREATED:20260128T184647Z
LAST-MODIFIED:20260302T145643Z
UID:10002559-1906884000-1906889400@www.dorsetvt.com
SUMMARY:Kits and Cubs at Merck Forest
DESCRIPTION:Kits and Cubs at Merck Forest \nWednesday and Fridays 10am-11:30am \nBring your toddlers and preschoolers (18 months to 5 years old) for an unforgettable outdoor adventure! Every session is packed with nature-themed activities\, songs\, stories\, and take-home crafts designed to spark curiosity.
URL:https://www.dorsetvt.com/dorset-events/kits-and-cubs-at-merck-forest/2030-06-05/
LOCATION:Merck Forest\, 3270 VT-315\, Rupert\, VT\, United States
ATTACH;FMTTYPE=image/jpeg:https://www.dorsetvt.com/wp-content/uploads/2026/01/IMG_0638-1.jpeg
END:VEVENT
BEGIN:VEVENT
DTSTART;TZID=America/New_York:20300607T100000
DTEND;TZID=America/New_York:20300607T113000
DTSTAMP:20260424T202426
CREATED:20260128T184647Z
LAST-MODIFIED:20260302T145643Z
UID:10002560-1907056800-1907062200@www.dorsetvt.com
SUMMARY:Kits and Cubs at Merck Forest
DESCRIPTION:Kits and Cubs at Merck Forest \nWednesday and Fridays 10am-11:30am \nBring your toddlers and preschoolers (18 months to 5 years old) for an unforgettable outdoor adventure! Every session is packed with nature-themed activities\, songs\, stories\, and take-home crafts designed to spark curiosity.
URL:https://www.dorsetvt.com/dorset-events/kits-and-cubs-at-merck-forest/2030-06-07/
LOCATION:Merck Forest\, 3270 VT-315\, Rupert\, VT\, United States
ATTACH;FMTTYPE=image/jpeg:https://www.dorsetvt.com/wp-content/uploads/2026/01/IMG_0638-1.jpeg
END:VEVENT
BEGIN:VEVENT
DTSTART;TZID=America/New_York:20300611T170000
DTEND;TZID=America/New_York:20300611T180000
DTSTAMP:20260424T202426
CREATED:20250729T121432Z
LAST-MODIFIED:20250729T121432Z
UID:10001026-1907427600-1907431200@www.dorsetvt.com
SUMMARY:Dorset Knitters at Library
DESCRIPTION:Are you an expert knitter? Can only knit and purl? Or want to learn from scratch?\nJoin the Dorset Knitters at 5pm every Tuesday!\nSnacks (finger foods) and beverages are pot-luck style! \nEmail: dorsetvillagelibrary@gmail.com if you have questions…or if you’re interested in Loom Knitting!
URL:https://www.dorsetvt.com/dorset-events/dorset-knitters-at-library/2030-06-11/
LOCATION:The Dorset Village Library\, 13 Church Street\, Dorset\, VT\, 05251\, United States
ATTACH;FMTTYPE=image/jpeg:https://www.dorsetvt.com/wp-content/uploads/2025/07/IMG_7679.jpeg
END:VEVENT
BEGIN:VEVENT
DTSTART;TZID=America/New_York:20300612T100000
DTEND;TZID=America/New_York:20300612T110000
DTSTAMP:20260424T202426
CREATED:20260130T200149Z
LAST-MODIFIED:20260323T175057Z
UID:10001994-1907488800-1907492400@www.dorsetvt.com
SUMMARY:Storytime at Dorset Village Library
DESCRIPTION:Story Time | Wednesdays at 10AM \nJoin us in the Children’s Room* every Wednesday at 10am for stories\, songs and play! Even the littlest kiddos learn at Story Time! No registration. \n*Please note this room is only accessible by stair\, we have no elevator.
URL:https://www.dorsetvt.com/dorset-events/storytime-at-dorset-village-library/2030-06-12/
LOCATION:The Dorset Village Library\, 13 Church Street\, Dorset\, VT\, 05251\, United States
ATTACH;FMTTYPE=image/png:https://www.dorsetvt.com/wp-content/uploads/2026/01/Story-Time-1.png
END:VEVENT
BEGIN:VEVENT
DTSTART;TZID=America/New_York:20300612T100000
DTEND;TZID=America/New_York:20300612T113000
DTSTAMP:20260424T202426
CREATED:20260128T184647Z
LAST-MODIFIED:20260302T145643Z
UID:10002561-1907488800-1907494200@www.dorsetvt.com
SUMMARY:Kits and Cubs at Merck Forest
DESCRIPTION:Kits and Cubs at Merck Forest \nWednesday and Fridays 10am-11:30am \nBring your toddlers and preschoolers (18 months to 5 years old) for an unforgettable outdoor adventure! Every session is packed with nature-themed activities\, songs\, stories\, and take-home crafts designed to spark curiosity.
URL:https://www.dorsetvt.com/dorset-events/kits-and-cubs-at-merck-forest/2030-06-12/
LOCATION:Merck Forest\, 3270 VT-315\, Rupert\, VT\, United States
ATTACH;FMTTYPE=image/jpeg:https://www.dorsetvt.com/wp-content/uploads/2026/01/IMG_0638-1.jpeg
END:VEVENT
BEGIN:VEVENT
DTSTART;TZID=America/New_York:20300614T100000
DTEND;TZID=America/New_York:20300614T113000
DTSTAMP:20260424T202426
CREATED:20260128T184647Z
LAST-MODIFIED:20260302T145643Z
UID:10002562-1907661600-1907667000@www.dorsetvt.com
SUMMARY:Kits and Cubs at Merck Forest
DESCRIPTION:Kits and Cubs at Merck Forest \nWednesday and Fridays 10am-11:30am \nBring your toddlers and preschoolers (18 months to 5 years old) for an unforgettable outdoor adventure! Every session is packed with nature-themed activities\, songs\, stories\, and take-home crafts designed to spark curiosity.
URL:https://www.dorsetvt.com/dorset-events/kits-and-cubs-at-merck-forest/2030-06-14/
LOCATION:Merck Forest\, 3270 VT-315\, Rupert\, VT\, United States
ATTACH;FMTTYPE=image/jpeg:https://www.dorsetvt.com/wp-content/uploads/2026/01/IMG_0638-1.jpeg
END:VEVENT
END:VCALENDAR