BEGIN:VCALENDAR
VERSION:2.0
PRODID:-//Discover Dorset Vermont - ECPv6.15.20//NONSGML v1.0//EN
CALSCALE:GREGORIAN
METHOD:PUBLISH
X-ORIGINAL-URL:https://www.dorsetvt.com
X-WR-CALDESC:Events for Discover Dorset Vermont
REFRESH-INTERVAL;VALUE=DURATION:PT1H
X-Robots-Tag:noindex
X-PUBLISHED-TTL:PT1H
BEGIN:VTIMEZONE
TZID:America/New_York
BEGIN:DAYLIGHT
TZOFFSETFROM:-0500
TZOFFSETTO:-0400
TZNAME:EDT
DTSTART:20250309T070000
END:DAYLIGHT
BEGIN:STANDARD
TZOFFSETFROM:-0400
TZOFFSETTO:-0500
TZNAME:EST
DTSTART:20251102T060000
END:STANDARD
BEGIN:DAYLIGHT
TZOFFSETFROM:-0500
TZOFFSETTO:-0400
TZNAME:EDT
DTSTART:20260308T070000
END:DAYLIGHT
BEGIN:STANDARD
TZOFFSETFROM:-0400
TZOFFSETTO:-0500
TZNAME:EST
DTSTART:20261101T060000
END:STANDARD
BEGIN:DAYLIGHT
TZOFFSETFROM:-0500
TZOFFSETTO:-0400
TZNAME:EDT
DTSTART:20270314T070000
END:DAYLIGHT
BEGIN:STANDARD
TZOFFSETFROM:-0400
TZOFFSETTO:-0500
TZNAME:EST
DTSTART:20271107T060000
END:STANDARD
END:VTIMEZONE
BEGIN:VEVENT
DTSTART;TZID=America/New_York:20260603T090000
DTEND;TZID=America/New_York:20260603T170000
DTSTAMP:20260419T221111
CREATED:20260211T180450Z
LAST-MODIFIED:20260211T180450Z
UID:10002046-1780477200-1780506000@www.dorsetvt.com
SUMMARY:Local’s Day @ JK Adams Kitchen Store
DESCRIPTION:Local’s Day @ JK Adams Kitchen Store \nEvery Wednesday in February & March is Local’s Day – where everyone is a local! Spin the wheel and win a discount up to 30% of on your entire purchase (some exclusions apply). Exclusions include already discounted items and electronics.
URL:https://www.dorsetvt.com/dorset-events/locals-day-jk-adams-kitchen-store/2026-06-03/
LOCATION:JK Adams\, Rte 30\, Dorset\, VT\, 05251\, United States
ATTACH;FMTTYPE=image/jpeg:https://www.dorsetvt.com/wp-content/uploads/2026/02/Locals-Day-Social-2.jpg
END:VEVENT
BEGIN:VEVENT
DTSTART;TZID=America/New_York:20260603T100000
DTEND;TZID=America/New_York:20260603T110000
DTSTAMP:20260419T221111
CREATED:20260130T200149Z
LAST-MODIFIED:20260323T175057Z
UID:10001784-1780480800-1780484400@www.dorsetvt.com
SUMMARY:Storytime at Dorset Village Library
DESCRIPTION:Story Time | Wednesdays at 10AM \nJoin us in the Children’s Room* every Wednesday at 10am for stories\, songs and play! Even the littlest kiddos learn at Story Time! No registration. \n*Please note this room is only accessible by stair\, we have no elevator.
URL:https://www.dorsetvt.com/dorset-events/storytime-at-dorset-village-library/2026-06-03/
LOCATION:The Dorset Village Library\, 13 Church Street\, Dorset\, VT\, 05251\, United States
ATTACH;FMTTYPE=image/png:https://www.dorsetvt.com/wp-content/uploads/2026/01/Story-Time-1.png
END:VEVENT
BEGIN:VEVENT
DTSTART;TZID=America/New_York:20260603T100000
DTEND;TZID=America/New_York:20260603T113000
DTSTAMP:20260419T221111
CREATED:20260128T184647Z
LAST-MODIFIED:20260302T145643Z
UID:10002143-1780480800-1780486200@www.dorsetvt.com
SUMMARY:Kits and Cubs at Merck Forest
DESCRIPTION:Kits and Cubs at Merck Forest \nWednesday and Fridays 10am-11:30am \nBring your toddlers and preschoolers (18 months to 5 years old) for an unforgettable outdoor adventure! Every session is packed with nature-themed activities\, songs\, stories\, and take-home crafts designed to spark curiosity.
URL:https://www.dorsetvt.com/dorset-events/kits-and-cubs-at-merck-forest/2026-06-03/
LOCATION:Merck Forest\, 3270 VT-315\, Rupert\, VT\, United States
ATTACH;FMTTYPE=image/jpeg:https://www.dorsetvt.com/wp-content/uploads/2026/01/IMG_0638-1.jpeg
END:VEVENT
BEGIN:VEVENT
DTSTART;TZID=America/New_York:20260605T100000
DTEND;TZID=America/New_York:20260605T113000
DTSTAMP:20260419T221111
CREATED:20260128T184647Z
LAST-MODIFIED:20260302T145643Z
UID:10002144-1780653600-1780659000@www.dorsetvt.com
SUMMARY:Kits and Cubs at Merck Forest
DESCRIPTION:Kits and Cubs at Merck Forest \nWednesday and Fridays 10am-11:30am \nBring your toddlers and preschoolers (18 months to 5 years old) for an unforgettable outdoor adventure! Every session is packed with nature-themed activities\, songs\, stories\, and take-home crafts designed to spark curiosity.
URL:https://www.dorsetvt.com/dorset-events/kits-and-cubs-at-merck-forest/2026-06-05/
LOCATION:Merck Forest\, 3270 VT-315\, Rupert\, VT\, United States
ATTACH;FMTTYPE=image/jpeg:https://www.dorsetvt.com/wp-content/uploads/2026/01/IMG_0638-1.jpeg
END:VEVENT
BEGIN:VEVENT
DTSTART;TZID=America/New_York:20260609T100000
DTEND;TZID=America/New_York:20260609T113000
DTSTAMP:20260419T221111
CREATED:20260408T123816Z
LAST-MODIFIED:20260408T123816Z
UID:10002693-1780999200-1781004600@www.dorsetvt.com
SUMMARY:GMALL Presents: Behind the Headlines
DESCRIPTION:Behind the Headlines: A Weekly Conversation \nmoderated by Peter Radford \n\n\n\n\n\n\n\n\n\n\n\n\n\n\n\nJoin this engaging weekly forum to explore the deeper themes and ideas shaping today’s news. Each session features a topic introduced by the moderator\, who may share background materials and guide a thoughtful\, balanced discussion. Hear diverse perspectives\, exchange ideas\, and share your own views in a welcoming\, small-group setting. Enrollment is limited. \nRegister Here: https://greenmtnacademy.org/\n\n\n\n\n\n\n\n\n\n\n\n\n\n\n\nTen consecutive Tuesdays  \nbeginning April 21 and ending on June 23 \n10-11:30 am \nvia Zoom \n$100
URL:https://www.dorsetvt.com/dorset-events/gmall-presents-behind-the-headlines/2026-06-09/
LOCATION:VT
END:VEVENT
BEGIN:VEVENT
DTSTART;TZID=America/New_York:20260609T170000
DTEND;TZID=America/New_York:20260609T180000
DTSTAMP:20260419T221111
CREATED:20250729T121432Z
LAST-MODIFIED:20250729T121432Z
UID:10000817-1781024400-1781028000@www.dorsetvt.com
SUMMARY:Dorset Knitters at Library
DESCRIPTION:Are you an expert knitter? Can only knit and purl? Or want to learn from scratch?\nJoin the Dorset Knitters at 5pm every Tuesday!\nSnacks (finger foods) and beverages are pot-luck style! \nEmail: dorsetvillagelibrary@gmail.com if you have questions…or if you’re interested in Loom Knitting!
URL:https://www.dorsetvt.com/dorset-events/dorset-knitters-at-library/2026-06-09/
LOCATION:The Dorset Village Library\, 13 Church Street\, Dorset\, VT\, 05251\, United States
ATTACH;FMTTYPE=image/jpeg:https://www.dorsetvt.com/wp-content/uploads/2025/07/IMG_7679.jpeg
END:VEVENT
BEGIN:VEVENT
DTSTART;TZID=America/New_York:20260610T090000
DTEND;TZID=America/New_York:20260610T170000
DTSTAMP:20260419T221111
CREATED:20260211T180450Z
LAST-MODIFIED:20260211T180450Z
UID:10002047-1781082000-1781110800@www.dorsetvt.com
SUMMARY:Local’s Day @ JK Adams Kitchen Store
DESCRIPTION:Local’s Day @ JK Adams Kitchen Store \nEvery Wednesday in February & March is Local’s Day – where everyone is a local! Spin the wheel and win a discount up to 30% of on your entire purchase (some exclusions apply). Exclusions include already discounted items and electronics.
URL:https://www.dorsetvt.com/dorset-events/locals-day-jk-adams-kitchen-store/2026-06-10/
LOCATION:JK Adams\, Rte 30\, Dorset\, VT\, 05251\, United States
ATTACH;FMTTYPE=image/jpeg:https://www.dorsetvt.com/wp-content/uploads/2026/02/Locals-Day-Social-2.jpg
END:VEVENT
BEGIN:VEVENT
DTSTART;TZID=America/New_York:20260610T100000
DTEND;TZID=America/New_York:20260610T110000
DTSTAMP:20260419T221111
CREATED:20260130T200149Z
LAST-MODIFIED:20260323T175057Z
UID:10001785-1781085600-1781089200@www.dorsetvt.com
SUMMARY:Storytime at Dorset Village Library
DESCRIPTION:Story Time | Wednesdays at 10AM \nJoin us in the Children’s Room* every Wednesday at 10am for stories\, songs and play! Even the littlest kiddos learn at Story Time! No registration. \n*Please note this room is only accessible by stair\, we have no elevator.
URL:https://www.dorsetvt.com/dorset-events/storytime-at-dorset-village-library/2026-06-10/
LOCATION:The Dorset Village Library\, 13 Church Street\, Dorset\, VT\, 05251\, United States
ATTACH;FMTTYPE=image/png:https://www.dorsetvt.com/wp-content/uploads/2026/01/Story-Time-1.png
END:VEVENT
BEGIN:VEVENT
DTSTART;TZID=America/New_York:20260610T100000
DTEND;TZID=America/New_York:20260610T113000
DTSTAMP:20260419T221111
CREATED:20260128T184647Z
LAST-MODIFIED:20260302T145643Z
UID:10002145-1781085600-1781091000@www.dorsetvt.com
SUMMARY:Kits and Cubs at Merck Forest
DESCRIPTION:Kits and Cubs at Merck Forest \nWednesday and Fridays 10am-11:30am \nBring your toddlers and preschoolers (18 months to 5 years old) for an unforgettable outdoor adventure! Every session is packed with nature-themed activities\, songs\, stories\, and take-home crafts designed to spark curiosity.
URL:https://www.dorsetvt.com/dorset-events/kits-and-cubs-at-merck-forest/2026-06-10/
LOCATION:Merck Forest\, 3270 VT-315\, Rupert\, VT\, United States
ATTACH;FMTTYPE=image/jpeg:https://www.dorsetvt.com/wp-content/uploads/2026/01/IMG_0638-1.jpeg
END:VEVENT
BEGIN:VEVENT
DTSTART;TZID=America/New_York:20260612T100000
DTEND;TZID=America/New_York:20260612T113000
DTSTAMP:20260419T221111
CREATED:20260128T184647Z
LAST-MODIFIED:20260302T145643Z
UID:10002146-1781258400-1781263800@www.dorsetvt.com
SUMMARY:Kits and Cubs at Merck Forest
DESCRIPTION:Kits and Cubs at Merck Forest \nWednesday and Fridays 10am-11:30am \nBring your toddlers and preschoolers (18 months to 5 years old) for an unforgettable outdoor adventure! Every session is packed with nature-themed activities\, songs\, stories\, and take-home crafts designed to spark curiosity.
URL:https://www.dorsetvt.com/dorset-events/kits-and-cubs-at-merck-forest/2026-06-12/
LOCATION:Merck Forest\, 3270 VT-315\, Rupert\, VT\, United States
ATTACH;FMTTYPE=image/jpeg:https://www.dorsetvt.com/wp-content/uploads/2026/01/IMG_0638-1.jpeg
END:VEVENT
BEGIN:VEVENT
DTSTART;TZID=America/New_York:20260616T100000
DTEND;TZID=America/New_York:20260616T113000
DTSTAMP:20260419T221111
CREATED:20260408T123816Z
LAST-MODIFIED:20260408T123816Z
UID:10002694-1781604000-1781609400@www.dorsetvt.com
SUMMARY:GMALL Presents: Behind the Headlines
DESCRIPTION:Behind the Headlines: A Weekly Conversation \nmoderated by Peter Radford \n\n\n\n\n\n\n\n\n\n\n\n\n\n\n\nJoin this engaging weekly forum to explore the deeper themes and ideas shaping today’s news. Each session features a topic introduced by the moderator\, who may share background materials and guide a thoughtful\, balanced discussion. Hear diverse perspectives\, exchange ideas\, and share your own views in a welcoming\, small-group setting. Enrollment is limited. \nRegister Here: https://greenmtnacademy.org/\n\n\n\n\n\n\n\n\n\n\n\n\n\n\n\nTen consecutive Tuesdays  \nbeginning April 21 and ending on June 23 \n10-11:30 am \nvia Zoom \n$100
URL:https://www.dorsetvt.com/dorset-events/gmall-presents-behind-the-headlines/2026-06-16/
LOCATION:VT
END:VEVENT
BEGIN:VEVENT
DTSTART;TZID=America/New_York:20260616T170000
DTEND;TZID=America/New_York:20260616T180000
DTSTAMP:20260419T221111
CREATED:20250729T121432Z
LAST-MODIFIED:20250729T121432Z
UID:10000818-1781629200-1781632800@www.dorsetvt.com
SUMMARY:Dorset Knitters at Library
DESCRIPTION:Are you an expert knitter? Can only knit and purl? Or want to learn from scratch?\nJoin the Dorset Knitters at 5pm every Tuesday!\nSnacks (finger foods) and beverages are pot-luck style! \nEmail: dorsetvillagelibrary@gmail.com if you have questions…or if you’re interested in Loom Knitting!
URL:https://www.dorsetvt.com/dorset-events/dorset-knitters-at-library/2026-06-16/
LOCATION:The Dorset Village Library\, 13 Church Street\, Dorset\, VT\, 05251\, United States
ATTACH;FMTTYPE=image/jpeg:https://www.dorsetvt.com/wp-content/uploads/2025/07/IMG_7679.jpeg
END:VEVENT
BEGIN:VEVENT
DTSTART;TZID=America/New_York:20260617T090000
DTEND;TZID=America/New_York:20260617T170000
DTSTAMP:20260419T221111
CREATED:20260211T180450Z
LAST-MODIFIED:20260211T180450Z
UID:10002048-1781686800-1781715600@www.dorsetvt.com
SUMMARY:Local’s Day @ JK Adams Kitchen Store
DESCRIPTION:Local’s Day @ JK Adams Kitchen Store \nEvery Wednesday in February & March is Local’s Day – where everyone is a local! Spin the wheel and win a discount up to 30% of on your entire purchase (some exclusions apply). Exclusions include already discounted items and electronics.
URL:https://www.dorsetvt.com/dorset-events/locals-day-jk-adams-kitchen-store/2026-06-17/
LOCATION:JK Adams\, Rte 30\, Dorset\, VT\, 05251\, United States
ATTACH;FMTTYPE=image/jpeg:https://www.dorsetvt.com/wp-content/uploads/2026/02/Locals-Day-Social-2.jpg
END:VEVENT
BEGIN:VEVENT
DTSTART;TZID=America/New_York:20260617T100000
DTEND;TZID=America/New_York:20260617T110000
DTSTAMP:20260419T221111
CREATED:20260130T200149Z
LAST-MODIFIED:20260323T175057Z
UID:10001786-1781690400-1781694000@www.dorsetvt.com
SUMMARY:Storytime at Dorset Village Library
DESCRIPTION:Story Time | Wednesdays at 10AM \nJoin us in the Children’s Room* every Wednesday at 10am for stories\, songs and play! Even the littlest kiddos learn at Story Time! No registration. \n*Please note this room is only accessible by stair\, we have no elevator.
URL:https://www.dorsetvt.com/dorset-events/storytime-at-dorset-village-library/2026-06-17/
LOCATION:The Dorset Village Library\, 13 Church Street\, Dorset\, VT\, 05251\, United States
ATTACH;FMTTYPE=image/png:https://www.dorsetvt.com/wp-content/uploads/2026/01/Story-Time-1.png
END:VEVENT
BEGIN:VEVENT
DTSTART;TZID=America/New_York:20260617T100000
DTEND;TZID=America/New_York:20260617T113000
DTSTAMP:20260419T221111
CREATED:20260128T184647Z
LAST-MODIFIED:20260302T145643Z
UID:10002147-1781690400-1781695800@www.dorsetvt.com
SUMMARY:Kits and Cubs at Merck Forest
DESCRIPTION:Kits and Cubs at Merck Forest \nWednesday and Fridays 10am-11:30am \nBring your toddlers and preschoolers (18 months to 5 years old) for an unforgettable outdoor adventure! Every session is packed with nature-themed activities\, songs\, stories\, and take-home crafts designed to spark curiosity.
URL:https://www.dorsetvt.com/dorset-events/kits-and-cubs-at-merck-forest/2026-06-17/
LOCATION:Merck Forest\, 3270 VT-315\, Rupert\, VT\, United States
ATTACH;FMTTYPE=image/jpeg:https://www.dorsetvt.com/wp-content/uploads/2026/01/IMG_0638-1.jpeg
END:VEVENT
BEGIN:VEVENT
DTSTART;TZID=America/New_York:20260619T100000
DTEND;TZID=America/New_York:20260619T113000
DTSTAMP:20260419T221111
CREATED:20260128T184647Z
LAST-MODIFIED:20260302T145643Z
UID:10002148-1781863200-1781868600@www.dorsetvt.com
SUMMARY:Kits and Cubs at Merck Forest
DESCRIPTION:Kits and Cubs at Merck Forest \nWednesday and Fridays 10am-11:30am \nBring your toddlers and preschoolers (18 months to 5 years old) for an unforgettable outdoor adventure! Every session is packed with nature-themed activities\, songs\, stories\, and take-home crafts designed to spark curiosity.
URL:https://www.dorsetvt.com/dorset-events/kits-and-cubs-at-merck-forest/2026-06-19/
LOCATION:Merck Forest\, 3270 VT-315\, Rupert\, VT\, United States
ATTACH;FMTTYPE=image/jpeg:https://www.dorsetvt.com/wp-content/uploads/2026/01/IMG_0638-1.jpeg
END:VEVENT
BEGIN:VEVENT
DTSTART;TZID=America/New_York:20260620T090000
DTEND;TZID=America/New_York:20260620T100000
DTSTAMP:20260419T221111
CREATED:20260318T122309Z
LAST-MODIFIED:20260318T122309Z
UID:10002650-1781946000-1781949600@www.dorsetvt.com
SUMMARY:2nd Annual Longest Day 5K
DESCRIPTION:When: June 20th\, 2026 at 9:00 AM (Plan to arrive between 8:00-8:30am) \n\nWhere: Parking at JK Adams Kitchen Store and Raptor Lane (across from the Dorset RV Park)\n\nParking will be limited so arrive early if possible. Overflow will be at Raptor Lane.\n\nCourse will be slightly different this year. We are altering the course to include more of the flow bike trails to make the course more beginner friendly. \n\n$30 Registration fee. NO STROLLERS! NO DOGS! Sections of trail are single track technical. \n \nAll funds from this 5K will go towards the 2026 summer crew. Each summer Hike Dorset hires a small crew to perform trail work\, trail building and repair\, invasive species removal\, water feature repair and maintenance\, and other tasks needed to maintain the beautiful parkland and forests of Dorset\, Vermont. \n\nBefore running (or walking) this 5K\, you will need to register and fill out liability waiver at the event. Waivers will be available at check-in on June 20th and must be filled out before participation.\n\nAnyone under 18 will need to have a parent or guardian sign the waiver.\n\n\nRegistration link: https://forms.gle/heXdWC1xRFeKBJ636\nQuestions? Email: hikedorset@gmail.com
URL:https://www.dorsetvt.com/dorset-events/2nd-annual-longest-day-5k/
LOCATION:JK Adams\, Rte 30\, Dorset\, VT\, 05251\, United States
ATTACH;FMTTYPE=image/jpeg:https://www.dorsetvt.com/wp-content/uploads/2026/03/IMG_1502.jpeg
END:VEVENT
BEGIN:VEVENT
DTSTART;TZID=America/New_York:20260623T100000
DTEND;TZID=America/New_York:20260623T113000
DTSTAMP:20260419T221111
CREATED:20260408T123816Z
LAST-MODIFIED:20260408T123816Z
UID:10002695-1782208800-1782214200@www.dorsetvt.com
SUMMARY:GMALL Presents: Behind the Headlines
DESCRIPTION:Behind the Headlines: A Weekly Conversation \nmoderated by Peter Radford \n\n\n\n\n\n\n\n\n\n\n\n\n\n\n\nJoin this engaging weekly forum to explore the deeper themes and ideas shaping today’s news. Each session features a topic introduced by the moderator\, who may share background materials and guide a thoughtful\, balanced discussion. Hear diverse perspectives\, exchange ideas\, and share your own views in a welcoming\, small-group setting. Enrollment is limited. \nRegister Here: https://greenmtnacademy.org/\n\n\n\n\n\n\n\n\n\n\n\n\n\n\n\nTen consecutive Tuesdays  \nbeginning April 21 and ending on June 23 \n10-11:30 am \nvia Zoom \n$100
URL:https://www.dorsetvt.com/dorset-events/gmall-presents-behind-the-headlines/2026-06-23/
LOCATION:VT
END:VEVENT
BEGIN:VEVENT
DTSTART;TZID=America/New_York:20260623T170000
DTEND;TZID=America/New_York:20260623T180000
DTSTAMP:20260419T221111
CREATED:20250729T121432Z
LAST-MODIFIED:20250729T121432Z
UID:10000819-1782234000-1782237600@www.dorsetvt.com
SUMMARY:Dorset Knitters at Library
DESCRIPTION:Are you an expert knitter? Can only knit and purl? Or want to learn from scratch?\nJoin the Dorset Knitters at 5pm every Tuesday!\nSnacks (finger foods) and beverages are pot-luck style! \nEmail: dorsetvillagelibrary@gmail.com if you have questions…or if you’re interested in Loom Knitting!
URL:https://www.dorsetvt.com/dorset-events/dorset-knitters-at-library/2026-06-23/
LOCATION:The Dorset Village Library\, 13 Church Street\, Dorset\, VT\, 05251\, United States
ATTACH;FMTTYPE=image/jpeg:https://www.dorsetvt.com/wp-content/uploads/2025/07/IMG_7679.jpeg
END:VEVENT
BEGIN:VEVENT
DTSTART;TZID=America/New_York:20260624T090000
DTEND;TZID=America/New_York:20260624T170000
DTSTAMP:20260419T221111
CREATED:20260211T180450Z
LAST-MODIFIED:20260211T180450Z
UID:10002049-1782291600-1782320400@www.dorsetvt.com
SUMMARY:Local’s Day @ JK Adams Kitchen Store
DESCRIPTION:Local’s Day @ JK Adams Kitchen Store \nEvery Wednesday in February & March is Local’s Day – where everyone is a local! Spin the wheel and win a discount up to 30% of on your entire purchase (some exclusions apply). Exclusions include already discounted items and electronics.
URL:https://www.dorsetvt.com/dorset-events/locals-day-jk-adams-kitchen-store/2026-06-24/
LOCATION:JK Adams\, Rte 30\, Dorset\, VT\, 05251\, United States
ATTACH;FMTTYPE=image/jpeg:https://www.dorsetvt.com/wp-content/uploads/2026/02/Locals-Day-Social-2.jpg
END:VEVENT
BEGIN:VEVENT
DTSTART;TZID=America/New_York:20260624T100000
DTEND;TZID=America/New_York:20260624T110000
DTSTAMP:20260419T221111
CREATED:20260130T200149Z
LAST-MODIFIED:20260323T175057Z
UID:10001787-1782295200-1782298800@www.dorsetvt.com
SUMMARY:Storytime at Dorset Village Library
DESCRIPTION:Story Time | Wednesdays at 10AM \nJoin us in the Children’s Room* every Wednesday at 10am for stories\, songs and play! Even the littlest kiddos learn at Story Time! No registration. \n*Please note this room is only accessible by stair\, we have no elevator.
URL:https://www.dorsetvt.com/dorset-events/storytime-at-dorset-village-library/2026-06-24/
LOCATION:The Dorset Village Library\, 13 Church Street\, Dorset\, VT\, 05251\, United States
ATTACH;FMTTYPE=image/png:https://www.dorsetvt.com/wp-content/uploads/2026/01/Story-Time-1.png
END:VEVENT
BEGIN:VEVENT
DTSTART;TZID=America/New_York:20260630T100000
DTEND;TZID=America/New_York:20260630T113000
DTSTAMP:20260419T221111
CREATED:20260408T123816Z
LAST-MODIFIED:20260408T123816Z
UID:10002696-1782813600-1782819000@www.dorsetvt.com
SUMMARY:GMALL Presents: Behind the Headlines
DESCRIPTION:Behind the Headlines: A Weekly Conversation \nmoderated by Peter Radford \n\n\n\n\n\n\n\n\n\n\n\n\n\n\n\nJoin this engaging weekly forum to explore the deeper themes and ideas shaping today’s news. Each session features a topic introduced by the moderator\, who may share background materials and guide a thoughtful\, balanced discussion. Hear diverse perspectives\, exchange ideas\, and share your own views in a welcoming\, small-group setting. Enrollment is limited. \nRegister Here: https://greenmtnacademy.org/\n\n\n\n\n\n\n\n\n\n\n\n\n\n\n\nTen consecutive Tuesdays  \nbeginning April 21 and ending on June 23 \n10-11:30 am \nvia Zoom \n$100
URL:https://www.dorsetvt.com/dorset-events/gmall-presents-behind-the-headlines/2026-06-30/
LOCATION:VT
END:VEVENT
BEGIN:VEVENT
DTSTART;TZID=America/New_York:20260630T170000
DTEND;TZID=America/New_York:20260630T180000
DTSTAMP:20260419T221111
CREATED:20250729T121432Z
LAST-MODIFIED:20250729T121432Z
UID:10000820-1782838800-1782842400@www.dorsetvt.com
SUMMARY:Dorset Knitters at Library
DESCRIPTION:Are you an expert knitter? Can only knit and purl? Or want to learn from scratch?\nJoin the Dorset Knitters at 5pm every Tuesday!\nSnacks (finger foods) and beverages are pot-luck style! \nEmail: dorsetvillagelibrary@gmail.com if you have questions…or if you’re interested in Loom Knitting!
URL:https://www.dorsetvt.com/dorset-events/dorset-knitters-at-library/2026-06-30/
LOCATION:The Dorset Village Library\, 13 Church Street\, Dorset\, VT\, 05251\, United States
ATTACH;FMTTYPE=image/jpeg:https://www.dorsetvt.com/wp-content/uploads/2025/07/IMG_7679.jpeg
END:VEVENT
BEGIN:VEVENT
DTSTART;TZID=America/New_York:20260701T090000
DTEND;TZID=America/New_York:20260701T170000
DTSTAMP:20260419T221111
CREATED:20260211T180450Z
LAST-MODIFIED:20260211T180450Z
UID:10002050-1782896400-1782925200@www.dorsetvt.com
SUMMARY:Local’s Day @ JK Adams Kitchen Store
DESCRIPTION:Local’s Day @ JK Adams Kitchen Store \nEvery Wednesday in February & March is Local’s Day – where everyone is a local! Spin the wheel and win a discount up to 30% of on your entire purchase (some exclusions apply). Exclusions include already discounted items and electronics.
URL:https://www.dorsetvt.com/dorset-events/locals-day-jk-adams-kitchen-store/2026-07-01/
LOCATION:JK Adams\, Rte 30\, Dorset\, VT\, 05251\, United States
ATTACH;FMTTYPE=image/jpeg:https://www.dorsetvt.com/wp-content/uploads/2026/02/Locals-Day-Social-2.jpg
END:VEVENT
BEGIN:VEVENT
DTSTART;TZID=America/New_York:20260701T100000
DTEND;TZID=America/New_York:20260701T110000
DTSTAMP:20260419T221111
CREATED:20260130T200149Z
LAST-MODIFIED:20260323T175057Z
UID:10001788-1782900000-1782903600@www.dorsetvt.com
SUMMARY:Storytime at Dorset Village Library
DESCRIPTION:Story Time | Wednesdays at 10AM \nJoin us in the Children’s Room* every Wednesday at 10am for stories\, songs and play! Even the littlest kiddos learn at Story Time! No registration. \n*Please note this room is only accessible by stair\, we have no elevator.
URL:https://www.dorsetvt.com/dorset-events/storytime-at-dorset-village-library/2026-07-01/
LOCATION:The Dorset Village Library\, 13 Church Street\, Dorset\, VT\, 05251\, United States
ATTACH;FMTTYPE=image/png:https://www.dorsetvt.com/wp-content/uploads/2026/01/Story-Time-1.png
END:VEVENT
BEGIN:VEVENT
DTSTART;TZID=America/New_York:20260701T100000
DTEND;TZID=America/New_York:20260701T113000
DTSTAMP:20260419T221111
CREATED:20260128T184647Z
LAST-MODIFIED:20260302T145643Z
UID:10002149-1782900000-1782905400@www.dorsetvt.com
SUMMARY:Kits and Cubs at Merck Forest
DESCRIPTION:Kits and Cubs at Merck Forest \nWednesday and Fridays 10am-11:30am \nBring your toddlers and preschoolers (18 months to 5 years old) for an unforgettable outdoor adventure! Every session is packed with nature-themed activities\, songs\, stories\, and take-home crafts designed to spark curiosity.
URL:https://www.dorsetvt.com/dorset-events/kits-and-cubs-at-merck-forest/2026-07-01/
LOCATION:Merck Forest\, 3270 VT-315\, Rupert\, VT\, United States
ATTACH;FMTTYPE=image/jpeg:https://www.dorsetvt.com/wp-content/uploads/2026/01/IMG_0638-1.jpeg
END:VEVENT
BEGIN:VEVENT
DTSTART;TZID=America/New_York:20260703T100000
DTEND;TZID=America/New_York:20260703T113000
DTSTAMP:20260419T221111
CREATED:20260128T184647Z
LAST-MODIFIED:20260302T145643Z
UID:10002150-1783072800-1783078200@www.dorsetvt.com
SUMMARY:Kits and Cubs at Merck Forest
DESCRIPTION:Kits and Cubs at Merck Forest \nWednesday and Fridays 10am-11:30am \nBring your toddlers and preschoolers (18 months to 5 years old) for an unforgettable outdoor adventure! Every session is packed with nature-themed activities\, songs\, stories\, and take-home crafts designed to spark curiosity.
URL:https://www.dorsetvt.com/dorset-events/kits-and-cubs-at-merck-forest/2026-07-03/
LOCATION:Merck Forest\, 3270 VT-315\, Rupert\, VT\, United States
ATTACH;FMTTYPE=image/jpeg:https://www.dorsetvt.com/wp-content/uploads/2026/01/IMG_0638-1.jpeg
END:VEVENT
BEGIN:VEVENT
DTSTART;TZID=America/New_York:20260707T100000
DTEND;TZID=America/New_York:20260707T113000
DTSTAMP:20260419T221111
CREATED:20260408T123816Z
LAST-MODIFIED:20260408T123816Z
UID:10002697-1783418400-1783423800@www.dorsetvt.com
SUMMARY:GMALL Presents: Behind the Headlines
DESCRIPTION:Behind the Headlines: A Weekly Conversation \nmoderated by Peter Radford \n\n\n\n\n\n\n\n\n\n\n\n\n\n\n\nJoin this engaging weekly forum to explore the deeper themes and ideas shaping today’s news. Each session features a topic introduced by the moderator\, who may share background materials and guide a thoughtful\, balanced discussion. Hear diverse perspectives\, exchange ideas\, and share your own views in a welcoming\, small-group setting. Enrollment is limited. \nRegister Here: https://greenmtnacademy.org/\n\n\n\n\n\n\n\n\n\n\n\n\n\n\n\nTen consecutive Tuesdays  \nbeginning April 21 and ending on June 23 \n10-11:30 am \nvia Zoom \n$100
URL:https://www.dorsetvt.com/dorset-events/gmall-presents-behind-the-headlines/2026-07-07/
LOCATION:VT
END:VEVENT
BEGIN:VEVENT
DTSTART;TZID=America/New_York:20260707T170000
DTEND;TZID=America/New_York:20260707T180000
DTSTAMP:20260419T221111
CREATED:20250729T121432Z
LAST-MODIFIED:20250729T121432Z
UID:10000821-1783443600-1783447200@www.dorsetvt.com
SUMMARY:Dorset Knitters at Library
DESCRIPTION:Are you an expert knitter? Can only knit and purl? Or want to learn from scratch?\nJoin the Dorset Knitters at 5pm every Tuesday!\nSnacks (finger foods) and beverages are pot-luck style! \nEmail: dorsetvillagelibrary@gmail.com if you have questions…or if you’re interested in Loom Knitting!
URL:https://www.dorsetvt.com/dorset-events/dorset-knitters-at-library/2026-07-07/
LOCATION:The Dorset Village Library\, 13 Church Street\, Dorset\, VT\, 05251\, United States
ATTACH;FMTTYPE=image/jpeg:https://www.dorsetvt.com/wp-content/uploads/2025/07/IMG_7679.jpeg
END:VEVENT
BEGIN:VEVENT
DTSTART;TZID=America/New_York:20260708T090000
DTEND;TZID=America/New_York:20260708T170000
DTSTAMP:20260419T221111
CREATED:20260211T180450Z
LAST-MODIFIED:20260211T180450Z
UID:10002051-1783501200-1783530000@www.dorsetvt.com
SUMMARY:Local’s Day @ JK Adams Kitchen Store
DESCRIPTION:Local’s Day @ JK Adams Kitchen Store \nEvery Wednesday in February & March is Local’s Day – where everyone is a local! Spin the wheel and win a discount up to 30% of on your entire purchase (some exclusions apply). Exclusions include already discounted items and electronics.
URL:https://www.dorsetvt.com/dorset-events/locals-day-jk-adams-kitchen-store/2026-07-08/
LOCATION:JK Adams\, Rte 30\, Dorset\, VT\, 05251\, United States
ATTACH;FMTTYPE=image/jpeg:https://www.dorsetvt.com/wp-content/uploads/2026/02/Locals-Day-Social-2.jpg
END:VEVENT
END:VCALENDAR