BEGIN:VCALENDAR
VERSION:2.0
PRODID:-//Discover Dorset Vermont - ECPv6.15.20//NONSGML v1.0//EN
CALSCALE:GREGORIAN
METHOD:PUBLISH
X-WR-CALNAME:Discover Dorset Vermont
X-ORIGINAL-URL:https://www.dorsetvt.com
X-WR-CALDESC:Events for Discover Dorset Vermont
REFRESH-INTERVAL;VALUE=DURATION:PT1H
X-Robots-Tag:noindex
X-PUBLISHED-TTL:PT1H
BEGIN:VTIMEZONE
TZID:America/New_York
BEGIN:DAYLIGHT
TZOFFSETFROM:-0500
TZOFFSETTO:-0400
TZNAME:EDT
DTSTART:20250309T070000
END:DAYLIGHT
BEGIN:STANDARD
TZOFFSETFROM:-0400
TZOFFSETTO:-0500
TZNAME:EST
DTSTART:20251102T060000
END:STANDARD
BEGIN:DAYLIGHT
TZOFFSETFROM:-0500
TZOFFSETTO:-0400
TZNAME:EDT
DTSTART:20260308T070000
END:DAYLIGHT
BEGIN:STANDARD
TZOFFSETFROM:-0400
TZOFFSETTO:-0500
TZNAME:EST
DTSTART:20261101T060000
END:STANDARD
BEGIN:DAYLIGHT
TZOFFSETFROM:-0500
TZOFFSETTO:-0400
TZNAME:EDT
DTSTART:20270314T070000
END:DAYLIGHT
BEGIN:STANDARD
TZOFFSETFROM:-0400
TZOFFSETTO:-0500
TZNAME:EST
DTSTART:20271107T060000
END:STANDARD
END:VTIMEZONE
BEGIN:VEVENT
DTSTART;TZID=America/New_York:20260515T193000
DTEND;TZID=America/New_York:20260515T213000
DTSTAMP:20260419T145711
CREATED:20260213T111232Z
LAST-MODIFIED:20260213T111232Z
UID:10002105-1778873400-1778880600@www.dorsetvt.com
SUMMARY:Dorset Players presents Something Rotten!
DESCRIPTION:Something Rotten!  \nMusic & Lyrics by Karey Kirkpatrick & Wayne Kirkpatrick \nBook by Karey Kirkpatrick & John O’Farrell \nDirected and Choreographed by Renee Wymer \nMusical Direction by Lorri Bond \nProduced by Lynne Worth \nPresenting Sponsors: Burns Insurance Agency \nRE/MAX Four Seasons \nUnion Underground/Union South \nShow Sponsors: Haystack Catering \nGSK Climate Control \nMason Dental \n\n  \nWelcome to the Renaissance and the outrageous\, crowd-pleasing musical farce\, Something Rotten. Created by Grammy Award-winning songwriter Wayne Kirkpatrick\, and successful screenwriters Karey Kirkpatrick and John O’Farrell\, Something Rotten was lauded by audience members and critics alike\, receiving several Best Musical nominations and hailed by Time Out New York as “the funniest musical comedy in at least 400 years”. \nSet in the 1590s\, brothers Nick and Nigel Bottom are desperate to write a hit play but are stuck in the shadow of that Renaissance rock star known as “The Bard.” When a local soothsayer foretells that the future of theatre involves singing\, dancing and acting at the same time\, Nick and Nigel set out to write the world’s very first musical. But amidst the scandalous excitement of opening night\, the Bottom Brothers realize that reaching the top means being true to thine own self\, and all that jazz. \nSomething Rotten features large song and dance numbers\, and a wacky cast of over-the-top characters\, each with their own moment to shine. Throughout its Broadway run\, the musical received a show-stopping standing ovation from audiences… in the beginning of the first act! It’s become clear that “nothing’s as amazing as a musical\,”. \n\n  \nPerformance Dates & Times: \nMay 15\, 16\, 22 & 23\, 2026 at 7:30PM \nMay 17 & 24\, 2026 at 2PM
URL:https://www.dorsetvt.com/dorset-events/dorset-players-presents-something-rotten/2026-05-15/
LOCATION:The Dorset Playhouse\, 104 Cheney Rd\, Dorset\, VT\, 05251\, United States
ATTACH;FMTTYPE=image/jpeg:https://www.dorsetvt.com/wp-content/uploads/2026/02/IMG_1126.jpeg
END:VEVENT
BEGIN:VEVENT
DTSTART;TZID=America/New_York:20260516T193000
DTEND;TZID=America/New_York:20260516T213000
DTSTAMP:20260419T145711
CREATED:20260213T111232Z
LAST-MODIFIED:20260213T111232Z
UID:10002106-1778959800-1778967000@www.dorsetvt.com
SUMMARY:Dorset Players presents Something Rotten!
DESCRIPTION:Something Rotten!  \nMusic & Lyrics by Karey Kirkpatrick & Wayne Kirkpatrick \nBook by Karey Kirkpatrick & John O’Farrell \nDirected and Choreographed by Renee Wymer \nMusical Direction by Lorri Bond \nProduced by Lynne Worth \nPresenting Sponsors: Burns Insurance Agency \nRE/MAX Four Seasons \nUnion Underground/Union South \nShow Sponsors: Haystack Catering \nGSK Climate Control \nMason Dental \n\n  \nWelcome to the Renaissance and the outrageous\, crowd-pleasing musical farce\, Something Rotten. Created by Grammy Award-winning songwriter Wayne Kirkpatrick\, and successful screenwriters Karey Kirkpatrick and John O’Farrell\, Something Rotten was lauded by audience members and critics alike\, receiving several Best Musical nominations and hailed by Time Out New York as “the funniest musical comedy in at least 400 years”. \nSet in the 1590s\, brothers Nick and Nigel Bottom are desperate to write a hit play but are stuck in the shadow of that Renaissance rock star known as “The Bard.” When a local soothsayer foretells that the future of theatre involves singing\, dancing and acting at the same time\, Nick and Nigel set out to write the world’s very first musical. But amidst the scandalous excitement of opening night\, the Bottom Brothers realize that reaching the top means being true to thine own self\, and all that jazz. \nSomething Rotten features large song and dance numbers\, and a wacky cast of over-the-top characters\, each with their own moment to shine. Throughout its Broadway run\, the musical received a show-stopping standing ovation from audiences… in the beginning of the first act! It’s become clear that “nothing’s as amazing as a musical\,”. \n\n  \nPerformance Dates & Times: \nMay 15\, 16\, 22 & 23\, 2026 at 7:30PM \nMay 17 & 24\, 2026 at 2PM
URL:https://www.dorsetvt.com/dorset-events/dorset-players-presents-something-rotten/2026-05-16/
LOCATION:The Dorset Playhouse\, 104 Cheney Rd\, Dorset\, VT\, 05251\, United States
ATTACH;FMTTYPE=image/jpeg:https://www.dorsetvt.com/wp-content/uploads/2026/02/IMG_1126.jpeg
END:VEVENT
BEGIN:VEVENT
DTSTART;TZID=America/New_York:20260517T140000
DTEND;TZID=America/New_York:20260517T160000
DTSTAMP:20260419T145711
CREATED:20260213T111232Z
LAST-MODIFIED:20260213T111232Z
UID:10002107-1779026400-1779033600@www.dorsetvt.com
SUMMARY:Dorset Players presents Something Rotten!
DESCRIPTION:Something Rotten!  \nMusic & Lyrics by Karey Kirkpatrick & Wayne Kirkpatrick \nBook by Karey Kirkpatrick & John O’Farrell \nDirected and Choreographed by Renee Wymer \nMusical Direction by Lorri Bond \nProduced by Lynne Worth \nPresenting Sponsors: Burns Insurance Agency \nRE/MAX Four Seasons \nUnion Underground/Union South \nShow Sponsors: Haystack Catering \nGSK Climate Control \nMason Dental \n\n  \nWelcome to the Renaissance and the outrageous\, crowd-pleasing musical farce\, Something Rotten. Created by Grammy Award-winning songwriter Wayne Kirkpatrick\, and successful screenwriters Karey Kirkpatrick and John O’Farrell\, Something Rotten was lauded by audience members and critics alike\, receiving several Best Musical nominations and hailed by Time Out New York as “the funniest musical comedy in at least 400 years”. \nSet in the 1590s\, brothers Nick and Nigel Bottom are desperate to write a hit play but are stuck in the shadow of that Renaissance rock star known as “The Bard.” When a local soothsayer foretells that the future of theatre involves singing\, dancing and acting at the same time\, Nick and Nigel set out to write the world’s very first musical. But amidst the scandalous excitement of opening night\, the Bottom Brothers realize that reaching the top means being true to thine own self\, and all that jazz. \nSomething Rotten features large song and dance numbers\, and a wacky cast of over-the-top characters\, each with their own moment to shine. Throughout its Broadway run\, the musical received a show-stopping standing ovation from audiences… in the beginning of the first act! It’s become clear that “nothing’s as amazing as a musical\,”. \n\n  \nPerformance Dates & Times: \nMay 15\, 16\, 22 & 23\, 2026 at 7:30PM \nMay 17 & 24\, 2026 at 2PM
URL:https://www.dorsetvt.com/dorset-events/dorset-players-presents-something-rotten/2026-05-17/
LOCATION:The Dorset Playhouse\, 104 Cheney Rd\, Dorset\, VT\, 05251\, United States
ATTACH;FMTTYPE=image/jpeg:https://www.dorsetvt.com/wp-content/uploads/2026/02/IMG_1126.jpeg
END:VEVENT
BEGIN:VEVENT
DTSTART;TZID=America/New_York:20260522T193000
DTEND;TZID=America/New_York:20260522T213000
DTSTAMP:20260419T145711
CREATED:20260213T111232Z
LAST-MODIFIED:20260213T111232Z
UID:10002108-1779478200-1779485400@www.dorsetvt.com
SUMMARY:Dorset Players presents Something Rotten!
DESCRIPTION:Something Rotten!  \nMusic & Lyrics by Karey Kirkpatrick & Wayne Kirkpatrick \nBook by Karey Kirkpatrick & John O’Farrell \nDirected and Choreographed by Renee Wymer \nMusical Direction by Lorri Bond \nProduced by Lynne Worth \nPresenting Sponsors: Burns Insurance Agency \nRE/MAX Four Seasons \nUnion Underground/Union South \nShow Sponsors: Haystack Catering \nGSK Climate Control \nMason Dental \n\n  \nWelcome to the Renaissance and the outrageous\, crowd-pleasing musical farce\, Something Rotten. Created by Grammy Award-winning songwriter Wayne Kirkpatrick\, and successful screenwriters Karey Kirkpatrick and John O’Farrell\, Something Rotten was lauded by audience members and critics alike\, receiving several Best Musical nominations and hailed by Time Out New York as “the funniest musical comedy in at least 400 years”. \nSet in the 1590s\, brothers Nick and Nigel Bottom are desperate to write a hit play but are stuck in the shadow of that Renaissance rock star known as “The Bard.” When a local soothsayer foretells that the future of theatre involves singing\, dancing and acting at the same time\, Nick and Nigel set out to write the world’s very first musical. But amidst the scandalous excitement of opening night\, the Bottom Brothers realize that reaching the top means being true to thine own self\, and all that jazz. \nSomething Rotten features large song and dance numbers\, and a wacky cast of over-the-top characters\, each with their own moment to shine. Throughout its Broadway run\, the musical received a show-stopping standing ovation from audiences… in the beginning of the first act! It’s become clear that “nothing’s as amazing as a musical\,”. \n\n  \nPerformance Dates & Times: \nMay 15\, 16\, 22 & 23\, 2026 at 7:30PM \nMay 17 & 24\, 2026 at 2PM
URL:https://www.dorsetvt.com/dorset-events/dorset-players-presents-something-rotten/2026-05-22/
LOCATION:The Dorset Playhouse\, 104 Cheney Rd\, Dorset\, VT\, 05251\, United States
ATTACH;FMTTYPE=image/jpeg:https://www.dorsetvt.com/wp-content/uploads/2026/02/IMG_1126.jpeg
END:VEVENT
BEGIN:VEVENT
DTSTART;TZID=America/New_York:20260523T193000
DTEND;TZID=America/New_York:20260523T213000
DTSTAMP:20260419T145711
CREATED:20260213T111232Z
LAST-MODIFIED:20260213T111232Z
UID:10002109-1779564600-1779571800@www.dorsetvt.com
SUMMARY:Dorset Players presents Something Rotten!
DESCRIPTION:Something Rotten!  \nMusic & Lyrics by Karey Kirkpatrick & Wayne Kirkpatrick \nBook by Karey Kirkpatrick & John O’Farrell \nDirected and Choreographed by Renee Wymer \nMusical Direction by Lorri Bond \nProduced by Lynne Worth \nPresenting Sponsors: Burns Insurance Agency \nRE/MAX Four Seasons \nUnion Underground/Union South \nShow Sponsors: Haystack Catering \nGSK Climate Control \nMason Dental \n\n  \nWelcome to the Renaissance and the outrageous\, crowd-pleasing musical farce\, Something Rotten. Created by Grammy Award-winning songwriter Wayne Kirkpatrick\, and successful screenwriters Karey Kirkpatrick and John O’Farrell\, Something Rotten was lauded by audience members and critics alike\, receiving several Best Musical nominations and hailed by Time Out New York as “the funniest musical comedy in at least 400 years”. \nSet in the 1590s\, brothers Nick and Nigel Bottom are desperate to write a hit play but are stuck in the shadow of that Renaissance rock star known as “The Bard.” When a local soothsayer foretells that the future of theatre involves singing\, dancing and acting at the same time\, Nick and Nigel set out to write the world’s very first musical. But amidst the scandalous excitement of opening night\, the Bottom Brothers realize that reaching the top means being true to thine own self\, and all that jazz. \nSomething Rotten features large song and dance numbers\, and a wacky cast of over-the-top characters\, each with their own moment to shine. Throughout its Broadway run\, the musical received a show-stopping standing ovation from audiences… in the beginning of the first act! It’s become clear that “nothing’s as amazing as a musical\,”. \n\n  \nPerformance Dates & Times: \nMay 15\, 16\, 22 & 23\, 2026 at 7:30PM \nMay 17 & 24\, 2026 at 2PM
URL:https://www.dorsetvt.com/dorset-events/dorset-players-presents-something-rotten/2026-05-23/
LOCATION:The Dorset Playhouse\, 104 Cheney Rd\, Dorset\, VT\, 05251\, United States
ATTACH;FMTTYPE=image/jpeg:https://www.dorsetvt.com/wp-content/uploads/2026/02/IMG_1126.jpeg
END:VEVENT
BEGIN:VEVENT
DTSTART;TZID=America/New_York:20260524T140000
DTEND;TZID=America/New_York:20260524T160000
DTSTAMP:20260419T145711
CREATED:20260213T111232Z
LAST-MODIFIED:20260213T111232Z
UID:10002110-1779631200-1779638400@www.dorsetvt.com
SUMMARY:Dorset Players presents Something Rotten!
DESCRIPTION:Something Rotten!  \nMusic & Lyrics by Karey Kirkpatrick & Wayne Kirkpatrick \nBook by Karey Kirkpatrick & John O’Farrell \nDirected and Choreographed by Renee Wymer \nMusical Direction by Lorri Bond \nProduced by Lynne Worth \nPresenting Sponsors: Burns Insurance Agency \nRE/MAX Four Seasons \nUnion Underground/Union South \nShow Sponsors: Haystack Catering \nGSK Climate Control \nMason Dental \n\n  \nWelcome to the Renaissance and the outrageous\, crowd-pleasing musical farce\, Something Rotten. Created by Grammy Award-winning songwriter Wayne Kirkpatrick\, and successful screenwriters Karey Kirkpatrick and John O’Farrell\, Something Rotten was lauded by audience members and critics alike\, receiving several Best Musical nominations and hailed by Time Out New York as “the funniest musical comedy in at least 400 years”. \nSet in the 1590s\, brothers Nick and Nigel Bottom are desperate to write a hit play but are stuck in the shadow of that Renaissance rock star known as “The Bard.” When a local soothsayer foretells that the future of theatre involves singing\, dancing and acting at the same time\, Nick and Nigel set out to write the world’s very first musical. But amidst the scandalous excitement of opening night\, the Bottom Brothers realize that reaching the top means being true to thine own self\, and all that jazz. \nSomething Rotten features large song and dance numbers\, and a wacky cast of over-the-top characters\, each with their own moment to shine. Throughout its Broadway run\, the musical received a show-stopping standing ovation from audiences… in the beginning of the first act! It’s become clear that “nothing’s as amazing as a musical\,”. \n\n  \nPerformance Dates & Times: \nMay 15\, 16\, 22 & 23\, 2026 at 7:30PM \nMay 17 & 24\, 2026 at 2PM
URL:https://www.dorsetvt.com/dorset-events/dorset-players-presents-something-rotten/2026-05-24/
LOCATION:The Dorset Playhouse\, 104 Cheney Rd\, Dorset\, VT\, 05251\, United States
ATTACH;FMTTYPE=image/jpeg:https://www.dorsetvt.com/wp-content/uploads/2026/02/IMG_1126.jpeg
END:VEVENT
END:VCALENDAR