BEGIN:VCALENDAR
VERSION:2.0
PRODID:-//Discover Dorset Vermont - ECPv6.15.20//NONSGML v1.0//EN
CALSCALE:GREGORIAN
METHOD:PUBLISH
X-ORIGINAL-URL:https://www.dorsetvt.com
X-WR-CALDESC:Events for Discover Dorset Vermont
REFRESH-INTERVAL;VALUE=DURATION:PT1H
X-Robots-Tag:noindex
X-PUBLISHED-TTL:PT1H
BEGIN:VTIMEZONE
TZID:America/New_York
BEGIN:DAYLIGHT
TZOFFSETFROM:-0500
TZOFFSETTO:-0400
TZNAME:EDT
DTSTART:20270314T070000
END:DAYLIGHT
BEGIN:STANDARD
TZOFFSETFROM:-0400
TZOFFSETTO:-0500
TZNAME:EST
DTSTART:20271107T060000
END:STANDARD
BEGIN:DAYLIGHT
TZOFFSETFROM:-0500
TZOFFSETTO:-0400
TZNAME:EDT
DTSTART:20280312T070000
END:DAYLIGHT
BEGIN:STANDARD
TZOFFSETFROM:-0400
TZOFFSETTO:-0500
TZNAME:EST
DTSTART:20281105T060000
END:STANDARD
BEGIN:DAYLIGHT
TZOFFSETFROM:-0500
TZOFFSETTO:-0400
TZNAME:EDT
DTSTART:20290311T070000
END:DAYLIGHT
BEGIN:STANDARD
TZOFFSETFROM:-0400
TZOFFSETTO:-0500
TZNAME:EST
DTSTART:20291104T060000
END:STANDARD
END:VTIMEZONE
BEGIN:VEVENT
DTSTART;TZID=America/New_York:20280725T170000
DTEND;TZID=America/New_York:20280725T180000
DTSTAMP:20260420T051850
CREATED:20250729T121432Z
LAST-MODIFIED:20250729T121432Z
UID:10000928-1848157200-1848160800@www.dorsetvt.com
SUMMARY:Dorset Knitters at Library
DESCRIPTION:Are you an expert knitter? Can only knit and purl? Or want to learn from scratch?\nJoin the Dorset Knitters at 5pm every Tuesday!\nSnacks (finger foods) and beverages are pot-luck style! \nEmail: dorsetvillagelibrary@gmail.com if you have questions…or if you’re interested in Loom Knitting!
URL:https://www.dorsetvt.com/dorset-events/dorset-knitters-at-library/2028-07-25/
LOCATION:The Dorset Village Library\, 13 Church Street\, Dorset\, VT\, 05251\, United States
ATTACH;FMTTYPE=image/jpeg:https://www.dorsetvt.com/wp-content/uploads/2025/07/IMG_7679.jpeg
END:VEVENT
BEGIN:VEVENT
DTSTART;TZID=America/New_York:20280726T100000
DTEND;TZID=America/New_York:20280726T110000
DTSTAMP:20260420T051850
CREATED:20260130T200149Z
LAST-MODIFIED:20260323T175057Z
UID:10001896-1848218400-1848222000@www.dorsetvt.com
SUMMARY:Storytime at Dorset Village Library
DESCRIPTION:Story Time | Wednesdays at 10AM \nJoin us in the Children’s Room* every Wednesday at 10am for stories\, songs and play! Even the littlest kiddos learn at Story Time! No registration. \n*Please note this room is only accessible by stair\, we have no elevator.
URL:https://www.dorsetvt.com/dorset-events/storytime-at-dorset-village-library/2028-07-26/
LOCATION:The Dorset Village Library\, 13 Church Street\, Dorset\, VT\, 05251\, United States
ATTACH;FMTTYPE=image/png:https://www.dorsetvt.com/wp-content/uploads/2026/01/Story-Time-1.png
END:VEVENT
BEGIN:VEVENT
DTSTART;TZID=America/New_York:20280801T170000
DTEND;TZID=America/New_York:20280801T180000
DTSTAMP:20260420T051850
CREATED:20250729T121432Z
LAST-MODIFIED:20250729T121432Z
UID:10000929-1848762000-1848765600@www.dorsetvt.com
SUMMARY:Dorset Knitters at Library
DESCRIPTION:Are you an expert knitter? Can only knit and purl? Or want to learn from scratch?\nJoin the Dorset Knitters at 5pm every Tuesday!\nSnacks (finger foods) and beverages are pot-luck style! \nEmail: dorsetvillagelibrary@gmail.com if you have questions…or if you’re interested in Loom Knitting!
URL:https://www.dorsetvt.com/dorset-events/dorset-knitters-at-library/2028-08-01/
LOCATION:The Dorset Village Library\, 13 Church Street\, Dorset\, VT\, 05251\, United States
ATTACH;FMTTYPE=image/jpeg:https://www.dorsetvt.com/wp-content/uploads/2025/07/IMG_7679.jpeg
END:VEVENT
BEGIN:VEVENT
DTSTART;TZID=America/New_York:20280802T100000
DTEND;TZID=America/New_York:20280802T110000
DTSTAMP:20260420T051850
CREATED:20260130T200149Z
LAST-MODIFIED:20260323T175057Z
UID:10001897-1848823200-1848826800@www.dorsetvt.com
SUMMARY:Storytime at Dorset Village Library
DESCRIPTION:Story Time | Wednesdays at 10AM \nJoin us in the Children’s Room* every Wednesday at 10am for stories\, songs and play! Even the littlest kiddos learn at Story Time! No registration. \n*Please note this room is only accessible by stair\, we have no elevator.
URL:https://www.dorsetvt.com/dorset-events/storytime-at-dorset-village-library/2028-08-02/
LOCATION:The Dorset Village Library\, 13 Church Street\, Dorset\, VT\, 05251\, United States
ATTACH;FMTTYPE=image/png:https://www.dorsetvt.com/wp-content/uploads/2026/01/Story-Time-1.png
END:VEVENT
BEGIN:VEVENT
DTSTART;TZID=America/New_York:20280808T170000
DTEND;TZID=America/New_York:20280808T180000
DTSTAMP:20260420T051850
CREATED:20250729T121432Z
LAST-MODIFIED:20250729T121432Z
UID:10000930-1849366800-1849370400@www.dorsetvt.com
SUMMARY:Dorset Knitters at Library
DESCRIPTION:Are you an expert knitter? Can only knit and purl? Or want to learn from scratch?\nJoin the Dorset Knitters at 5pm every Tuesday!\nSnacks (finger foods) and beverages are pot-luck style! \nEmail: dorsetvillagelibrary@gmail.com if you have questions…or if you’re interested in Loom Knitting!
URL:https://www.dorsetvt.com/dorset-events/dorset-knitters-at-library/2028-08-08/
LOCATION:The Dorset Village Library\, 13 Church Street\, Dorset\, VT\, 05251\, United States
ATTACH;FMTTYPE=image/jpeg:https://www.dorsetvt.com/wp-content/uploads/2025/07/IMG_7679.jpeg
END:VEVENT
BEGIN:VEVENT
DTSTART;TZID=America/New_York:20280809T100000
DTEND;TZID=America/New_York:20280809T110000
DTSTAMP:20260420T051850
CREATED:20260130T200149Z
LAST-MODIFIED:20260323T175057Z
UID:10001898-1849428000-1849431600@www.dorsetvt.com
SUMMARY:Storytime at Dorset Village Library
DESCRIPTION:Story Time | Wednesdays at 10AM \nJoin us in the Children’s Room* every Wednesday at 10am for stories\, songs and play! Even the littlest kiddos learn at Story Time! No registration. \n*Please note this room is only accessible by stair\, we have no elevator.
URL:https://www.dorsetvt.com/dorset-events/storytime-at-dorset-village-library/2028-08-09/
LOCATION:The Dorset Village Library\, 13 Church Street\, Dorset\, VT\, 05251\, United States
ATTACH;FMTTYPE=image/png:https://www.dorsetvt.com/wp-content/uploads/2026/01/Story-Time-1.png
END:VEVENT
BEGIN:VEVENT
DTSTART;TZID=America/New_York:20280815T170000
DTEND;TZID=America/New_York:20280815T180000
DTSTAMP:20260420T051850
CREATED:20250729T121432Z
LAST-MODIFIED:20250729T121432Z
UID:10000931-1849971600-1849975200@www.dorsetvt.com
SUMMARY:Dorset Knitters at Library
DESCRIPTION:Are you an expert knitter? Can only knit and purl? Or want to learn from scratch?\nJoin the Dorset Knitters at 5pm every Tuesday!\nSnacks (finger foods) and beverages are pot-luck style! \nEmail: dorsetvillagelibrary@gmail.com if you have questions…or if you’re interested in Loom Knitting!
URL:https://www.dorsetvt.com/dorset-events/dorset-knitters-at-library/2028-08-15/
LOCATION:The Dorset Village Library\, 13 Church Street\, Dorset\, VT\, 05251\, United States
ATTACH;FMTTYPE=image/jpeg:https://www.dorsetvt.com/wp-content/uploads/2025/07/IMG_7679.jpeg
END:VEVENT
BEGIN:VEVENT
DTSTART;TZID=America/New_York:20280816T100000
DTEND;TZID=America/New_York:20280816T110000
DTSTAMP:20260420T051850
CREATED:20260130T200149Z
LAST-MODIFIED:20260323T175057Z
UID:10001899-1850032800-1850036400@www.dorsetvt.com
SUMMARY:Storytime at Dorset Village Library
DESCRIPTION:Story Time | Wednesdays at 10AM \nJoin us in the Children’s Room* every Wednesday at 10am for stories\, songs and play! Even the littlest kiddos learn at Story Time! No registration. \n*Please note this room is only accessible by stair\, we have no elevator.
URL:https://www.dorsetvt.com/dorset-events/storytime-at-dorset-village-library/2028-08-16/
LOCATION:The Dorset Village Library\, 13 Church Street\, Dorset\, VT\, 05251\, United States
ATTACH;FMTTYPE=image/png:https://www.dorsetvt.com/wp-content/uploads/2026/01/Story-Time-1.png
END:VEVENT
BEGIN:VEVENT
DTSTART;TZID=America/New_York:20280822T170000
DTEND;TZID=America/New_York:20280822T180000
DTSTAMP:20260420T051850
CREATED:20250729T121432Z
LAST-MODIFIED:20250729T121432Z
UID:10000932-1850576400-1850580000@www.dorsetvt.com
SUMMARY:Dorset Knitters at Library
DESCRIPTION:Are you an expert knitter? Can only knit and purl? Or want to learn from scratch?\nJoin the Dorset Knitters at 5pm every Tuesday!\nSnacks (finger foods) and beverages are pot-luck style! \nEmail: dorsetvillagelibrary@gmail.com if you have questions…or if you’re interested in Loom Knitting!
URL:https://www.dorsetvt.com/dorset-events/dorset-knitters-at-library/2028-08-22/
LOCATION:The Dorset Village Library\, 13 Church Street\, Dorset\, VT\, 05251\, United States
ATTACH;FMTTYPE=image/jpeg:https://www.dorsetvt.com/wp-content/uploads/2025/07/IMG_7679.jpeg
END:VEVENT
BEGIN:VEVENT
DTSTART;TZID=America/New_York:20280823T100000
DTEND;TZID=America/New_York:20280823T110000
DTSTAMP:20260420T051850
CREATED:20260130T200149Z
LAST-MODIFIED:20260323T175057Z
UID:10001900-1850637600-1850641200@www.dorsetvt.com
SUMMARY:Storytime at Dorset Village Library
DESCRIPTION:Story Time | Wednesdays at 10AM \nJoin us in the Children’s Room* every Wednesday at 10am for stories\, songs and play! Even the littlest kiddos learn at Story Time! No registration. \n*Please note this room is only accessible by stair\, we have no elevator.
URL:https://www.dorsetvt.com/dorset-events/storytime-at-dorset-village-library/2028-08-23/
LOCATION:The Dorset Village Library\, 13 Church Street\, Dorset\, VT\, 05251\, United States
ATTACH;FMTTYPE=image/png:https://www.dorsetvt.com/wp-content/uploads/2026/01/Story-Time-1.png
END:VEVENT
BEGIN:VEVENT
DTSTART;TZID=America/New_York:20280829T170000
DTEND;TZID=America/New_York:20280829T180000
DTSTAMP:20260420T051850
CREATED:20250729T121432Z
LAST-MODIFIED:20250729T121432Z
UID:10000933-1851181200-1851184800@www.dorsetvt.com
SUMMARY:Dorset Knitters at Library
DESCRIPTION:Are you an expert knitter? Can only knit and purl? Or want to learn from scratch?\nJoin the Dorset Knitters at 5pm every Tuesday!\nSnacks (finger foods) and beverages are pot-luck style! \nEmail: dorsetvillagelibrary@gmail.com if you have questions…or if you’re interested in Loom Knitting!
URL:https://www.dorsetvt.com/dorset-events/dorset-knitters-at-library/2028-08-29/
LOCATION:The Dorset Village Library\, 13 Church Street\, Dorset\, VT\, 05251\, United States
ATTACH;FMTTYPE=image/jpeg:https://www.dorsetvt.com/wp-content/uploads/2025/07/IMG_7679.jpeg
END:VEVENT
BEGIN:VEVENT
DTSTART;TZID=America/New_York:20280830T100000
DTEND;TZID=America/New_York:20280830T110000
DTSTAMP:20260420T051850
CREATED:20260130T200149Z
LAST-MODIFIED:20260323T175057Z
UID:10001901-1851242400-1851246000@www.dorsetvt.com
SUMMARY:Storytime at Dorset Village Library
DESCRIPTION:Story Time | Wednesdays at 10AM \nJoin us in the Children’s Room* every Wednesday at 10am for stories\, songs and play! Even the littlest kiddos learn at Story Time! No registration. \n*Please note this room is only accessible by stair\, we have no elevator.
URL:https://www.dorsetvt.com/dorset-events/storytime-at-dorset-village-library/2028-08-30/
LOCATION:The Dorset Village Library\, 13 Church Street\, Dorset\, VT\, 05251\, United States
ATTACH;FMTTYPE=image/png:https://www.dorsetvt.com/wp-content/uploads/2026/01/Story-Time-1.png
END:VEVENT
BEGIN:VEVENT
DTSTART;TZID=America/New_York:20280905T170000
DTEND;TZID=America/New_York:20280905T180000
DTSTAMP:20260420T051850
CREATED:20250729T121432Z
LAST-MODIFIED:20250729T121432Z
UID:10000934-1851786000-1851789600@www.dorsetvt.com
SUMMARY:Dorset Knitters at Library
DESCRIPTION:Are you an expert knitter? Can only knit and purl? Or want to learn from scratch?\nJoin the Dorset Knitters at 5pm every Tuesday!\nSnacks (finger foods) and beverages are pot-luck style! \nEmail: dorsetvillagelibrary@gmail.com if you have questions…or if you’re interested in Loom Knitting!
URL:https://www.dorsetvt.com/dorset-events/dorset-knitters-at-library/2028-09-05/
LOCATION:The Dorset Village Library\, 13 Church Street\, Dorset\, VT\, 05251\, United States
ATTACH;FMTTYPE=image/jpeg:https://www.dorsetvt.com/wp-content/uploads/2025/07/IMG_7679.jpeg
END:VEVENT
BEGIN:VEVENT
DTSTART;TZID=America/New_York:20280906T100000
DTEND;TZID=America/New_York:20280906T110000
DTSTAMP:20260420T051850
CREATED:20260130T200149Z
LAST-MODIFIED:20260323T175057Z
UID:10001902-1851847200-1851850800@www.dorsetvt.com
SUMMARY:Storytime at Dorset Village Library
DESCRIPTION:Story Time | Wednesdays at 10AM \nJoin us in the Children’s Room* every Wednesday at 10am for stories\, songs and play! Even the littlest kiddos learn at Story Time! No registration. \n*Please note this room is only accessible by stair\, we have no elevator.
URL:https://www.dorsetvt.com/dorset-events/storytime-at-dorset-village-library/2028-09-06/
LOCATION:The Dorset Village Library\, 13 Church Street\, Dorset\, VT\, 05251\, United States
ATTACH;FMTTYPE=image/png:https://www.dorsetvt.com/wp-content/uploads/2026/01/Story-Time-1.png
END:VEVENT
BEGIN:VEVENT
DTSTART;TZID=America/New_York:20280912T170000
DTEND;TZID=America/New_York:20280912T180000
DTSTAMP:20260420T051850
CREATED:20250729T121432Z
LAST-MODIFIED:20250729T121432Z
UID:10000935-1852390800-1852394400@www.dorsetvt.com
SUMMARY:Dorset Knitters at Library
DESCRIPTION:Are you an expert knitter? Can only knit and purl? Or want to learn from scratch?\nJoin the Dorset Knitters at 5pm every Tuesday!\nSnacks (finger foods) and beverages are pot-luck style! \nEmail: dorsetvillagelibrary@gmail.com if you have questions…or if you’re interested in Loom Knitting!
URL:https://www.dorsetvt.com/dorset-events/dorset-knitters-at-library/2028-09-12/
LOCATION:The Dorset Village Library\, 13 Church Street\, Dorset\, VT\, 05251\, United States
ATTACH;FMTTYPE=image/jpeg:https://www.dorsetvt.com/wp-content/uploads/2025/07/IMG_7679.jpeg
END:VEVENT
BEGIN:VEVENT
DTSTART;TZID=America/New_York:20280913T100000
DTEND;TZID=America/New_York:20280913T110000
DTSTAMP:20260420T051850
CREATED:20260130T200149Z
LAST-MODIFIED:20260323T175057Z
UID:10001903-1852452000-1852455600@www.dorsetvt.com
SUMMARY:Storytime at Dorset Village Library
DESCRIPTION:Story Time | Wednesdays at 10AM \nJoin us in the Children’s Room* every Wednesday at 10am for stories\, songs and play! Even the littlest kiddos learn at Story Time! No registration. \n*Please note this room is only accessible by stair\, we have no elevator.
URL:https://www.dorsetvt.com/dorset-events/storytime-at-dorset-village-library/2028-09-13/
LOCATION:The Dorset Village Library\, 13 Church Street\, Dorset\, VT\, 05251\, United States
ATTACH;FMTTYPE=image/png:https://www.dorsetvt.com/wp-content/uploads/2026/01/Story-Time-1.png
END:VEVENT
BEGIN:VEVENT
DTSTART;TZID=America/New_York:20280919T170000
DTEND;TZID=America/New_York:20280919T180000
DTSTAMP:20260420T051850
CREATED:20250729T121432Z
LAST-MODIFIED:20250729T121432Z
UID:10000936-1852995600-1852999200@www.dorsetvt.com
SUMMARY:Dorset Knitters at Library
DESCRIPTION:Are you an expert knitter? Can only knit and purl? Or want to learn from scratch?\nJoin the Dorset Knitters at 5pm every Tuesday!\nSnacks (finger foods) and beverages are pot-luck style! \nEmail: dorsetvillagelibrary@gmail.com if you have questions…or if you’re interested in Loom Knitting!
URL:https://www.dorsetvt.com/dorset-events/dorset-knitters-at-library/2028-09-19/
LOCATION:The Dorset Village Library\, 13 Church Street\, Dorset\, VT\, 05251\, United States
ATTACH;FMTTYPE=image/jpeg:https://www.dorsetvt.com/wp-content/uploads/2025/07/IMG_7679.jpeg
END:VEVENT
BEGIN:VEVENT
DTSTART;TZID=America/New_York:20280920T100000
DTEND;TZID=America/New_York:20280920T110000
DTSTAMP:20260420T051850
CREATED:20260130T200149Z
LAST-MODIFIED:20260323T175057Z
UID:10001904-1853056800-1853060400@www.dorsetvt.com
SUMMARY:Storytime at Dorset Village Library
DESCRIPTION:Story Time | Wednesdays at 10AM \nJoin us in the Children’s Room* every Wednesday at 10am for stories\, songs and play! Even the littlest kiddos learn at Story Time! No registration. \n*Please note this room is only accessible by stair\, we have no elevator.
URL:https://www.dorsetvt.com/dorset-events/storytime-at-dorset-village-library/2028-09-20/
LOCATION:The Dorset Village Library\, 13 Church Street\, Dorset\, VT\, 05251\, United States
ATTACH;FMTTYPE=image/png:https://www.dorsetvt.com/wp-content/uploads/2026/01/Story-Time-1.png
END:VEVENT
BEGIN:VEVENT
DTSTART;TZID=America/New_York:20280926T170000
DTEND;TZID=America/New_York:20280926T180000
DTSTAMP:20260420T051850
CREATED:20250729T121432Z
LAST-MODIFIED:20250729T121432Z
UID:10000937-1853600400-1853604000@www.dorsetvt.com
SUMMARY:Dorset Knitters at Library
DESCRIPTION:Are you an expert knitter? Can only knit and purl? Or want to learn from scratch?\nJoin the Dorset Knitters at 5pm every Tuesday!\nSnacks (finger foods) and beverages are pot-luck style! \nEmail: dorsetvillagelibrary@gmail.com if you have questions…or if you’re interested in Loom Knitting!
URL:https://www.dorsetvt.com/dorset-events/dorset-knitters-at-library/2028-09-26/
LOCATION:The Dorset Village Library\, 13 Church Street\, Dorset\, VT\, 05251\, United States
ATTACH;FMTTYPE=image/jpeg:https://www.dorsetvt.com/wp-content/uploads/2025/07/IMG_7679.jpeg
END:VEVENT
BEGIN:VEVENT
DTSTART;TZID=America/New_York:20280927T100000
DTEND;TZID=America/New_York:20280927T110000
DTSTAMP:20260420T051850
CREATED:20260130T200149Z
LAST-MODIFIED:20260323T175057Z
UID:10001905-1853661600-1853665200@www.dorsetvt.com
SUMMARY:Storytime at Dorset Village Library
DESCRIPTION:Story Time | Wednesdays at 10AM \nJoin us in the Children’s Room* every Wednesday at 10am for stories\, songs and play! Even the littlest kiddos learn at Story Time! No registration. \n*Please note this room is only accessible by stair\, we have no elevator.
URL:https://www.dorsetvt.com/dorset-events/storytime-at-dorset-village-library/2028-09-27/
LOCATION:The Dorset Village Library\, 13 Church Street\, Dorset\, VT\, 05251\, United States
ATTACH;FMTTYPE=image/png:https://www.dorsetvt.com/wp-content/uploads/2026/01/Story-Time-1.png
END:VEVENT
BEGIN:VEVENT
DTSTART;TZID=America/New_York:20281003T170000
DTEND;TZID=America/New_York:20281003T180000
DTSTAMP:20260420T051850
CREATED:20250729T121432Z
LAST-MODIFIED:20250729T121432Z
UID:10000938-1854205200-1854208800@www.dorsetvt.com
SUMMARY:Dorset Knitters at Library
DESCRIPTION:Are you an expert knitter? Can only knit and purl? Or want to learn from scratch?\nJoin the Dorset Knitters at 5pm every Tuesday!\nSnacks (finger foods) and beverages are pot-luck style! \nEmail: dorsetvillagelibrary@gmail.com if you have questions…or if you’re interested in Loom Knitting!
URL:https://www.dorsetvt.com/dorset-events/dorset-knitters-at-library/2028-10-03/
LOCATION:The Dorset Village Library\, 13 Church Street\, Dorset\, VT\, 05251\, United States
ATTACH;FMTTYPE=image/jpeg:https://www.dorsetvt.com/wp-content/uploads/2025/07/IMG_7679.jpeg
END:VEVENT
BEGIN:VEVENT
DTSTART;TZID=America/New_York:20281004T100000
DTEND;TZID=America/New_York:20281004T110000
DTSTAMP:20260420T051850
CREATED:20260130T200149Z
LAST-MODIFIED:20260323T175057Z
UID:10001906-1854266400-1854270000@www.dorsetvt.com
SUMMARY:Storytime at Dorset Village Library
DESCRIPTION:Story Time | Wednesdays at 10AM \nJoin us in the Children’s Room* every Wednesday at 10am for stories\, songs and play! Even the littlest kiddos learn at Story Time! No registration. \n*Please note this room is only accessible by stair\, we have no elevator.
URL:https://www.dorsetvt.com/dorset-events/storytime-at-dorset-village-library/2028-10-04/
LOCATION:The Dorset Village Library\, 13 Church Street\, Dorset\, VT\, 05251\, United States
ATTACH;FMTTYPE=image/png:https://www.dorsetvt.com/wp-content/uploads/2026/01/Story-Time-1.png
END:VEVENT
BEGIN:VEVENT
DTSTART;TZID=America/New_York:20281010T170000
DTEND;TZID=America/New_York:20281010T180000
DTSTAMP:20260420T051850
CREATED:20250729T121432Z
LAST-MODIFIED:20250729T121432Z
UID:10000939-1854810000-1854813600@www.dorsetvt.com
SUMMARY:Dorset Knitters at Library
DESCRIPTION:Are you an expert knitter? Can only knit and purl? Or want to learn from scratch?\nJoin the Dorset Knitters at 5pm every Tuesday!\nSnacks (finger foods) and beverages are pot-luck style! \nEmail: dorsetvillagelibrary@gmail.com if you have questions…or if you’re interested in Loom Knitting!
URL:https://www.dorsetvt.com/dorset-events/dorset-knitters-at-library/2028-10-10/
LOCATION:The Dorset Village Library\, 13 Church Street\, Dorset\, VT\, 05251\, United States
ATTACH;FMTTYPE=image/jpeg:https://www.dorsetvt.com/wp-content/uploads/2025/07/IMG_7679.jpeg
END:VEVENT
BEGIN:VEVENT
DTSTART;TZID=America/New_York:20281011T100000
DTEND;TZID=America/New_York:20281011T110000
DTSTAMP:20260420T051850
CREATED:20260130T200149Z
LAST-MODIFIED:20260323T175057Z
UID:10001907-1854871200-1854874800@www.dorsetvt.com
SUMMARY:Storytime at Dorset Village Library
DESCRIPTION:Story Time | Wednesdays at 10AM \nJoin us in the Children’s Room* every Wednesday at 10am for stories\, songs and play! Even the littlest kiddos learn at Story Time! No registration. \n*Please note this room is only accessible by stair\, we have no elevator.
URL:https://www.dorsetvt.com/dorset-events/storytime-at-dorset-village-library/2028-10-11/
LOCATION:The Dorset Village Library\, 13 Church Street\, Dorset\, VT\, 05251\, United States
ATTACH;FMTTYPE=image/png:https://www.dorsetvt.com/wp-content/uploads/2026/01/Story-Time-1.png
END:VEVENT
BEGIN:VEVENT
DTSTART;TZID=America/New_York:20281017T170000
DTEND;TZID=America/New_York:20281017T180000
DTSTAMP:20260420T051850
CREATED:20250729T121432Z
LAST-MODIFIED:20250729T121432Z
UID:10000940-1855414800-1855418400@www.dorsetvt.com
SUMMARY:Dorset Knitters at Library
DESCRIPTION:Are you an expert knitter? Can only knit and purl? Or want to learn from scratch?\nJoin the Dorset Knitters at 5pm every Tuesday!\nSnacks (finger foods) and beverages are pot-luck style! \nEmail: dorsetvillagelibrary@gmail.com if you have questions…or if you’re interested in Loom Knitting!
URL:https://www.dorsetvt.com/dorset-events/dorset-knitters-at-library/2028-10-17/
LOCATION:The Dorset Village Library\, 13 Church Street\, Dorset\, VT\, 05251\, United States
ATTACH;FMTTYPE=image/jpeg:https://www.dorsetvt.com/wp-content/uploads/2025/07/IMG_7679.jpeg
END:VEVENT
BEGIN:VEVENT
DTSTART;TZID=America/New_York:20281018T100000
DTEND;TZID=America/New_York:20281018T110000
DTSTAMP:20260420T051850
CREATED:20260130T200149Z
LAST-MODIFIED:20260323T175057Z
UID:10001908-1855476000-1855479600@www.dorsetvt.com
SUMMARY:Storytime at Dorset Village Library
DESCRIPTION:Story Time | Wednesdays at 10AM \nJoin us in the Children’s Room* every Wednesday at 10am for stories\, songs and play! Even the littlest kiddos learn at Story Time! No registration. \n*Please note this room is only accessible by stair\, we have no elevator.
URL:https://www.dorsetvt.com/dorset-events/storytime-at-dorset-village-library/2028-10-18/
LOCATION:The Dorset Village Library\, 13 Church Street\, Dorset\, VT\, 05251\, United States
ATTACH;FMTTYPE=image/png:https://www.dorsetvt.com/wp-content/uploads/2026/01/Story-Time-1.png
END:VEVENT
BEGIN:VEVENT
DTSTART;TZID=America/New_York:20281024T170000
DTEND;TZID=America/New_York:20281024T180000
DTSTAMP:20260420T051850
CREATED:20250729T121432Z
LAST-MODIFIED:20250729T121432Z
UID:10000941-1856019600-1856023200@www.dorsetvt.com
SUMMARY:Dorset Knitters at Library
DESCRIPTION:Are you an expert knitter? Can only knit and purl? Or want to learn from scratch?\nJoin the Dorset Knitters at 5pm every Tuesday!\nSnacks (finger foods) and beverages are pot-luck style! \nEmail: dorsetvillagelibrary@gmail.com if you have questions…or if you’re interested in Loom Knitting!
URL:https://www.dorsetvt.com/dorset-events/dorset-knitters-at-library/2028-10-24/
LOCATION:The Dorset Village Library\, 13 Church Street\, Dorset\, VT\, 05251\, United States
ATTACH;FMTTYPE=image/jpeg:https://www.dorsetvt.com/wp-content/uploads/2025/07/IMG_7679.jpeg
END:VEVENT
BEGIN:VEVENT
DTSTART;TZID=America/New_York:20281025T100000
DTEND;TZID=America/New_York:20281025T110000
DTSTAMP:20260420T051850
CREATED:20260130T200149Z
LAST-MODIFIED:20260323T175057Z
UID:10001909-1856080800-1856084400@www.dorsetvt.com
SUMMARY:Storytime at Dorset Village Library
DESCRIPTION:Story Time | Wednesdays at 10AM \nJoin us in the Children’s Room* every Wednesday at 10am for stories\, songs and play! Even the littlest kiddos learn at Story Time! No registration. \n*Please note this room is only accessible by stair\, we have no elevator.
URL:https://www.dorsetvt.com/dorset-events/storytime-at-dorset-village-library/2028-10-25/
LOCATION:The Dorset Village Library\, 13 Church Street\, Dorset\, VT\, 05251\, United States
ATTACH;FMTTYPE=image/png:https://www.dorsetvt.com/wp-content/uploads/2026/01/Story-Time-1.png
END:VEVENT
BEGIN:VEVENT
DTSTART;TZID=America/New_York:20281031T170000
DTEND;TZID=America/New_York:20281031T180000
DTSTAMP:20260420T051850
CREATED:20250729T121432Z
LAST-MODIFIED:20250729T121432Z
UID:10000942-1856624400-1856628000@www.dorsetvt.com
SUMMARY:Dorset Knitters at Library
DESCRIPTION:Are you an expert knitter? Can only knit and purl? Or want to learn from scratch?\nJoin the Dorset Knitters at 5pm every Tuesday!\nSnacks (finger foods) and beverages are pot-luck style! \nEmail: dorsetvillagelibrary@gmail.com if you have questions…or if you’re interested in Loom Knitting!
URL:https://www.dorsetvt.com/dorset-events/dorset-knitters-at-library/2028-10-31/
LOCATION:The Dorset Village Library\, 13 Church Street\, Dorset\, VT\, 05251\, United States
ATTACH;FMTTYPE=image/jpeg:https://www.dorsetvt.com/wp-content/uploads/2025/07/IMG_7679.jpeg
END:VEVENT
BEGIN:VEVENT
DTSTART;TZID=America/New_York:20281101T100000
DTEND;TZID=America/New_York:20281101T110000
DTSTAMP:20260420T051850
CREATED:20260130T200149Z
LAST-MODIFIED:20260323T175057Z
UID:10001910-1856685600-1856689200@www.dorsetvt.com
SUMMARY:Storytime at Dorset Village Library
DESCRIPTION:Story Time | Wednesdays at 10AM \nJoin us in the Children’s Room* every Wednesday at 10am for stories\, songs and play! Even the littlest kiddos learn at Story Time! No registration. \n*Please note this room is only accessible by stair\, we have no elevator.
URL:https://www.dorsetvt.com/dorset-events/storytime-at-dorset-village-library/2028-11-01/
LOCATION:The Dorset Village Library\, 13 Church Street\, Dorset\, VT\, 05251\, United States
ATTACH;FMTTYPE=image/png:https://www.dorsetvt.com/wp-content/uploads/2026/01/Story-Time-1.png
END:VEVENT
END:VCALENDAR