BEGIN:VCALENDAR
VERSION:2.0
PRODID:-//Discover Dorset Vermont - ECPv6.15.20//NONSGML v1.0//EN
CALSCALE:GREGORIAN
METHOD:PUBLISH
X-ORIGINAL-URL:https://www.dorsetvt.com
X-WR-CALDESC:Events for Discover Dorset Vermont
REFRESH-INTERVAL;VALUE=DURATION:PT1H
X-Robots-Tag:noindex
X-PUBLISHED-TTL:PT1H
BEGIN:VTIMEZONE
TZID:America/New_York
BEGIN:DAYLIGHT
TZOFFSETFROM:-0500
TZOFFSETTO:-0400
TZNAME:EDT
DTSTART:20240310T070000
END:DAYLIGHT
BEGIN:STANDARD
TZOFFSETFROM:-0400
TZOFFSETTO:-0500
TZNAME:EST
DTSTART:20241103T060000
END:STANDARD
BEGIN:DAYLIGHT
TZOFFSETFROM:-0500
TZOFFSETTO:-0400
TZNAME:EDT
DTSTART:20250309T070000
END:DAYLIGHT
BEGIN:STANDARD
TZOFFSETFROM:-0400
TZOFFSETTO:-0500
TZNAME:EST
DTSTART:20251102T060000
END:STANDARD
BEGIN:DAYLIGHT
TZOFFSETFROM:-0500
TZOFFSETTO:-0400
TZNAME:EDT
DTSTART:20260308T070000
END:DAYLIGHT
BEGIN:STANDARD
TZOFFSETFROM:-0400
TZOFFSETTO:-0500
TZNAME:EST
DTSTART:20261101T060000
END:STANDARD
BEGIN:DAYLIGHT
TZOFFSETFROM:-0500
TZOFFSETTO:-0400
TZNAME:EDT
DTSTART:20270314T070000
END:DAYLIGHT
BEGIN:STANDARD
TZOFFSETFROM:-0400
TZOFFSETTO:-0500
TZNAME:EST
DTSTART:20271107T060000
END:STANDARD
END:VTIMEZONE
BEGIN:VEVENT
DTSTART;TZID=America/New_York:20260220T180000
DTEND;TZID=America/New_York:20260220T200000
DTSTAMP:20260421T081550
CREATED:20260128T185552Z
LAST-MODIFIED:20260128T185552Z
UID:10001713-1771610400-1771617600@www.dorsetvt.com
SUMMARY:Horror Movie Club
DESCRIPTION:Horror Movie Club | Friday\, February 20th at 6PM \nParticipants vote on the movie about 1-2 weeks ahead of movie night. If you are interested\, please email the library and we will add you to the list: director@dorsetvillagelibrary.org
URL:https://www.dorsetvt.com/dorset-events/horror-movie-club-2/
LOCATION:The Dorset Village Library\, 13 Church Street\, Dorset\, VT\, 05251\, United States
END:VEVENT
BEGIN:VEVENT
DTSTART;TZID=America/New_York:20260219T180000
DTEND;TZID=America/New_York:20260219T190000
DTSTAMP:20260421T081550
CREATED:20260128T185455Z
LAST-MODIFIED:20260128T185455Z
UID:10001712-1771524000-1771527600@www.dorsetvt.com
SUMMARY:Game Night at Library
DESCRIPTION:Game Night | Thursday\, February 19th at 6PM \nJoin us for game night at Dorset Library! Call the library or visit us online at dorsetvillagelibrary.org to see what we’re playing this month. Registration is appreciated\, call 802-867-5774. This program is in collaboration with Hike Dorset.
URL:https://www.dorsetvt.com/dorset-events/game-night-at-library/
LOCATION:The Dorset Village Library\, 13 Church Street\, Dorset\, VT\, 05251\, United States
ATTACH;FMTTYPE=image/png:https://www.dorsetvt.com/wp-content/uploads/2026/01/Game-Night-February-19th-2.png
END:VEVENT
BEGIN:VEVENT
DTSTART;TZID=America/New_York:20260218T100000
DTEND;TZID=America/New_York:20260218T110000
DTSTAMP:20260421T081550
CREATED:20260130T200149Z
LAST-MODIFIED:20260323T175057Z
UID:10001769-1771408800-1771412400@www.dorsetvt.com
SUMMARY:Storytime at Dorset Village Library
DESCRIPTION:Story Time | Wednesdays at 10AM \nJoin us in the Children’s Room* every Wednesday at 10am for stories\, songs and play! Even the littlest kiddos learn at Story Time! No registration. \n*Please note this room is only accessible by stair\, we have no elevator.
URL:https://www.dorsetvt.com/dorset-events/storytime-at-dorset-village-library/2026-02-18/
LOCATION:The Dorset Village Library\, 13 Church Street\, Dorset\, VT\, 05251\, United States
ATTACH;FMTTYPE=image/png:https://www.dorsetvt.com/wp-content/uploads/2026/01/Story-Time-1.png
END:VEVENT
BEGIN:VEVENT
DTSTART;TZID=America/New_York:20260217T170000
DTEND;TZID=America/New_York:20260217T180000
DTSTAMP:20260421T081550
CREATED:20250729T121432Z
LAST-MODIFIED:20250729T121432Z
UID:10000801-1771347600-1771351200@www.dorsetvt.com
SUMMARY:Dorset Knitters at Library
DESCRIPTION:Are you an expert knitter? Can only knit and purl? Or want to learn from scratch?\nJoin the Dorset Knitters at 5pm every Tuesday!\nSnacks (finger foods) and beverages are pot-luck style! \nEmail: dorsetvillagelibrary@gmail.com if you have questions…or if you’re interested in Loom Knitting!
URL:https://www.dorsetvt.com/dorset-events/dorset-knitters-at-library/2026-02-17/
LOCATION:The Dorset Village Library\, 13 Church Street\, Dorset\, VT\, 05251\, United States
ATTACH;FMTTYPE=image/jpeg:https://www.dorsetvt.com/wp-content/uploads/2025/07/IMG_7679.jpeg
END:VEVENT
BEGIN:VEVENT
DTSTART;TZID=America/New_York:20260212T180000
DTEND;TZID=America/New_York:20260212T190000
DTSTAMP:20260421T081550
CREATED:20260128T185353Z
LAST-MODIFIED:20260128T185353Z
UID:10001711-1770919200-1770922800@www.dorsetvt.com
SUMMARY:What Was That Book Called Event
DESCRIPTION:What Was That Book Called? | Thursday\, February 12th at 6PM \nEver have a hard time remembering what books you’ve read? Learn about options for tracking your reading online through Goodreads and StoryGraph or with a physical reading journal with Librarian Deanna. We’ll also make book bingo boards to help inspire your reading list for 2026. For teens and adults. No registration.
URL:https://www.dorsetvt.com/dorset-events/what-was-that-book-called-event/
LOCATION:The Dorset Village Library\, 13 Church Street\, Dorset\, VT\, 05251\, United States
ATTACH;FMTTYPE=image/png:https://www.dorsetvt.com/wp-content/uploads/2026/01/What-was-that-book-called-1.png
END:VEVENT
BEGIN:VEVENT
DTSTART;TZID=America/New_York:20260211T100000
DTEND;TZID=America/New_York:20260211T110000
DTSTAMP:20260421T081550
CREATED:20260130T200149Z
LAST-MODIFIED:20260323T175057Z
UID:10001768-1770804000-1770807600@www.dorsetvt.com
SUMMARY:Storytime at Dorset Village Library
DESCRIPTION:Story Time | Wednesdays at 10AM \nJoin us in the Children’s Room* every Wednesday at 10am for stories\, songs and play! Even the littlest kiddos learn at Story Time! No registration. \n*Please note this room is only accessible by stair\, we have no elevator.
URL:https://www.dorsetvt.com/dorset-events/storytime-at-dorset-village-library/2026-02-11/
LOCATION:The Dorset Village Library\, 13 Church Street\, Dorset\, VT\, 05251\, United States
ATTACH;FMTTYPE=image/png:https://www.dorsetvt.com/wp-content/uploads/2026/01/Story-Time-1.png
END:VEVENT
BEGIN:VEVENT
DTSTART;TZID=America/New_York:20260210T170000
DTEND;TZID=America/New_York:20260210T180000
DTSTAMP:20260421T081550
CREATED:20260128T185237Z
LAST-MODIFIED:20260128T185237Z
UID:10001710-1770742800-1770746400@www.dorsetvt.com
SUMMARY:Nonfiction Book Club
DESCRIPTION:Nonfiction Book Club | Tuesday\, February 10th at 5PM \nThis book club focuses on modern history and other nonfiction books chosen by participants. You will find good conversation and history buffs at each meeting! \n  \nThis month’s book: In the Company of Soldiers: A Chronicle of Combat by Rick Atkinson – From Pulitzer Prize winner and bestselling author Rick Atkinson\, comes an eyewitness account of the war against Iraq and a vivid portrait of a remarkable group of soldiers.
URL:https://www.dorsetvt.com/dorset-events/nonfiction-book-club-3/
LOCATION:The Dorset Village Library\, 13 Church Street\, Dorset\, VT\, 05251\, United States
ATTACH;FMTTYPE=image/png:https://www.dorsetvt.com/wp-content/uploads/2026/01/Feb-2026.png
END:VEVENT
BEGIN:VEVENT
DTSTART;TZID=America/New_York:20260210T170000
DTEND;TZID=America/New_York:20260210T180000
DTSTAMP:20260421T081550
CREATED:20250729T121432Z
LAST-MODIFIED:20250729T121432Z
UID:10000800-1770742800-1770746400@www.dorsetvt.com
SUMMARY:Dorset Knitters at Library
DESCRIPTION:Are you an expert knitter? Can only knit and purl? Or want to learn from scratch?\nJoin the Dorset Knitters at 5pm every Tuesday!\nSnacks (finger foods) and beverages are pot-luck style! \nEmail: dorsetvillagelibrary@gmail.com if you have questions…or if you’re interested in Loom Knitting!
URL:https://www.dorsetvt.com/dorset-events/dorset-knitters-at-library/2026-02-10/
LOCATION:The Dorset Village Library\, 13 Church Street\, Dorset\, VT\, 05251\, United States
ATTACH;FMTTYPE=image/jpeg:https://www.dorsetvt.com/wp-content/uploads/2025/07/IMG_7679.jpeg
END:VEVENT
BEGIN:VEVENT
DTSTART;TZID=America/New_York:20260208T130000
DTEND;TZID=America/New_York:20260208T150000
DTSTAMP:20260421T081550
CREATED:20260128T185112Z
LAST-MODIFIED:20260128T185112Z
UID:10001709-1770555600-1770562800@www.dorsetvt.com
SUMMARY:Spring Planning for Invasive Species
DESCRIPTION:Spring Planning for Invasive Species | Sunday\, February 8th at 1PM \nIgnoring invasives in the forest is like ignoring weeds in a garden. Invasive species are spreading \nin Vermont\, and it is up to ALL of us to fight them. Whether on public or private lands\, invasive \nplants outlast\, outcompete\, and outproduce native species. Addressing invasives is essential for \nthe natural future of Vermont. \n  \nThis will be a hybrid program starting in the library and then heading outside to Pinnacle Forest to look for invasives. The hike will be approximately 1.5 miles. Bring your poles and microspikes if the weather looks icy. No registration. This program is in collaboration with Hike Dorset.
URL:https://www.dorsetvt.com/dorset-events/spring-planning-for-invasive-species/
LOCATION:The Dorset Village Library\, 13 Church Street\, Dorset\, VT\, 05251\, United States
ATTACH;FMTTYPE=image/png:https://www.dorsetvt.com/wp-content/uploads/2026/01/Invasive-Species-Planning-for-Spring-1.png
END:VEVENT
BEGIN:VEVENT
DTSTART;TZID=America/New_York:20260204T100000
DTEND;TZID=America/New_York:20260204T110000
DTSTAMP:20260421T081550
CREATED:20260130T200149Z
LAST-MODIFIED:20260323T175057Z
UID:10001767-1770199200-1770202800@www.dorsetvt.com
SUMMARY:Storytime at Dorset Village Library
DESCRIPTION:Story Time | Wednesdays at 10AM \nJoin us in the Children’s Room* every Wednesday at 10am for stories\, songs and play! Even the littlest kiddos learn at Story Time! No registration. \n*Please note this room is only accessible by stair\, we have no elevator.
URL:https://www.dorsetvt.com/dorset-events/storytime-at-dorset-village-library/2026-02-04/
LOCATION:The Dorset Village Library\, 13 Church Street\, Dorset\, VT\, 05251\, United States
ATTACH;FMTTYPE=image/png:https://www.dorsetvt.com/wp-content/uploads/2026/01/Story-Time-1.png
END:VEVENT
BEGIN:VEVENT
DTSTART;TZID=America/New_York:20260203T170000
DTEND;TZID=America/New_York:20260203T180000
DTSTAMP:20260421T081550
CREATED:20250729T121432Z
LAST-MODIFIED:20250729T121432Z
UID:10000799-1770138000-1770141600@www.dorsetvt.com
SUMMARY:Dorset Knitters at Library
DESCRIPTION:Are you an expert knitter? Can only knit and purl? Or want to learn from scratch?\nJoin the Dorset Knitters at 5pm every Tuesday!\nSnacks (finger foods) and beverages are pot-luck style! \nEmail: dorsetvillagelibrary@gmail.com if you have questions…or if you’re interested in Loom Knitting!
URL:https://www.dorsetvt.com/dorset-events/dorset-knitters-at-library/2026-02-03/
LOCATION:The Dorset Village Library\, 13 Church Street\, Dorset\, VT\, 05251\, United States
ATTACH;FMTTYPE=image/jpeg:https://www.dorsetvt.com/wp-content/uploads/2025/07/IMG_7679.jpeg
END:VEVENT
BEGIN:VEVENT
DTSTART;TZID=America/New_York:20260127T170000
DTEND;TZID=America/New_York:20260127T180000
DTSTAMP:20260421T081550
CREATED:20250729T121432Z
LAST-MODIFIED:20250729T121432Z
UID:10000798-1769533200-1769536800@www.dorsetvt.com
SUMMARY:Dorset Knitters at Library
DESCRIPTION:Are you an expert knitter? Can only knit and purl? Or want to learn from scratch?\nJoin the Dorset Knitters at 5pm every Tuesday!\nSnacks (finger foods) and beverages are pot-luck style! \nEmail: dorsetvillagelibrary@gmail.com if you have questions…or if you’re interested in Loom Knitting!
URL:https://www.dorsetvt.com/dorset-events/dorset-knitters-at-library/2026-01-27/
LOCATION:The Dorset Village Library\, 13 Church Street\, Dorset\, VT\, 05251\, United States
ATTACH;FMTTYPE=image/jpeg:https://www.dorsetvt.com/wp-content/uploads/2025/07/IMG_7679.jpeg
END:VEVENT
BEGIN:VEVENT
DTSTART;TZID=America/New_York:20260120T170000
DTEND;TZID=America/New_York:20260120T180000
DTSTAMP:20260421T081550
CREATED:20250729T121432Z
LAST-MODIFIED:20250729T121432Z
UID:10000797-1768928400-1768932000@www.dorsetvt.com
SUMMARY:Dorset Knitters at Library
DESCRIPTION:Are you an expert knitter? Can only knit and purl? Or want to learn from scratch?\nJoin the Dorset Knitters at 5pm every Tuesday!\nSnacks (finger foods) and beverages are pot-luck style! \nEmail: dorsetvillagelibrary@gmail.com if you have questions…or if you’re interested in Loom Knitting!
URL:https://www.dorsetvt.com/dorset-events/dorset-knitters-at-library/2026-01-20/
LOCATION:The Dorset Village Library\, 13 Church Street\, Dorset\, VT\, 05251\, United States
ATTACH;FMTTYPE=image/jpeg:https://www.dorsetvt.com/wp-content/uploads/2025/07/IMG_7679.jpeg
END:VEVENT
BEGIN:VEVENT
DTSTART;TZID=America/New_York:20260113T170000
DTEND;TZID=America/New_York:20260113T180000
DTSTAMP:20260421T081550
CREATED:20250729T121432Z
LAST-MODIFIED:20250729T121432Z
UID:10000796-1768323600-1768327200@www.dorsetvt.com
SUMMARY:Dorset Knitters at Library
DESCRIPTION:Are you an expert knitter? Can only knit and purl? Or want to learn from scratch?\nJoin the Dorset Knitters at 5pm every Tuesday!\nSnacks (finger foods) and beverages are pot-luck style! \nEmail: dorsetvillagelibrary@gmail.com if you have questions…or if you’re interested in Loom Knitting!
URL:https://www.dorsetvt.com/dorset-events/dorset-knitters-at-library/2026-01-13/
LOCATION:The Dorset Village Library\, 13 Church Street\, Dorset\, VT\, 05251\, United States
ATTACH;FMTTYPE=image/jpeg:https://www.dorsetvt.com/wp-content/uploads/2025/07/IMG_7679.jpeg
END:VEVENT
BEGIN:VEVENT
DTSTART;TZID=America/New_York:20260106T170000
DTEND;TZID=America/New_York:20260106T180000
DTSTAMP:20260421T081550
CREATED:20250729T121432Z
LAST-MODIFIED:20250729T121432Z
UID:10000795-1767718800-1767722400@www.dorsetvt.com
SUMMARY:Dorset Knitters at Library
DESCRIPTION:Are you an expert knitter? Can only knit and purl? Or want to learn from scratch?\nJoin the Dorset Knitters at 5pm every Tuesday!\nSnacks (finger foods) and beverages are pot-luck style! \nEmail: dorsetvillagelibrary@gmail.com if you have questions…or if you’re interested in Loom Knitting!
URL:https://www.dorsetvt.com/dorset-events/dorset-knitters-at-library/2026-01-06/
LOCATION:The Dorset Village Library\, 13 Church Street\, Dorset\, VT\, 05251\, United States
ATTACH;FMTTYPE=image/jpeg:https://www.dorsetvt.com/wp-content/uploads/2025/07/IMG_7679.jpeg
END:VEVENT
BEGIN:VEVENT
DTSTART;TZID=America/New_York:20251230T170000
DTEND;TZID=America/New_York:20251230T180000
DTSTAMP:20260421T081550
CREATED:20250729T121432Z
LAST-MODIFIED:20250729T121432Z
UID:10000794-1767114000-1767117600@www.dorsetvt.com
SUMMARY:Dorset Knitters at Library
DESCRIPTION:Are you an expert knitter? Can only knit and purl? Or want to learn from scratch?\nJoin the Dorset Knitters at 5pm every Tuesday!\nSnacks (finger foods) and beverages are pot-luck style! \nEmail: dorsetvillagelibrary@gmail.com if you have questions…or if you’re interested in Loom Knitting!
URL:https://www.dorsetvt.com/dorset-events/dorset-knitters-at-library/2025-12-30/
LOCATION:The Dorset Village Library\, 13 Church Street\, Dorset\, VT\, 05251\, United States
ATTACH;FMTTYPE=image/jpeg:https://www.dorsetvt.com/wp-content/uploads/2025/07/IMG_7679.jpeg
END:VEVENT
BEGIN:VEVENT
DTSTART;TZID=America/New_York:20251223T170000
DTEND;TZID=America/New_York:20251223T180000
DTSTAMP:20260421T081550
CREATED:20250729T121432Z
LAST-MODIFIED:20250729T121432Z
UID:10000793-1766509200-1766512800@www.dorsetvt.com
SUMMARY:Dorset Knitters at Library
DESCRIPTION:Are you an expert knitter? Can only knit and purl? Or want to learn from scratch?\nJoin the Dorset Knitters at 5pm every Tuesday!\nSnacks (finger foods) and beverages are pot-luck style! \nEmail: dorsetvillagelibrary@gmail.com if you have questions…or if you’re interested in Loom Knitting!
URL:https://www.dorsetvt.com/dorset-events/dorset-knitters-at-library/2025-12-23/
LOCATION:The Dorset Village Library\, 13 Church Street\, Dorset\, VT\, 05251\, United States
ATTACH;FMTTYPE=image/jpeg:https://www.dorsetvt.com/wp-content/uploads/2025/07/IMG_7679.jpeg
END:VEVENT
BEGIN:VEVENT
DTSTART;TZID=America/New_York:20251216T170000
DTEND;TZID=America/New_York:20251216T180000
DTSTAMP:20260421T081550
CREATED:20250729T121432Z
LAST-MODIFIED:20250729T121432Z
UID:10000792-1765904400-1765908000@www.dorsetvt.com
SUMMARY:Dorset Knitters at Library
DESCRIPTION:Are you an expert knitter? Can only knit and purl? Or want to learn from scratch?\nJoin the Dorset Knitters at 5pm every Tuesday!\nSnacks (finger foods) and beverages are pot-luck style! \nEmail: dorsetvillagelibrary@gmail.com if you have questions…or if you’re interested in Loom Knitting!
URL:https://www.dorsetvt.com/dorset-events/dorset-knitters-at-library/2025-12-16/
LOCATION:The Dorset Village Library\, 13 Church Street\, Dorset\, VT\, 05251\, United States
ATTACH;FMTTYPE=image/jpeg:https://www.dorsetvt.com/wp-content/uploads/2025/07/IMG_7679.jpeg
END:VEVENT
BEGIN:VEVENT
DTSTART;TZID=America/New_York:20251209T170000
DTEND;TZID=America/New_York:20251209T180000
DTSTAMP:20260421T081550
CREATED:20250729T121432Z
LAST-MODIFIED:20250729T121432Z
UID:10000791-1765299600-1765303200@www.dorsetvt.com
SUMMARY:Dorset Knitters at Library
DESCRIPTION:Are you an expert knitter? Can only knit and purl? Or want to learn from scratch?\nJoin the Dorset Knitters at 5pm every Tuesday!\nSnacks (finger foods) and beverages are pot-luck style! \nEmail: dorsetvillagelibrary@gmail.com if you have questions…or if you’re interested in Loom Knitting!
URL:https://www.dorsetvt.com/dorset-events/dorset-knitters-at-library/2025-12-09/
LOCATION:The Dorset Village Library\, 13 Church Street\, Dorset\, VT\, 05251\, United States
ATTACH;FMTTYPE=image/jpeg:https://www.dorsetvt.com/wp-content/uploads/2025/07/IMG_7679.jpeg
END:VEVENT
BEGIN:VEVENT
DTSTART;TZID=America/New_York:20251207T130000
DTEND;TZID=America/New_York:20251207T160000
DTSTAMP:20260421T081550
CREATED:20251111T165047Z
LAST-MODIFIED:20251111T165047Z
UID:10001186-1765112400-1765123200@www.dorsetvt.com
SUMMARY:Holiday Weekend at Dorset Village Library
DESCRIPTION:The Dorset Village Library is participating in our town’s holiday weekend with two days of crafts and stories for our little ones: \nKids can: Create their own kid-friendly ornament to take home\, paint a bird house to decorate the Dorset Community Tree\, Book Sale $1 Books\, and 1:15p and 3pm Krampus will do a reading of The Night Before Christmas.
URL:https://www.dorsetvt.com/dorset-events/holiday-weekend-at-dorset-village-library/2025-12-07/
LOCATION:The Dorset Village Library\, 13 Church Street\, Dorset\, VT\, 05251\, United States
END:VEVENT
BEGIN:VEVENT
DTSTART;TZID=America/New_York:20251206T130000
DTEND;TZID=America/New_York:20251206T160000
DTSTAMP:20260421T081550
CREATED:20251111T165047Z
LAST-MODIFIED:20251111T165047Z
UID:10001185-1765026000-1765036800@www.dorsetvt.com
SUMMARY:Holiday Weekend at Dorset Village Library
DESCRIPTION:The Dorset Village Library is participating in our town’s holiday weekend with two days of crafts and stories for our little ones: \nKids can: Create their own kid-friendly ornament to take home\, paint a bird house to decorate the Dorset Community Tree\, Book Sale $1 Books\, and 1:15p and 3pm Krampus will do a reading of The Night Before Christmas.
URL:https://www.dorsetvt.com/dorset-events/holiday-weekend-at-dorset-village-library/2025-12-06/
LOCATION:The Dorset Village Library\, 13 Church Street\, Dorset\, VT\, 05251\, United States
END:VEVENT
BEGIN:VEVENT
DTSTART;TZID=America/New_York:20251202T170000
DTEND;TZID=America/New_York:20251202T180000
DTSTAMP:20260421T081550
CREATED:20250729T121432Z
LAST-MODIFIED:20250729T121432Z
UID:10000790-1764694800-1764698400@www.dorsetvt.com
SUMMARY:Dorset Knitters at Library
DESCRIPTION:Are you an expert knitter? Can only knit and purl? Or want to learn from scratch?\nJoin the Dorset Knitters at 5pm every Tuesday!\nSnacks (finger foods) and beverages are pot-luck style! \nEmail: dorsetvillagelibrary@gmail.com if you have questions…or if you’re interested in Loom Knitting!
URL:https://www.dorsetvt.com/dorset-events/dorset-knitters-at-library/2025-12-02/
LOCATION:The Dorset Village Library\, 13 Church Street\, Dorset\, VT\, 05251\, United States
ATTACH;FMTTYPE=image/jpeg:https://www.dorsetvt.com/wp-content/uploads/2025/07/IMG_7679.jpeg
END:VEVENT
BEGIN:VEVENT
DTSTART;TZID=America/New_York:20251125T170000
DTEND;TZID=America/New_York:20251125T180000
DTSTAMP:20260421T081550
CREATED:20250729T121432Z
LAST-MODIFIED:20250729T121432Z
UID:10000789-1764090000-1764093600@www.dorsetvt.com
SUMMARY:Dorset Knitters at Library
DESCRIPTION:Are you an expert knitter? Can only knit and purl? Or want to learn from scratch?\nJoin the Dorset Knitters at 5pm every Tuesday!\nSnacks (finger foods) and beverages are pot-luck style! \nEmail: dorsetvillagelibrary@gmail.com if you have questions…or if you’re interested in Loom Knitting!
URL:https://www.dorsetvt.com/dorset-events/dorset-knitters-at-library/2025-11-25/
LOCATION:The Dorset Village Library\, 13 Church Street\, Dorset\, VT\, 05251\, United States
ATTACH;FMTTYPE=image/jpeg:https://www.dorsetvt.com/wp-content/uploads/2025/07/IMG_7679.jpeg
END:VEVENT
BEGIN:VEVENT
DTSTART;TZID=America/New_York:20251120T170000
DTEND;TZID=America/New_York:20251120T190000
DTSTAMP:20260421T081550
CREATED:20251027T174809Z
LAST-MODIFIED:20251027T174809Z
UID:10001161-1763658000-1763665200@www.dorsetvt.com
SUMMARY:Fiction Book Club at Dorset Library
DESCRIPTION:Fiction Book Club | Thursday\, November 20th at 5PM \nThis book club focuses on fiction with an occasional non-fiction selection. It meets on the fourth Thursday of every month at 5pm. You will find good conversation and refreshments at each meeting! Call or email the Library to reserve any of the upcoming books. \n  \nThis month’s book: The House Across the Lake by Riley Sager \nCasey Fletcher\, a recently widowed actress trying to escape a streak of bad press\, has retreated to the peace and quiet of her family’s lake house in Vermont. Armed with a pair of binoculars and several bottles of bourbon\, she passes the time watching Tom and Katherine Royce\, the glamorous couple living in the house across the lake. The longer Casey watches—it becomes clear that Katherine and Tom’s marriage isn’t as perfect as it appears.
URL:https://www.dorsetvt.com/dorset-events/fiction-book-club-at-dorset-library/
LOCATION:The Dorset Village Library\, 13 Church Street\, Dorset\, VT\, 05251\, United States
END:VEVENT
BEGIN:VEVENT
DTSTART;TZID=America/New_York:20251118T170000
DTEND;TZID=America/New_York:20251118T180000
DTSTAMP:20260421T081550
CREATED:20250729T121432Z
LAST-MODIFIED:20250729T121432Z
UID:10000788-1763485200-1763488800@www.dorsetvt.com
SUMMARY:Dorset Knitters at Library
DESCRIPTION:Are you an expert knitter? Can only knit and purl? Or want to learn from scratch?\nJoin the Dorset Knitters at 5pm every Tuesday!\nSnacks (finger foods) and beverages are pot-luck style! \nEmail: dorsetvillagelibrary@gmail.com if you have questions…or if you’re interested in Loom Knitting!
URL:https://www.dorsetvt.com/dorset-events/dorset-knitters-at-library/2025-11-18/
LOCATION:The Dorset Village Library\, 13 Church Street\, Dorset\, VT\, 05251\, United States
ATTACH;FMTTYPE=image/jpeg:https://www.dorsetvt.com/wp-content/uploads/2025/07/IMG_7679.jpeg
END:VEVENT
BEGIN:VEVENT
DTSTART;TZID=America/New_York:20251117T173000
DTEND;TZID=America/New_York:20251117T190000
DTSTAMP:20260421T081550
CREATED:20251027T174402Z
LAST-MODIFIED:20251027T174402Z
UID:10001160-1763400600-1763406000@www.dorsetvt.com
SUMMARY:Medicare Info Session
DESCRIPTION:Medicare Info Session | Monday\, November 17th at 5:30PM \nLearn about Medicare and better understand the health care system with Medicare Specialist Terri-Ann Montanye. No registration.
URL:https://www.dorsetvt.com/dorset-events/medicare-info-session/
LOCATION:The Dorset Village Library\, 13 Church Street\, Dorset\, VT\, 05251\, United States
END:VEVENT
BEGIN:VEVENT
DTSTART;TZID=America/New_York:20251117T110000
DTEND;TZID=America/New_York:20251117T160000
DTSTAMP:20260421T081550
CREATED:20251027T173859Z
LAST-MODIFIED:20251027T173859Z
UID:10001159-1763377200-1763395200@www.dorsetvt.com
SUMMARY:Drive Around Library Town
DESCRIPTION:Drive Around Library Town | Monday\, November 17th drop-in from 11AM to 4PM \nStart your engines and drive your way around Library Town. We’re creating a roadway throughout our second floor with several fun areas to stop along the way. Bring your favorite car or use one or ours. For ages 2-8. No registration.
URL:https://www.dorsetvt.com/dorset-events/drive-around-library-town/
LOCATION:The Dorset Village Library\, 13 Church Street\, Dorset\, VT\, 05251\, United States
END:VEVENT
BEGIN:VEVENT
DTSTART;TZID=America/New_York:20251113T180000
DTEND;TZID=America/New_York:20251113T200000
DTSTAMP:20260421T081550
CREATED:20251027T173230Z
LAST-MODIFIED:20251027T173230Z
UID:10001158-1763056800-1763064000@www.dorsetvt.com
SUMMARY:Film Club at Dorset Village Library
DESCRIPTION:Film Club | Thursday\, November 13th at 6PM \nThe Dorset Village Library welcomes you to join us for our new Film Club! Every other month this club meets to watch a classic\, documentary\, foreign\, or indie film. Free admission and free popcorn\, you can also bring your own snacks! We have limited space for seating so please register\, call 802-867-5774. \n  \nSome Like It Hot | 1959 | Unrated | 2hrs \nAfter witnessing a Mafia murder\, slick saxophone player Joe (Tony Curtis) and his long-suffering buddy\, Jerry (Jack Lemmon)\, improvise a quick plan to escape from Chicago with their lives. Disguising themselves as women\, they join an all-female jazz band and hop a train bound for sunny Florida. While Joe pretends to be a millionaire to win the band’s sexy singer\, Sugar (Marilyn Monroe)\, Jerry finds himself pursued by a real millionaire (Joe E. Brown) as things heat up and the mobsters close in.
URL:https://www.dorsetvt.com/dorset-events/film-club-at-dorset-village-library/
LOCATION:The Dorset Village Library\, 13 Church Street\, Dorset\, VT\, 05251\, United States
END:VEVENT
BEGIN:VEVENT
DTSTART;TZID=America/New_York:20251112T173000
DTEND;TZID=America/New_York:20251112T190000
DTSTAMP:20260421T081550
CREATED:20251027T172948Z
LAST-MODIFIED:20251027T172948Z
UID:10001157-1762968600-1762974000@www.dorsetvt.com
SUMMARY:Gourmet Club at Library
DESCRIPTION:Gourmet Club | Wednesday\, November 12th at 5:30PM \nMake a dish to share and have good food and good conversation with us at Gourmet Club. Each meeting has its own theme\, our theme this month is Holiday/Party Fare. You bring your serving utensils and beverage\, we will provide plates\, cups/bowls and silverware. No registration.
URL:https://www.dorsetvt.com/dorset-events/gourmet-club-at-library/
LOCATION:The Dorset Village Library\, 13 Church Street\, Dorset\, VT\, 05251\, United States
END:VEVENT
BEGIN:VEVENT
DTSTART;TZID=America/New_York:20251111T170000
DTEND;TZID=America/New_York:20251111T180000
DTSTAMP:20260421T081550
CREATED:20250729T121432Z
LAST-MODIFIED:20250729T121432Z
UID:10000787-1762880400-1762884000@www.dorsetvt.com
SUMMARY:Dorset Knitters at Library
DESCRIPTION:Are you an expert knitter? Can only knit and purl? Or want to learn from scratch?\nJoin the Dorset Knitters at 5pm every Tuesday!\nSnacks (finger foods) and beverages are pot-luck style! \nEmail: dorsetvillagelibrary@gmail.com if you have questions…or if you’re interested in Loom Knitting!
URL:https://www.dorsetvt.com/dorset-events/dorset-knitters-at-library/2025-11-11/
LOCATION:The Dorset Village Library\, 13 Church Street\, Dorset\, VT\, 05251\, United States
ATTACH;FMTTYPE=image/jpeg:https://www.dorsetvt.com/wp-content/uploads/2025/07/IMG_7679.jpeg
END:VEVENT
END:VCALENDAR