BEGIN:VCALENDAR
VERSION:2.0
PRODID:-//Discover Dorset Vermont - ECPv6.15.20//NONSGML v1.0//EN
CALSCALE:GREGORIAN
METHOD:PUBLISH
X-ORIGINAL-URL:https://www.dorsetvt.com
X-WR-CALDESC:Events for Discover Dorset Vermont
REFRESH-INTERVAL;VALUE=DURATION:PT1H
X-Robots-Tag:noindex
X-PUBLISHED-TTL:PT1H
BEGIN:VTIMEZONE
TZID:America/New_York
BEGIN:DAYLIGHT
TZOFFSETFROM:-0500
TZOFFSETTO:-0400
TZNAME:EDT
DTSTART:20240310T070000
END:DAYLIGHT
BEGIN:STANDARD
TZOFFSETFROM:-0400
TZOFFSETTO:-0500
TZNAME:EST
DTSTART:20241103T060000
END:STANDARD
BEGIN:DAYLIGHT
TZOFFSETFROM:-0500
TZOFFSETTO:-0400
TZNAME:EDT
DTSTART:20250309T070000
END:DAYLIGHT
BEGIN:STANDARD
TZOFFSETFROM:-0400
TZOFFSETTO:-0500
TZNAME:EST
DTSTART:20251102T060000
END:STANDARD
BEGIN:DAYLIGHT
TZOFFSETFROM:-0500
TZOFFSETTO:-0400
TZNAME:EDT
DTSTART:20260308T070000
END:DAYLIGHT
BEGIN:STANDARD
TZOFFSETFROM:-0400
TZOFFSETTO:-0500
TZNAME:EST
DTSTART:20261101T060000
END:STANDARD
END:VTIMEZONE
BEGIN:VEVENT
DTSTART;TZID=America/New_York:20250713T130000
DTEND;TZID=America/New_York:20250713T150000
DTSTAMP:20260421T154232
CREATED:20250626T174140Z
LAST-MODIFIED:20250626T174140Z
UID:10000168-1752411600-1752418800@www.dorsetvt.com
SUMMARY:Forest Foraging with Hike Dorset
DESCRIPTION:Forest Foraging with Hike Dorset | \nSunday\, July 13th at 1PM \nCome learn how to identify and gather wild edible plants in the Dorset forest! Wild foraging isn’t just fun\, it can help manage invasive species too. This program is a hybrid that starts in the library and then finishes with a walk through Pinnacle Forest to find plants together. Registration appreciated.
URL:https://www.dorsetvt.com/dorset-events/forest-foraging-with-hike-dorset/
LOCATION:The Dorset Village Library\, 13 Church Street\, Dorset\, VT\, 05251\, United States
END:VEVENT
BEGIN:VEVENT
DTSTART;TZID=America/New_York:20250712T130000
DTEND;TZID=America/New_York:20250712T150000
DTSTAMP:20260421T154232
CREATED:20250626T174020Z
LAST-MODIFIED:20250626T174020Z
UID:10000167-1752325200-1752332400@www.dorsetvt.com
SUMMARY:Dog Days Cookout at The Dorset Village Library
DESCRIPTION:Dog Days Cookout | Saturday\, July 12th from 1PM – 3PM \nIt’s our 10th annual cookout at the library! We’re making hamburgers\, hot dogs\, and veggie burgers. \nPlay yard games and enjoy music. Furry friends are welcome.
URL:https://www.dorsetvt.com/dorset-events/dog-days-cookout-at-the-dorset-village-library/
LOCATION:The Dorset Village Library\, 13 Church Street\, Dorset\, VT\, 05251\, United States
END:VEVENT
BEGIN:VEVENT
DTSTART;TZID=America/New_York:20250701T150000
DTEND;TZID=America/New_York:20250701T160000
DTSTAMP:20260421T154232
CREATED:20250626T173420Z
LAST-MODIFIED:20250626T173420Z
UID:10000166-1751382000-1751385600@www.dorsetvt.com
SUMMARY:Painting Pandemonium at The Dorset Village Library!
DESCRIPTION:Painting Pandemonium | Tuesday\, July 1st from 3PM – 4PM \nPaint like Pollock on the library lawn! Wear something that can get messy. For all ages. No registration.
URL:https://www.dorsetvt.com/dorset-events/painting-pandemonium-at-the-dorset-village-library/
LOCATION:The Dorset Village Library\, 13 Church Street\, Dorset\, VT\, 05251\, United States
END:VEVENT
END:VCALENDAR